{"text_format":"3","workbook":"xlsx","n_sheets":1,"sheets":["Sheet1"],"not_rendered":{"external_links":1,"defined_names":1},"read":"whole","date_system":"1900"}

{"sheet":"Sheet1","index":0,"n_rows":738,"n_cols":19,"rows_kept":738}
["客户类别","客户名称","楼宇名称","房屋编号","房屋名称","费用日期","应收日期","费用开始日期","费用结束日期","费用序号","费用名称","应收金额","车位编号","备注","房屋状态","生成方式","客户编号"]
["'业主","侯汉东","1#","'01-01-0101","01-01-0101","2024-04-23","2024-04-23","2024-04-01","2024-04-30",5,"分摊电费（公区）",20.79,null,null,"'已交空置","'0","'15306400000001",null,{"$f":"VLOOKUP(B:B,[1]Sheet1!$B:$B,1,0)","v":"侯汉东"}]
["'业主","陈子彦","1#","'01-01-0103","01-01-0103","2024-04-23","2024-04-23","2024-04-01","2024-04-30",5,"分摊电费（公区）",20.79,null,null,"'已入住","'0","'15306400000002",null,{"$f":"VLOOKUP(B:B,[1]Sheet1!$B:$B,1,0)","v":"陈子彦"}]
["'业主","杨小妹","1#","'01-01-0105","01-01-0105","2024-04-23","2024-04-23","2024-04-01","2024-04-30",5,"分摊电费（公区）",20.79,null,null,"'已入住","'0","'15306400000003",null,{"$f":"VLOOKUP(B:B,[1]Sheet1!$B:$B,1,0)","v":"杨小妹"}]
["'业主","王小辉","1#","'01-01-0106","01-01-0106","2024-04-23","2024-04-23","2024-04-01","2024-04-30",5,"分摊电费（公区）",20.79,null,null,"'已入住","'0","'15306400000004",null,{"$f":"VLOOKUP(B:B,[1]Sheet1!$B:$B,1,0)","v":"王小辉"}]
["'业主","段雪莲","1#","'01-01-0107","01-01-0107","2024-04-23","2024-04-23","2024-04-01","2024-04-30",5,"分摊电费（公区）",20.79,null,null,"'已入住","'0","'15306400000005",null,{"$f":"VLOOKUP(B:B,[1]Sheet1!$B:$B,1,0)","v":"段雪莲"}]
["'业主","赵建东","1#","'01-01-0108","01-01-0108","2024-04-23","2024-04-23","2024-04-01","2024-04-30",5,"分摊电费（公区）",20.79,null,null,"'不常住（停用）","'0","'15306400000006",null,{"$f":"VLOOKUP(B:B,[1]Sheet1!$B:$B,1,0)","v":"赵建东"}]
["'业主","苏煜茗","1#","'01-01-0109","01-01-0109","2024-04-23","2024-04-23","2024-04-01","2024-04-30",5,"分摊电费（公区）",20.79,null,null,"'已入住","'0","'15306400000007",null,{"$f":"VLOOKUP(B:B,[1]Sheet1!$B:$B,1,0)","v":"苏煜茗"}]
["'业主","林琳","1#","'01-01-0110","01-01-0110","2024-04-23","2024-04-23","2024-04-01","2024-04-30",5,"分摊电费（公区）",20.79,null,null,"'已交空置","'0","'15306400000008",null,{"$f":"VLOOKUP(B:B,[1]Sheet1!$B:$B,1,0)","v":"林琳"}]
["'业主","林星","1#","'01-01-0111","01-01-0111","2024-04-23","2024-04-23","2024-04-01","2024-04-30",5,"分摊电费（公区）",20.79,null,null,"'已交空置","'0","'15306400000009",null,{"$f":"VLOOKUP(B:B,[1]Sheet1!$B:$B,1,0)","v":"林星"}]
["'业主","林鑫宇","1#","'01-01-1002","01-01-1002","2024-04-23","2024-04-23","2024-04-01","2024-04-30",5,"分摊电费（公区）",20.79,null,null,"'已入住","'0","'15306400000080",null,{"$f":"VLOOKUP(B:B,[1]Sheet1!$B:$B,1,0)","v":"林鑫宇"}]
["'业主","张莹","1#","'01-01-1003","01-01-1003","2024-04-23","2024-04-23","2024-04-01","2024-04-30",5,"分摊电费（公区）",20.79,null,null,"'已入住","'0","'15306400000081",null,{"$f":"VLOOKUP(B:B,[1]Sheet1!$B:$B,1,0)","v":"张莹"}]
["'业主","陈晨","1#","'01-01-1005","01-01-1005","2024-04-23","2024-04-23","2024-04-01","2024-04-30",5,"分摊电费（公区）",20.79,null,null,"'已入住","'0","'15306400000082",null,{"$f":"VLOOKUP(B:B,[1]Sheet1!$B:$B,1,0)","v":"陈晨"}]
["'业主","郑景花","1#","'01-01-1006","01-01-1006","2024-04-23","2024-04-23","2024-04-01","2024-04-30",5,"分摊电费（公区）",20.79,null,null,"'不常住（停用）","'0","'15306400000083",null,{"$f":"VLOOKUP(B:B,[1]Sheet1!$B:$B,1,0)","v":"郑景花"}]
["'业主","彭马远","1#","'01-01-1007","01-01-1007","2024-04-23","2024-04-23","2024-04-01","2024-04-30",5,"分摊电费（公区）",20.79,null,null,"'不常住（停用）","'0","'15306400000084",null,{"$f":"VLOOKUP(B:B,[1]Sheet1!$B:$B,1,0)","v":"彭马远"}]
["'业主","柯丽娥","1#","'01-01-1008","01-01-1008","2024-04-23","2024-04-23","2024-04-01","2024-04-30",5,"分摊电费（公区）",20.79,null,null,"'已交空置","'0","'15306400000085",null,{"$f":"VLOOKUP(B:B,[1]Sheet1!$B:$B,1,0)","v":"柯丽娥"}]
["'业主","陈挺","1#","'01-01-1009","01-01-1009","2024-04-23","2024-04-23","2024-04-01","2024-04-30",5,"分摊电费（公区）",20.79,null,null,"'已交空置","'0","'15306400000086",null,{"$f":"VLOOKUP(B:B,[1]Sheet1!$B:$B,1,0)","v":"陈挺"}]
["'业主","徐美霞","1#","'01-01-1010","01-01-1010","2024-04-23","2024-04-23","2024-04-01","2024-04-30",5,"分摊电费（公区）",20.79,null,null,"'已入住","'0","'15306400000763",null,{"$f":"VLOOKUP(B:B,[1]Sheet1!$B:$B,1,0)","v":"徐美霞"}]
["'业主","陈娇榕","1#","'01-01-1012","01-01-1012","2024-04-23","2024-04-23","2024-04-01","2024-04-30",5,"分摊电费（公区）",20.79,null,null,"'已入住","'0","'15306400000088",null,{"$f":"VLOOKUP(B:B,[1]Sheet1!$B:$B,1,0)","v":"陈娇榕"}]
["'业主","陈爽","1#","'01-01-1101","01-01-1101","2024-04-23","2024-04-23","2024-04-01","2024-04-30",5,"分摊电费（公区）",20.79,null,null,"'已入住","'0","'15306400000089",null,{"$f":"VLOOKUP(B:B,[1]Sheet1!$B:$B,1,0)","v":"陈爽"}]
["'业主","李颖","1#","'01-01-1103","01-01-1103","2024-04-23","2024-04-23","2024-04-01","2024-04-30",5,"分摊电费（公区）",20.79,null,null,"'已入住","'0","'15306400000090",null,{"$f":"VLOOKUP(B:B,[1]Sheet1!$B:$B,1,0)","v":"李颖"}]
["'业主","陈鹏章","1#","'01-01-1105","01-01-1105","2024-04-23","2024-04-23","2024-04-01","2024-04-30",5,"分摊电费（公区）",20.79,null,null,"'已入住","'0","'15306400000091",null,{"$f":"VLOOKUP(B:B,[1]Sheet1!$B:$B,1,0)","v":"陈鹏章"}]
["'业主","汤美玲","1#","'01-01-1106","01-01-1106","2024-04-23","2024-04-23","2024-04-01","2024-04-30",5,"分摊电费（公区）",20.79,null,null,"'已入住","'0","'15306400000092",null,{"$f":"VLOOKUP(B:B,[1]Sheet1!$B:$B,1,0)","v":"汤美玲"}]
["'业主","胡啸","1#","'01-01-1107","01-01-1107","2024-04-23","2024-04-23","2024-04-01","2024-04-30",5,"分摊电费（公区）",20.79,null,null,"'已入住","'0","'15306400000093",null,{"$f":"VLOOKUP(B:B,[1]Sheet1!$B:$B,1,0)","v":"胡啸"}]
["'业主","兰元顺","1#","'01-01-1108","01-01-1108","2024-04-23","2024-04-23","2024-04-01","2024-04-30",5,"分摊电费（公区）",20.79,null,null,"'已交空置","'0","'15306400000094",null,{"$f":"VLOOKUP(B:B,[1]Sheet1!$B:$B,1,0)","v":"兰元顺"}]
["'业主","夏前","1#","'01-01-1109","01-01-1109","2024-04-23","2024-04-23","2024-04-01","2024-04-30",5,"分摊电费（公区）",20.79,null,null,"'不常住（停用）","'0","'15306400000095",null,{"$f":"VLOOKUP(B:B,[1]Sheet1!$B:$B,1,0)","v":"夏前"}]
["'业主","陈榆","1#","'01-01-1110","01-01-1110","2024-04-23","2024-04-23","2024-04-01","2024-04-30",5,"分摊电费（公区）",20.79,null,null,"'已入住","'0","'15306400000087",null,{"$f":"VLOOKUP(B:B,[1]Sheet1!$B:$B,1,0)","v":"陈榆"}]
["'业主","文丽艳","1#","'01-01-1111","01-01-1111","2024-04-23","2024-04-23","2024-04-01","2024-04-30",5,"分摊电费（公区）",20.79,null,null,"'已入住","'0","'15306400000096",null,{"$f":"VLOOKUP(B:B,[1]Sheet1!$B:$B,1,0)","v":"文丽艳"}]
["'业主","李晓军","1#","'01-01-1202","01-01-1202","2024-04-23","2024-04-23","2024-04-01","2024-04-30",5,"分摊电费（公区）",20.79,null,null,"'已入住","'0","'15306400000097",null,{"$f":"VLOOKUP(B:B,[1]Sheet1!$B:$B,1,0)","v":"李晓军"}]
["'业主","郑潇宇","1#","'01-01-1203","01-01-1203","2024-04-23","2024-04-23","2024-04-01","2024-04-30",5,"分摊电费（公区）",20.79,null,null,"'已入住","'0","'15306400000098",null,{"$f":"VLOOKUP(B:B,[1]Sheet1!$B:$B,1,0)","v":"郑潇宇"}]
["'业主","江月秀","1#","'01-01-1205","01-01-1205","2024-04-23","2024-04-23","2024-04-01","2024-04-30",5,"分摊电费（公区）",20.79,null,null,"'已入住","'0","'15306400000099",null,{"$f":"VLOOKUP(B:B,[1]Sheet1!$B:$B,1,0)","v":"江月秀"}]
["'业主","庄天豪","1#","'01-01-1206","01-01-1206","2024-04-23","2024-04-23","2024-04-01","2024-04-30",5,"分摊电费（公区）",20.79,null,null,"'已交空置","'0","'15306400000100",null,{"$f":"VLOOKUP(B:B,[1]Sheet1!$B:$B,1,0)","v":"庄天豪"}]
["'业主","林锦云","1#","'01-01-1207","01-01-1207","2024-04-23","2024-04-23","2024-04-01","2024-04-30",5,"分摊电费（公区）",20.79,null,null,"'出租中","'0","'15306400000101",null,{"$f":"VLOOKUP(B:B,[1]Sheet1!$B:$B,1,0)","v":"林锦云"}]
["'业主","吴婷婷","1#","'01-01-1208","01-01-1208","2024-04-23","2024-04-23","2024-04-01","2024-04-30",5,"分摊电费（公区）",20.79,null,null,"'已入住","'0","'15306400000102",null,{"$f":"VLOOKUP(B:B,[1]Sheet1!$B:$B,1,0)","v":"吴婷婷"}]
["'业主","黄昀","1#","'01-01-1209","01-01-1209","2024-04-23","2024-04-23","2024-04-01","2024-04-30",5,"分摊电费（公区）",20.79,null,null,"'已入住","'0","'15306400000103",null,{"$f":"VLOOKUP(B:B,[1]Sheet1!$B:$B,1,0)","v":"黄昀"}]
["'业主","林春仁","1#","'01-01-1210","01-01-1210","2024-04-23","2024-04-23","2024-04-01","2024-04-30",5,"分摊电费（公区）",20.79,null,null,"'已交空置","'0","'15306400000104",null,{"$f":"VLOOKUP(B:B,[1]Sheet1!$B:$B,1,0)","v":"林春仁"}]
["'业主","刘新蕾","1#","'01-01-1212","01-01-1212","2024-04-23","2024-04-23","2024-04-01","2024-04-30",5,"分摊电费（公区）",20.79,null,null,"'已入住","'0","'15306400000105",null,{"$f":"VLOOKUP(B:B,[1]Sheet1!$B:$B,1,0)","v":"刘新蕾"}]
["'业主","林云鹏","1#","'01-01-1301","01-01-1301","2024-04-23","2024-04-23","2024-04-01","2024-04-30",5,"分摊电费（公区）",20.79,null,null,"'已入住","'0","'15306400000106",null,{"$f":"VLOOKUP(B:B,[1]Sheet1!$B:$B,1,0)","v":"林云鹏"}]
["'业主","赖西凡","1#","'01-01-1303","01-01-1303","2024-04-23","2024-04-23","2024-04-01","2024-04-30",5,"分摊电费（公区）",20.79,null,null,"'已入住","'0","'15306400000107",null,{"$f":"VLOOKUP(B:B,[1]Sheet1!$B:$B,1,0)","v":"赖西凡"}]
["'业主","林广杰","1#","'01-01-1305","01-01-1305","2024-04-23","2024-04-23","2024-04-01","2024-04-30",5,"分摊电费（公区）",20.79,null,null,"'已入住","'0","'15306400000108",null,{"$f":"VLOOKUP(B:B,[1]Sheet1!$B:$B,1,0)","v":"林广杰"}]
["'业主","陈宇露","1#","'01-01-1306","01-01-1306","2024-04-23","2024-04-23","2024-04-01","2024-04-30",5,"分摊电费（公区）",20.79,null,null,"'已入住","'0","'15306400000109",null,{"$f":"VLOOKUP(B:B,[1]Sheet1!$B:$B,1,0)","v":"陈宇露"}]
["'业主","张超岩","1#","'01-01-1307","01-01-1307","2024-04-23","2024-04-23","2024-04-01","2024-04-30",5,"分摊电费（公区）",20.79,null,null,"'已入住","'0","'15306400000110",null,{"$f":"VLOOKUP(B:B,[1]Sheet1!$B:$B,1,0)","v":"张超岩"}]
["'业主","廖先英","1#","'01-01-1308","01-01-1308","2024-04-23","2024-04-23","2024-04-01","2024-04-30",5,"分摊电费（公区）",20.79,null,null,"'已入住","'0","'15306400000111",null,{"$f":"VLOOKUP(B:B,[1]Sheet1!$B:$B,1,0)","v":"廖先英"}]
["'业主","薛昀菁","1#","'01-01-1309","01-01-1309","2024-04-23","2024-04-23","2024-04-01","2024-04-30",5,"分摊电费（公区）",20.79,null,null,"'已入住","'0","'15306400000112",null,{"$f":"VLOOKUP(B:B,[1]Sheet1!$B:$B,1,0)","v":"薛昀菁"}]
["'业主","陈卉莹","1#","'01-01-1310","01-01-1310","2024-04-23","2024-04-23","2024-04-01","2024-04-30",5,"分摊电费（公区）",20.79,null,null,"'不常住（停用）","'0","'15306400000113",null,{"$f":"VLOOKUP(B:B,[1]Sheet1!$B:$B,1,0)","v":"陈卉莹"}]
["'业主","何凤娇","1#","'01-01-1311","01-01-1311","2024-04-23","2024-04-23","2024-04-01","2024-04-30",5,"分摊电费（公区）",20.79,null,null,"'已交空置","'0","'15306400000114",null,{"$f":"VLOOKUP(B:B,[1]Sheet1!$B:$B,1,0)","v":"何凤娇"}]
["'业主","董林","1#","'01-01-1402","01-01-1402","2024-04-23","2024-04-23","2024-04-01","2024-04-30",5,"分摊电费（公区）",20.79,null,null,"'出租中","'0","'15306400000115",null,{"$f":"VLOOKUP(B:B,[1]Sheet1!$B:$B,1,0)","v":"董林"}]
["'业主","黄宝莹","1#","'01-01-1403","01-01-1403","2024-04-23","2024-04-23","2024-04-01","2024-04-30",5,"分摊电费（公区）",20.79,null,null,"'已入住","'0","'15306400000116",null,{"$f":"VLOOKUP(B:B,[1]Sheet1!$B:$B,1,0)","v":"黄宝莹"}]
["'业主","于真","1#","'01-01-1405","01-01-1405","2024-04-23","2024-04-23","2024-04-01","2024-04-30",5,"分摊电费（公区）",20.79,null,null,"'已交空置","'0","'15306400000117",null,{"$f":"VLOOKUP(B:B,[1]Sheet1!$B:$B,1,0)","v":"于真"}]
["'业主","葛文","1#","'01-01-1406","01-01-1406","2024-04-23","2024-04-23","2024-04-01","2024-04-30",5,"分摊电费（公区）",20.79,null,null,"'已入住","'0","'15306400000118",null,{"$f":"VLOOKUP(B:B,[1]Sheet1!$B:$B,1,0)","v":"葛文"}]
["'业主","许朝","1#","'01-01-1407","01-01-1407","2024-04-23","2024-04-23","2024-04-01","2024-04-30",5,"分摊电费（公区）",20.79,null,null,"'已入住","'0","'15306400000119",null,{"$f":"VLOOKUP(B:B,[1]Sheet1!$B:$B,1,0)","v":"许朝"}]
["'业主","叶妍","1#","'01-01-1408","01-01-1408","2024-04-23","2024-04-23","2024-04-01","2024-04-30",5,"分摊电费（公区）",20.79,null,null,"'不常住（停用）","'0","'15306400000120",null,{"$f":"VLOOKUP(B:B,[1]Sheet1!$B:$B,1,0)","v":"叶妍"}]
["'业主","李浩","1#","'01-01-1409","01-01-1409","2024-04-23","2024-04-23","2024-04-01","2024-04-30",5,"分摊电费（公区）",20.79,null,null,"'已入住","'0","'15306400000121",null,{"$f":"VLOOKUP(B:B,[1]Sheet1!$B:$B,1,0)","v":"李浩"}]
["'业主","汪雯","1#","'01-01-1410","01-01-1410","2024-04-23","2024-04-23","2024-04-01","2024-04-30",5,"分摊电费（公区）",20.79,null,null,"'已入住","'0","'15306400000122",null,{"$f":"VLOOKUP(B:B,[1]Sheet1!$B:$B,1,0)","v":"汪雯"}]
["'业主","郑燕翔","1#","'01-01-1412","01-01-1412","2024-04-23","2024-04-23","2024-04-01","2024-04-30",5,"分摊电费（公区）",20.79,null,null,"'装修中","'0","'15306400000123",null,{"$f":"VLOOKUP(B:B,[1]Sheet1!$B:$B,1,0)","v":"郑燕翔"}]
["'业主","赖世喜","1#","'01-01-1501","01-01-1501","2024-04-23","2024-04-23","2024-04-01","2024-04-30",5,"分摊电费（公区）",20.79,null,null,"'已入住","'0","'15306400000124",null,{"$f":"VLOOKUP(B:B,[1]Sheet1!$B:$B,1,0)","v":"赖世喜"}]
["'业主","陈炜纲","1#","'01-01-1503","01-01-1503","2024-04-23","2024-04-23","2024-04-01","2024-04-30",5,"分摊电费（公区）",20.79,null,null,"'已入住","'0","'15306400000125",null,{"$f":"VLOOKUP(B:B,[1]Sheet1!$B:$B,1,0)","v":"陈炜纲"}]
["'业主","郭彦青","1#","'01-01-1505","01-01-1505","2024-04-23","2024-04-23","2024-04-01","2024-04-30",5,"分摊电费（公区）",20.79,null,null,"'已入住","'0","'15306400000126",null,{"$f":"VLOOKUP(B:B,[1]Sheet1!$B:$B,1,0)","v":"郭彦青"}]
["'业主","利佳","1#","'01-01-1506","01-01-1506","2024-04-23","2024-04-23","2024-04-01","2024-04-30",5,"分摊电费（公区）",20.79,null,null,"'已入住","'0","'15306400000127",null,{"$f":"VLOOKUP(B:B,[1]Sheet1!$B:$B,1,0)","v":"利佳"}]
["'业主","范心楚","1#","'01-01-1507","01-01-1507","2024-04-23","2024-04-23","2024-04-01","2024-04-30",5,"分摊电费（公区）",20.79,null,null,"'已入住","'0","'15306400000128",null,{"$f":"VLOOKUP(B:B,[1]Sheet1!$B:$B,1,0)","v":"范心楚"}]
["'业主","蔡臻","1#","'01-01-1508","01-01-1508","2024-04-23","2024-04-23","2024-04-01","2024-04-30",5,"分摊电费（公区）",20.79,null,null,"'不常住（停用）","'0","'15306400000129",null,{"$f":"VLOOKUP(B:B,[1]Sheet1!$B:$B,1,0)","v":"蔡臻"}]
["'业主","郑建冰","1#","'01-01-1509","01-01-1509","2024-04-23","2024-04-23","2024-04-01","2024-04-30",5,"分摊电费（公区）",20.79,null,null,"'已交空置","'0","'15306400000130",null,{"$f":"VLOOKUP(B:B,[1]Sheet1!$B:$B,1,0)","v":"郑建冰"}]
["'业主","陈敏","1#","'01-01-1510","01-01-1510","2024-04-23","2024-04-23","2024-04-01","2024-04-30",5,"分摊电费（公区）",20.79,null,null,"'已入住","'0","'15306400000131",null,{"$f":"VLOOKUP(B:B,[1]Sheet1!$B:$B,1,0)","v":"陈敏"}]
["'业主","王亚","1#","'01-01-1511","01-01-1511","2024-04-23","2024-04-23","2024-04-01","2024-04-30",5,"分摊电费（公区）",20.79,null,null,"'装修中","'0","'15306400000132",null,{"$f":"VLOOKUP(B:B,[1]Sheet1!$B:$B,1,0)","v":"王亚"}]
["'业主","胡榕","1#","'01-01-1602","01-01-1602","2024-04-23","2024-04-23","2024-04-01","2024-04-30",5,"分摊电费（公区）",20.79,null,null,"'已入住","'0","'15306400000133",null,{"$f":"VLOOKUP(B:B,[1]Sheet1!$B:$B,1,0)","v":"胡榕"}]
["'业主","林群群","1#","'01-01-1603","01-01-1603","2024-04-23","2024-04-23","2024-04-01","2024-04-30",5,"分摊电费（公区）",20.79,null,null,"'已入住","'0","'15306400000134",null,{"$f":"VLOOKUP(B:B,[1]Sheet1!$B:$B,1,0)","v":"林群群"}]
["'业主","李燕国","1#","'01-01-1605","01-01-1605","2024-04-23","2024-04-23","2024-04-01","2024-04-30",5,"分摊电费（公区）",20.79,null,null,"'已入住","'0","'15306400000135",null,{"$f":"VLOOKUP(B:B,[1]Sheet1!$B:$B,1,0)","v":"李燕国"}]
["'业主","张娟娟","1#","'01-01-1606","01-01-1606","2024-04-23","2024-04-23","2024-04-01","2024-04-30",5,"分摊电费（公区）",20.79,null,null,"'已入住","'0","'15306400000136",null,{"$f":"VLOOKUP(B:B,[1]Sheet1!$B:$B,1,0)","v":"张娟娟"}]
["'业主","张越宁","1#","'01-01-1607","01-01-1607","2024-04-23","2024-04-23","2024-04-01","2024-04-30",5,"分摊电费（公区）",20.79,null,null,"'已入住","'0","'15306400000137",null,{"$f":"VLOOKUP(B:B,[1]Sheet1!$B:$B,1,0)","v":"张越宁"}]
["'业主","林娟","1#","'01-01-1608","01-01-1608","2024-04-23","2024-04-23","2024-04-01","2024-04-30",5,"分摊电费（公区）",20.79,null,null,"'已交空置","'0","'15306400000138",null,{"$f":"VLOOKUP(B:B,[1]Sheet1!$B:$B,1,0)","v":"林娟"}]
["'业主","李云洁","1#","'01-01-1609","01-01-1609","2024-04-23","2024-04-23","2024-04-01","2024-04-30",5,"分摊电费（公区）",20.79,null,null,"'已入住","'0","'15306400000139",null,{"$f":"VLOOKUP(B:B,[1]Sheet1!$B:$B,1,0)","v":"李云洁"}]
["'业主","陈翔","1#","'01-01-1610","01-01-1610","2024-04-23","2024-04-23","2024-04-01","2024-04-30",5,"分摊电费（公区）",20.79,null,null,"'已入住","'0","'15306400000140",null,{"$f":"VLOOKUP(B:B,[1]Sheet1!$B:$B,1,0)","v":"陈翔"}]
["'业主","许峰平","1#","'01-01-1612","01-01-1612","2024-04-23","2024-04-23","2024-04-01","2024-04-30",5,"分摊电费（公区）",20.79,null,null,"'出租中","'0","'15306400000141",null,{"$f":"VLOOKUP(B:B,[1]Sheet1!$B:$B,1,0)","v":"许峰平"}]
["'业主","黄东","1#","'01-01-1701","01-01-1701","2024-04-23","2024-04-23","2024-04-01","2024-04-30",5,"分摊电费（公区）",20.79,null,null,"'已入住","'0","'15306400000142",null,{"$f":"VLOOKUP(B:B,[1]Sheet1!$B:$B,1,0)","v":"黄东"}]
["'业主","吴雪思","1#","'01-01-1703","01-01-1703","2024-04-23","2024-04-23","2024-04-01","2024-04-30",5,"分摊电费（公区）",20.79,null,null,"'已入住","'0","'15306400000143",null,{"$f":"VLOOKUP(B:B,[1]Sheet1!$B:$B,1,0)","v":"吴雪思"}]
["'业主","吴之葳","1#","'01-01-1705","01-01-1705","2024-04-23","2024-04-23","2024-04-01","2024-04-30",5,"分摊电费（公区）",20.79,null,null,"'已交空置","'0","'15306400000144",null,{"$f":"VLOOKUP(B:B,[1]Sheet1!$B:$B,1,0)","v":"吴之葳"}]
["'业主","郑壹帆","1#","'01-01-1706","01-01-1706","2024-04-23","2024-04-23","2024-04-01","2024-04-30",5,"分摊电费（公区）",20.79,null,null,"'已入住","'0","'15306400000145",null,{"$f":"VLOOKUP(B:B,[1]Sheet1!$B:$B,1,0)","v":"郑壹帆"}]
["'业主","魏民杰","1#","'01-01-1707","01-01-1707","2024-04-23","2024-04-23","2024-04-01","2024-04-30",5,"分摊电费（公区）",20.79,null,null,"'已入住","'0","'15306400000146",null,{"$f":"VLOOKUP(B:B,[1]Sheet1!$B:$B,1,0)","v":"魏民杰"}]
["'业主","孟婧","1#","'01-01-1708","01-01-1708","2024-04-23","2024-04-23","2024-04-01","2024-04-30",5,"分摊电费（公区）",20.79,null,null,"'已入住","'0","'15306400000147",null,{"$f":"VLOOKUP(B:B,[1]Sheet1!$B:$B,1,0)","v":"孟婧"}]
["'业主","翁林禾","1#","'01-01-1709","01-01-1709","2024-04-23","2024-04-23","2024-04-01","2024-04-30",5,"分摊电费（公区）",20.79,null,null,"'已入住","'0","'15306400000148",null,{"$f":"VLOOKUP(B:B,[1]Sheet1!$B:$B,1,0)","v":"翁林禾"}]
["'业主","汤丽","1#","'01-01-1710","01-01-1710","2024-04-23","2024-04-23","2024-04-01","2024-04-30",5,"分摊电费（公区）",20.79,null,null,"'已交空置","'0","'15306400000149",null,{"$f":"VLOOKUP(B:B,[1]Sheet1!$B:$B,1,0)","v":"汤丽"}]
["'业主","刘锡奎","1#","'01-01-1711","01-01-1711","2024-04-23","2024-04-23","2024-04-01","2024-04-30",5,"分摊电费（公区）",20.79,null,null,"'不常住（停用）","'0","'15306400000150",null,{"$f":"VLOOKUP(B:B,[1]Sheet1!$B:$B,1,0)","v":"刘锡奎"}]
["'业主","许莉","1#","'01-01-1802","01-01-1802","2024-04-23","2024-04-23","2024-04-01","2024-04-30",5,"分摊电费（公区）",20.79,null,null,"'已入住","'0","'15306400000151",null,{"$f":"VLOOKUP(B:B,[1]Sheet1!$B:$B,1,0)","v":"许莉"}]
["'业主","陈斐","1#","'01-01-1803","01-01-1803","2024-04-23","2024-04-23","2024-04-01","2024-04-30",5,"分摊电费（公区）",20.79,null,null,"'已入住","'0","'15306400000152",null,{"$f":"VLOOKUP(B:B,[1]Sheet1!$B:$B,1,0)","v":"陈斐"}]
["'业主","黄碧文","1#","'01-01-1805","01-01-1805","2024-04-23","2024-04-23","2024-04-01","2024-04-30",5,"分摊电费（公区）",20.79,null,null,"'已入住","'0","'15306400000153",null,{"$f":"VLOOKUP(B:B,[1]Sheet1!$B:$B,1,0)","v":"黄碧文"}]
["'业主","甘映梅","1#","'01-01-1806","01-01-1806","2024-04-23","2024-04-23","2024-04-01","2024-04-30",5,"分摊电费（公区）",20.79,null,null,"'已入住","'0","'15306400000154",null,{"$f":"VLOOKUP(B:B,[1]Sheet1!$B:$B,1,0)","v":"甘映梅"}]
["'业主","叶瑶海","1#","'01-01-1807","01-01-1807","2024-04-23","2024-04-23","2024-04-01","2024-04-30",5,"分摊电费（公区）",20.79,null,null,"'已入住","'0","'15306400000155",null,{"$f":"VLOOKUP(B:B,[1]Sheet1!$B:$B,1,0)","v":"叶瑶海"}]
["'业主","李立","1#","'01-01-1808","01-01-1808","2024-04-23","2024-04-23","2024-04-01","2024-04-30",5,"分摊电费（公区）",20.79,null,null,"'已入住","'0","'15306400000156",null,{"$f":"VLOOKUP(B:B,[1]Sheet1!$B:$B,1,0)","v":"李立"}]
["'业主","林增钰","1#","'01-01-1809","01-01-1809","2024-04-23","2024-04-23","2024-04-01","2024-04-30",5,"分摊电费（公区）",20.79,null,null,"'已入住","'0","'15306400000157",null,{"$f":"VLOOKUP(B:B,[1]Sheet1!$B:$B,1,0)","v":"林增钰"}]
["'业主","杨安邦","1#","'01-01-1810","01-01-1810","2024-04-23","2024-04-23","2024-04-01","2024-04-30",5,"分摊电费（公区）",20.79,null,null,"'已入住","'0","'15306400000158",null,{"$f":"VLOOKUP(B:B,[1]Sheet1!$B:$B,1,0)","v":"杨安邦"}]
["'业主","江彬","1#","'01-01-1812","01-01-1812","2024-04-23","2024-04-23","2024-04-01","2024-04-30",5,"分摊电费（公区）",20.79,null,null,"'已入住","'0","'15306400000159",null,{"$f":"VLOOKUP(B:B,[1]Sheet1!$B:$B,1,0)","v":"江彬"}]
["'业主","林晓榕","1#","'01-01-1901","01-01-1901","2024-04-23","2024-04-23","2024-04-01","2024-04-30",5,"分摊电费（公区）",20.79,null,null,"'已交空置","'0","'15306400000160",null,{"$f":"VLOOKUP(B:B,[1]Sheet1!$B:$B,1,0)","v":"林晓榕"}]
["'业主","王敏敏","1#","'01-01-1903","01-01-1903","2024-04-23","2024-04-23","2024-04-01","2024-04-30",5,"分摊电费（公区）",20.79,null,null,"'已入住","'0","'15306400000161",null,{"$f":"VLOOKUP(B:B,[1]Sheet1!$B:$B,1,0)","v":"王敏敏"}]
["'业主","谭雪芳","1#","'01-01-1905","01-01-1905","2024-04-23","2024-04-23","2024-04-01","2024-04-30",5,"分摊电费（公区）",20.79,null,null,"'已入住","'0","'15306400000162",null,{"$f":"VLOOKUP(B:B,[1]Sheet1!$B:$B,1,0)","v":"谭雪芳"}]
["'业主","吴先文","1#","'01-01-1906","01-01-1906","2024-04-23","2024-04-23","2024-04-01","2024-04-30",5,"分摊电费（公区）",20.79,null,null,"'已入住","'0","'15306400000163",null,{"$f":"VLOOKUP(B:B,[1]Sheet1!$B:$B,1,0)","v":"吴先文"}]
["'业主","李辉","1#","'01-01-1907","01-01-1907","2024-04-23","2024-04-23","2024-04-01","2024-04-30",5,"分摊电费（公区）",20.79,null,null,"'已入住","'0","'15306400000164",null,{"$f":"VLOOKUP(B:B,[1]Sheet1!$B:$B,1,0)","v":"李辉"}]
["'业主","张星","1#","'01-01-1908","01-01-1908","2024-04-23","2024-04-23","2024-04-01","2024-04-30",5,"分摊电费（公区）",20.79,null,null,"'已入住","'0","'15306400000165",null,{"$f":"VLOOKUP(B:B,[1]Sheet1!$B:$B,1,0)","v":"张星"}]
["'业主","黄晟宁","1#","'01-01-1909","01-01-1909","2024-04-23","2024-04-23","2024-04-01","2024-04-30",5,"分摊电费（公区）",20.79,null,null,"'已入住","'0","'15306400000166",null,{"$f":"VLOOKUP(B:B,[1]Sheet1!$B:$B,1,0)","v":"黄晟宁"}]
["'业主","陈东虹","1#","'01-01-1910","01-01-1910","2024-04-23","2024-04-23","2024-04-01","2024-04-30",5,"分摊电费（公区）",20.79,null,null,"'已入住","'0","'15306400000167",null,{"$f":"VLOOKUP(B:B,[1]Sheet1!$B:$B,1,0)","v":"陈东虹"}]
["'业主","李珠英","1#","'01-01-1911","01-01-1911","2024-04-23","2024-04-23","2024-04-01","2024-04-30",5,"分摊电费（公区）",20.79,null,null,"'已入住","'0","'15306400000168",null,{"$f":"VLOOKUP(B:B,[1]Sheet1!$B:$B,1,0)","v":"李珠英"}]
["'业主","鱼沛","1#","'01-01-0202","01-01-0202","2024-04-23","2024-04-23","2024-04-01","2024-04-30",5,"分摊电费（公区）",20.79,null,null,"'不常住（停用）","'0","'15306400000010",null,{"$f":"VLOOKUP(B:B,[1]Sheet1!$B:$B,1,0)","v":"鱼沛"}]
["'业主","黄幼俤","1#","'01-01-0203","01-01-0203","2024-04-23","2024-04-23","2024-04-01","2024-04-30",5,"分摊电费（公区）",20.79,null,null,"'已入住","'0","'15306400000011",null,{"$f":"VLOOKUP(B:B,[1]Sheet1!$B:$B,1,0)","v":"黄幼俤"}]
["'业主","黄良缘","1#","'01-01-0205","01-01-0205","2024-04-23","2024-04-23","2024-04-01","2024-04-30",5,"分摊电费（公区）",20.79,null,null,"'已入住","'0","'15306400000012",null,{"$f":"VLOOKUP(B:B,[1]Sheet1!$B:$B,1,0)","v":"黄良缘"}]
["'业主","余艳萍","1#","'01-01-0206","01-01-0206","2024-04-23","2024-04-23","2024-04-01","2024-04-30",5,"分摊电费（公区）",20.79,null,null,"'已入住","'0","'15306400000013",null,{"$f":"VLOOKUP(B:B,[1]Sheet1!$B:$B,1,0)","v":"余艳萍"}]
["'业主","黄新新","1#","'01-01-0207","01-01-0207","2024-04-23","2024-04-23","2024-04-01","2024-04-30",5,"分摊电费（公区）",20.79,null,null,"'已入住","'0","'15306400000014",null,{"$f":"VLOOKUP(B:B,[1]Sheet1!$B:$B,1,0)","v":"黄新新"}]
["'业主","陈威伟;唐小岚","1#","'01-01-0208","01-01-0208","2024-04-23","2024-04-23","2024-04-01","2024-04-30",5,"分摊电费（公区）",20.79,null,null,"'已入住","'0","'15306400000015",null,{"$f":"VLOOKUP(B:B,[1]Sheet1!$B:$B,1,0)","v":"陈威伟;唐小岚"}]
["'业主","康荣军","1#","'01-01-0209","01-01-0209","2024-04-23","2024-04-23","2024-04-01","2024-04-30",5,"分摊电费（公区）",20.79,null,null,"'已入住","'0","'15306400000016",null,{"$f":"VLOOKUP(B:B,[1]Sheet1!$B:$B,1,0)","v":"康荣军"}]
["'业主","李文萍","1#","'01-01-0210","01-01-0210","2024-04-23","2024-04-23","2024-04-01","2024-04-30",5,"分摊电费（公区）",20.79,null,null,"'已入住","'0","'15306400000017",null,{"$f":"VLOOKUP(B:B,[1]Sheet1!$B:$B,1,0)","v":"李文萍"}]
["'业主","汪思祥","1#","'01-01-0212","01-01-0212","2024-04-23","2024-04-23","2024-04-01","2024-04-30",5,"分摊电费（公区）",20.79,null,null,"'已入住","'0","'15306400000018",null,{"$f":"VLOOKUP(B:B,[1]Sheet1!$B:$B,1,0)","v":"汪思祥"}]
["'业主","彭德辉","1#","'01-01-2002","01-01-2002","2024-04-23","2024-04-23","2024-04-01","2024-04-30",5,"分摊电费（公区）",20.79,null,null,"'已入住","'0","'15306400000169",null,{"$f":"VLOOKUP(B:B,[1]Sheet1!$B:$B,1,0)","v":"彭德辉"}]
["'业主","肖丽兵","1#","'01-01-2003","01-01-2003","2024-04-23","2024-04-23","2024-04-01","2024-04-30",5,"分摊电费（公区）",20.79,null,null,"'已交空置","'0","'15306400000170",null,{"$f":"VLOOKUP(B:B,[1]Sheet1!$B:$B,1,0)","v":"肖丽兵"}]
["'业主","李贵玉","1#","'01-01-2005","01-01-2005","2024-04-23","2024-04-23","2024-04-01","2024-04-30",5,"分摊电费（公区）",20.79,null,null,"'已入住","'0","'15306400000171",null,{"$f":"VLOOKUP(B:B,[1]Sheet1!$B:$B,1,0)","v":"李贵玉"}]
["'业主","龚晓雯","1#","'01-01-2006","01-01-2006","2024-04-23","2024-04-23","2024-04-01","2024-04-30",5,"分摊电费（公区）",20.79,null,null,"'已入住","'0","'15306400000172",null,{"$f":"VLOOKUP(B:B,[1]Sheet1!$B:$B,1,0)","v":"龚晓雯"}]
["'业主","林宇洁","1#","'01-01-2007","01-01-2007","2024-04-23","2024-04-23","2024-04-01","2024-04-30",5,"分摊电费（公区）",20.79,null,null,"'已入住","'0","'15306400000173",null,{"$f":"VLOOKUP(B:B,[1]Sheet1!$B:$B,1,0)","v":"林宇洁"}]
["'业主","林丽芳","1#","'01-01-2008","01-01-2008","2024-04-23","2024-04-23","2024-04-01","2024-04-30",5,"分摊电费（公区）",20.79,null,null,"'已入住","'0","'15306400000174",null,{"$f":"VLOOKUP(B:B,[1]Sheet1!$B:$B,1,0)","v":"林丽芳"}]
["'业主","李德兴","1#","'01-01-2009","01-01-2009","2024-04-23","2024-04-23","2024-04-01","2024-04-30",5,"分摊电费（公区）",20.79,null,null,"'已交空置","'0","'15306400000175",null,{"$f":"VLOOKUP(B:B,[1]Sheet1!$B:$B,1,0)","v":"李德兴"}]
["'业主","马瀚","1#","'01-01-2010","01-01-2010","2024-04-23","2024-04-23","2024-04-01","2024-04-30",5,"分摊电费（公区）",20.79,null,null,"'已入住","'0","'15306400000176",null,{"$f":"VLOOKUP(B:B,[1]Sheet1!$B:$B,1,0)","v":"马瀚"}]
["'业主","陈伟","1#","'01-01-2012","01-01-2012","2024-04-23","2024-04-23","2024-04-01","2024-04-30",5,"分摊电费（公区）",20.79,null,null,"'已入住","'0","'15306400000177",null,{"$f":"VLOOKUP(B:B,[1]Sheet1!$B:$B,1,0)","v":"陈伟"}]
["'业主","于骋","1#","'01-01-2101","01-01-2101","2024-04-23","2024-04-23","2024-04-01","2024-04-30",5,"分摊电费（公区）",20.79,null,null,"'已入住","'0","'15306400000178",null,{"$f":"VLOOKUP(B:B,[1]Sheet1!$B:$B,1,0)","v":"于骋"}]
["'业主","刘小娟","1#","'01-01-2103","01-01-2103","2024-04-23","2024-04-23","2024-04-01","2024-04-30",5,"分摊电费（公区）",20.79,null,null,"'不常住（停用）","'0","'15306400000179",null,{"$f":"VLOOKUP(B:B,[1]Sheet1!$B:$B,1,0)","v":"刘小娟"}]
["'业主","刘祥钦","1#","'01-01-2105","01-01-2105","2024-04-23","2024-04-23","2024-04-01","2024-04-30",5,"分摊电费（公区）",20.79,null,null,"'已入住","'0","'15306400000180",null,{"$f":"VLOOKUP(B:B,[1]Sheet1!$B:$B,1,0)","v":"刘祥钦"}]
["'业主","周玲","1#","'01-01-2106","01-01-2106","2024-04-23","2024-04-23","2024-04-01","2024-04-30",5,"分摊电费（公区）",20.79,null,null,"'已入住","'0","'15306400000181",null,{"$f":"VLOOKUP(B:B,[1]Sheet1!$B:$B,1,0)","v":"周玲"}]
["'业主","张震","1#","'01-01-2107","01-01-2107","2024-04-23","2024-04-23","2024-04-01","2024-04-30",5,"分摊电费（公区）",20.79,null,null,"'已入住","'0","'15306400000182",null,{"$f":"VLOOKUP(B:B,[1]Sheet1!$B:$B,1,0)","v":"张震"}]
["'业主","林继翔","1#","'01-01-2108","01-01-2108","2024-04-23","2024-04-23","2024-04-01","2024-04-30",5,"分摊电费（公区）",20.79,null,null,"'不常住（停用）","'0","'15306400000183",null,{"$f":"VLOOKUP(B:B,[1]Sheet1!$B:$B,1,0)","v":"林继翔"}]
["'业主","罗孔权","1#","'01-01-2109","01-01-2109","2024-04-23","2024-04-23","2024-04-01","2024-04-30",5,"分摊电费（公区）",20.79,null,null,"'已入住","'0","'15306400000184",null,{"$f":"VLOOKUP(B:B,[1]Sheet1!$B:$B,1,0)","v":"罗孔权"}]
["'业主","刘鸣芳","1#","'01-01-2110","01-01-2110","2024-04-23","2024-04-23","2024-04-01","2024-04-30",5,"分摊电费（公区）",20.79,null,null,"'已交空置","'0","'15306400000185",null,{"$f":"VLOOKUP(B:B,[1]Sheet1!$B:$B,1,0)","v":"刘鸣芳"}]
["'业主","韦芳梅","1#","'01-01-2111","01-01-2111","2024-04-23","2024-04-23","2024-04-01","2024-04-30",5,"分摊电费（公区）",20.79,null,null,"'已入住","'0","'15306400000186",null,{"$f":"VLOOKUP(B:B,[1]Sheet1!$B:$B,1,0)","v":"韦芳梅"}]
["'业主","刘洋锴","1#","'01-01-2203","01-01-2203","2024-04-23","2024-04-23","2024-04-01","2024-04-30",5,"分摊电费（公区）",20.79,null,null,"'已交空置","'0","'15306400000187",null,{"$f":"VLOOKUP(B:B,[1]Sheet1!$B:$B,1,0)","v":"刘洋锴"}]
["'业主","吴文华","1#","'01-01-2205","01-01-2205","2024-04-23","2024-04-23","2024-04-01","2024-04-30",5,"分摊电费（公区）",20.79,null,null,"'已入住","'0","'15306400000188",null,{"$f":"VLOOKUP(B:B,[1]Sheet1!$B:$B,1,0)","v":"吴文华"}]
["'业主","吴琴芳","1#","'01-01-2206","01-01-2206","2024-04-23","2024-04-23","2024-04-01","2024-04-30",5,"分摊电费（公区）",20.79,null,null,"'已入住","'0","'15306400000189",null,{"$f":"VLOOKUP(B:B,[1]Sheet1!$B:$B,1,0)","v":"吴琴芳"}]
["'业主","庄扬星","1#","'01-01-2207","01-01-2207","2024-04-23","2024-04-23","2024-04-01","2024-04-30",5,"分摊电费（公区）",20.79,null,null,"'已入住","'0","'15306400000190",null,{"$f":"VLOOKUP(B:B,[1]Sheet1!$B:$B,1,0)","v":"庄扬星"}]
["'业主","张金莲","1#","'01-01-2208","01-01-2208","2024-04-23","2024-04-23","2024-04-01","2024-04-30",5,"分摊电费（公区）",20.79,null,null,"'已入住","'0","'15306400000191",null,{"$f":"VLOOKUP(B:B,[1]Sheet1!$B:$B,1,0)","v":"张金莲"}]
["'业主","徐建华","1#","'01-01-2209","01-01-2209","2024-04-23","2024-04-23","2024-04-01","2024-04-30",5,"分摊电费（公区）",20.79,null,null,"'出租中","'0","'15306400000192",null,{"$f":"VLOOKUP(B:B,[1]Sheet1!$B:$B,1,0)","v":"徐建华"}]
["'业主","徐兵","1#","'01-01-2210","01-01-2210","2024-04-23","2024-04-23","2024-04-01","2024-04-30",5,"分摊电费（公区）",20.79,null,null,"'已交空置","'0","'15306400000193",null,{"$f":"VLOOKUP(B:B,[1]Sheet1!$B:$B,1,0)","v":"徐兵"}]
["'业主","周泽雀","1#","'01-01-0301","01-01-0301","2024-04-23","2024-04-23","2024-04-01","2024-04-30",5,"分摊电费（公区）",20.79,null,null,"'已交空置","'0","'15306400000019",null,{"$f":"VLOOKUP(B:B,[1]Sheet1!$B:$B,1,0)","v":"周泽雀"}]
["'业主","孙雪玉","1#","'01-01-0303","01-01-0303","2024-04-23","2024-04-23","2024-04-01","2024-04-30",5,"分摊电费（公区）",20.79,null,null,"'已入住","'0","'15306400000020",null,{"$f":"VLOOKUP(B:B,[1]Sheet1!$B:$B,1,0)","v":"孙雪玉"}]
["'业主","翁国汀","1#","'01-01-0305","01-01-0305","2024-04-23","2024-04-23","2024-04-01","2024-04-30",5,"分摊电费（公区）",20.79,null,null,"'已入住","'0","'15306400000021",null,{"$f":"VLOOKUP(B:B,[1]Sheet1!$B:$B,1,0)","v":"翁国汀"}]
["'业主","李静","1#","'01-01-0306","01-01-0306","2024-04-23","2024-04-23","2024-04-01","2024-04-30",5,"分摊电费（公区）",20.79,null,null,"'已交空置","'0","'15306400000022",null,{"$f":"VLOOKUP(B:B,[1]Sheet1!$B:$B,1,0)","v":"李静"}]
["'业主","柳志霞","1#","'01-01-0307","01-01-0307","2024-04-23","2024-04-23","2024-04-01","2024-04-30",5,"分摊电费（公区）",20.79,null,null,"'出租中","'0","'15306400000023",null,{"$f":"VLOOKUP(B:B,[1]Sheet1!$B:$B,1,0)","v":"柳志霞"}]
["'业主","王桂萍","1#","'01-01-0308","01-01-0308","2024-04-23","2024-04-23","2024-04-01","2024-04-30",5,"分摊电费（公区）",20.79,null,null,"'出租中","'0","'15306400000024",null,{"$f":"VLOOKUP(B:B,[1]Sheet1!$B:$B,1,0)","v":"王桂萍"}]
["'业主","黄宜健","1#","'01-01-0309","01-01-0309","2024-04-23","2024-04-23","2024-04-01","2024-04-30",5,"分摊电费（公区）",20.79,null,null,"'已入住","'0","'15306400000025",null,{"$f":"VLOOKUP(B:B,[1]Sheet1!$B:$B,1,0)","v":"黄宜健"}]
["'业主","郭征","1#","'01-01-0310","01-01-0310","2024-04-23","2024-04-23","2024-04-01","2024-04-30",5,"分摊电费（公区）",20.79,null,null,"'已入住","'0","'15306400000026",null,{"$f":"VLOOKUP(B:B,[1]Sheet1!$B:$B,1,0)","v":"郭征"}]
["'业主","胡流帮","1#","'01-01-0311","01-01-0311","2024-04-23","2024-04-23","2024-04-01","2024-04-30",5,"分摊电费（公区）",20.79,null,null,"'已入住","'0","'15306400000027",null,{"$f":"VLOOKUP(B:B,[1]Sheet1!$B:$B,1,0)","v":"胡流帮"}]
["'业主","陈勇明","1#","'01-01-0402","01-01-0402","2024-04-23","2024-04-23","2024-04-01","2024-04-30",5,"分摊电费（公区）",20.79,null,null,"'已交空置","'0","'15306400000028",null,{"$f":"VLOOKUP(B:B,[1]Sheet1!$B:$B,1,0)","v":"陈勇明"}]
["'业主","叶伍德","1#","'01-01-0403","01-01-0403","2024-04-23","2024-04-23","2024-04-01","2024-04-30",5,"分摊电费（公区）",20.79,null,null,"'已入住","'0","'15306400000029",null,{"$f":"VLOOKUP(B:B,[1]Sheet1!$B:$B,1,0)","v":"叶伍德"}]
["'业主","黄宇轩","1#","'01-01-0405","01-01-0405","2024-04-23","2024-04-23","2024-04-01","2024-04-30",5,"分摊电费（公区）",20.79,null,null,"'装修中","'0","'15306400000030",null,{"$f":"VLOOKUP(B:B,[1]Sheet1!$B:$B,1,0)","v":"黄宇轩"}]
["'业主","谢建榕","1#","'01-01-0406","01-01-0406","2024-04-23","2024-04-23","2024-04-01","2024-04-30",5,"分摊电费（公区）",20.79,null,null,"'已入住","'0","'15306400000031",null,{"$f":"VLOOKUP(B:B,[1]Sheet1!$B:$B,1,0)","v":"谢建榕"}]
["'业主","陈仁凡","1#","'01-01-0407","01-01-0407","2024-04-23","2024-04-23","2024-04-01","2024-04-30",5,"分摊电费（公区）",20.79,null,null,"'已入住","'0","'15306400000032",null,{"$f":"VLOOKUP(B:B,[1]Sheet1!$B:$B,1,0)","v":"陈仁凡"}]
["'业主","陈乐真","1#","'01-01-0408","01-01-0408","2024-04-23","2024-04-23","2024-04-01","2024-04-30",5,"分摊电费（公区）",20.79,null,null,"'已入住","'0","'15306400000033",null,{"$f":"VLOOKUP(B:B,[1]Sheet1!$B:$B,1,0)","v":"陈乐真"}]
["'业主","林雅群","1#","'01-01-0409","01-01-0409","2024-04-23","2024-04-23","2024-04-01","2024-04-30",5,"分摊电费（公区）",20.79,null,null,"'已入住","'0","'15306400000034",null,{"$f":"VLOOKUP(B:B,[1]Sheet1!$B:$B,1,0)","v":"林雅群"}]
["'业主","王胜光","1#","'01-01-0410","01-01-0410","2024-04-23","2024-04-23","2024-04-01","2024-04-30",5,"分摊电费（公区）",20.79,null,null,"'已入住","'0","'15306400000035",null,{"$f":"VLOOKUP(B:B,[1]Sheet1!$B:$B,1,0)","v":"王胜光"}]
["'业主","林伟","1#","'01-01-0412","01-01-0412","2024-04-23","2024-04-23","2024-04-01","2024-04-30",5,"分摊电费（公区）",20.79,null,null,"'已入住","'0","'15306400000036",null,{"$f":"VLOOKUP(B:B,[1]Sheet1!$B:$B,1,0)","v":"林伟"}]
["'业主","陈碧英","1#","'01-01-0501","01-01-0501","2024-04-23","2024-04-23","2024-04-01","2024-04-30",5,"分摊电费（公区）",20.79,null,null,"'已交空置","'0","'15306400000037",null,{"$f":"VLOOKUP(B:B,[1]Sheet1!$B:$B,1,0)","v":"陈碧英"}]
["'业主","陈瑶","1#","'01-01-0503","01-01-0503","2024-04-23","2024-04-23","2024-04-01","2024-04-30",5,"分摊电费（公区）",20.79,null,null,"'不常住（停用）","'0","'15306400000038",null,{"$f":"VLOOKUP(B:B,[1]Sheet1!$B:$B,1,0)","v":"陈瑶"}]
["'业主","林加扬","1#","'01-01-0505","01-01-0505","2024-04-23","2024-04-23","2024-04-01","2024-04-30",5,"分摊电费（公区）",20.79,null,null,"'已入住","'0","'15306400000039",null,{"$f":"VLOOKUP(B:B,[1]Sheet1!$B:$B,1,0)","v":"林加扬"}]
["'业主","方翔","1#","'01-01-0506","01-01-0506","2024-04-23","2024-04-23","2024-04-01","2024-04-30",5,"分摊电费（公区）",20.79,null,null,"'已入住","'0","'15306400000040",null,{"$f":"VLOOKUP(B:B,[1]Sheet1!$B:$B,1,0)","v":"方翔"}]
["'业主","陈晓红","1#","'01-01-0507","01-01-0507","2024-04-23","2024-04-23","2024-04-01","2024-04-30",5,"分摊电费（公区）",20.79,null,null,"'已入住","'0","'15306400000041",null,{"$f":"VLOOKUP(B:B,[1]Sheet1!$B:$B,1,0)","v":"陈晓红"}]
["'业主","黄素良","1#","'01-01-0508","01-01-0508","2024-04-23","2024-04-23","2024-04-01","2024-04-30",5,"分摊电费（公区）",20.79,null,null,"'已入住","'0","'15306400000042",null,{"$f":"VLOOKUP(B:B,[1]Sheet1!$B:$B,1,0)","v":"黄素良"}]
["'业主","徐建昌","1#","'01-01-0509","01-01-0509","2024-04-23","2024-04-23","2024-04-01","2024-04-30",5,"分摊电费（公区）",20.79,null,null,"'已入住","'0","'15306400000043",null,{"$f":"VLOOKUP(B:B,[1]Sheet1!$B:$B,1,0)","v":"徐建昌"}]
["'业主","王梓铭","1#","'01-01-0510","01-01-0510","2024-04-23","2024-04-23","2024-04-01","2024-04-30",5,"分摊电费（公区）",20.79,null,null,"'已入住","'0","'15306400000044",null,{"$f":"VLOOKUP(B:B,[1]Sheet1!$B:$B,1,0)","v":"王梓铭"}]
["'业主","张丽萍","1#","'01-01-0511","01-01-0511","2024-04-23","2024-04-23","2024-04-01","2024-04-30",5,"分摊电费（公区）",20.79,null,null,"'出租中","'0","'15306400000045",null,{"$f":"VLOOKUP(B:B,[1]Sheet1!$B:$B,1,0)","v":"张丽萍"}]
["'业主","林昊","1#","'01-01-0602","01-01-0602","2024-04-23","2024-04-23","2024-04-01","2024-04-30",5,"分摊电费（公区）",20.79,null,null,"'已入住","'0","'15306400000046",null,{"$f":"VLOOKUP(B:B,[1]Sheet1!$B:$B,1,0)","v":"林昊"}]
["'业主","王萍萍","1#","'01-01-0603","01-01-0603","2024-04-23","2024-04-23","2024-04-01","2024-04-30",5,"分摊电费（公区）",20.79,null,null,"'已入住","'0","'15306400000047",null,{"$f":"VLOOKUP(B:B,[1]Sheet1!$B:$B,1,0)","v":"王萍萍"}]
["'业主","林睫菲","1#","'01-01-0605","01-01-0605","2024-04-23","2024-04-23","2024-04-01","2024-04-30",5,"分摊电费（公区）",20.79,null,null,"'已入住","'0","'15306400000048",null,{"$f":"VLOOKUP(B:B,[1]Sheet1!$B:$B,1,0)","v":"林睫菲"}]
["'业主","林同泽","1#","'01-01-0606","01-01-0606","2024-04-23","2024-04-23","2024-04-01","2024-04-30",5,"分摊电费（公区）",20.79,null,null,"'已入住","'0","'15306400000049",null,{"$f":"VLOOKUP(B:B,[1]Sheet1!$B:$B,1,0)","v":"林同泽"}]
["'业主","胡绍兴","1#","'01-01-0607","01-01-0607","2024-04-23","2024-04-23","2024-04-01","2024-04-30",5,"分摊电费（公区）",20.79,null,null,"'已入住","'0","'15306400000050",null,{"$f":"VLOOKUP(B:B,[1]Sheet1!$B:$B,1,0)","v":"胡绍兴"}]
["'业主","林育富","1#","'01-01-0608","01-01-0608","2024-04-23","2024-04-23","2024-04-01","2024-04-30",5,"分摊电费（公区）",20.79,null,null,"'已交空置","'0","'15306400000051",null,{"$f":"VLOOKUP(B:B,[1]Sheet1!$B:$B,1,0)","v":"林育富"}]
["'业主","郑金鑫","1#","'01-01-0609","01-01-0609","2024-04-23","2024-04-23","2024-04-01","2024-04-30",5,"分摊电费（公区）",20.79,null,null,"'已入住","'0","'15306400000052",null,{"$f":"VLOOKUP(B:B,[1]Sheet1!$B:$B,1,0)","v":"郑金鑫"}]
["'业主","范舟","1#","'01-01-0610","01-01-0610","2024-04-23","2024-04-23","2024-04-01","2024-04-30",5,"分摊电费（公区）",20.79,null,null,"'已交空置","'0","'15306400000053",null,{"$f":"VLOOKUP(B:B,[1]Sheet1!$B:$B,1,0)","v":"范舟"}]
["'业主","项灵","1#","'01-01-0612","01-01-0612","2024-04-23","2024-04-23","2024-04-01","2024-04-30",5,"分摊电费（公区）",20.79,null,null,"'不常住（停用）","'0","'15306400000054",null,{"$f":"VLOOKUP(B:B,[1]Sheet1!$B:$B,1,0)","v":"项灵"}]
["'业主","黄原官","1#","'01-01-0701","01-01-0701","2024-04-23","2024-04-23","2024-04-01","2024-04-30",5,"分摊电费（公区）",20.79,null,null,"'出租中","'0","'15306400000055",null,{"$f":"VLOOKUP(B:B,[1]Sheet1!$B:$B,1,0)","v":"黄原官"}]
["'业主","陈晨华","1#","'01-01-0703","01-01-0703","2024-04-23","2024-04-23","2024-04-01","2024-04-30",5,"分摊电费（公区）",20.79,null,null,"'已入住","'0","'15306400000056",null,{"$f":"VLOOKUP(B:B,[1]Sheet1!$B:$B,1,0)","v":"陈晨华"}]
["'业主","林鸿","1#","'01-01-0705","01-01-0705","2024-04-23","2024-04-23","2024-04-01","2024-04-30",5,"分摊电费（公区）",20.79,null,null,"'已入住","'0","'15306400000057",null,{"$f":"VLOOKUP(B:B,[1]Sheet1!$B:$B,1,0)","v":"林鸿"}]
["'业主","陈艳君","1#","'01-01-0706","01-01-0706","2024-04-23","2024-04-23","2024-04-01","2024-04-30",5,"分摊电费（公区）",20.79,null,null,"'已入住","'0","'15306400000058",null,{"$f":"VLOOKUP(B:B,[1]Sheet1!$B:$B,1,0)","v":"陈艳君"}]
["'业主","林彬","1#","'01-01-0707","01-01-0707","2024-04-23","2024-04-23","2024-04-01","2024-04-30",5,"分摊电费（公区）",20.79,null,null,"'已入住","'0","'15306400000059",null,{"$f":"VLOOKUP(B:B,[1]Sheet1!$B:$B,1,0)","v":"林彬"}]
["'业主","李琪琪","1#","'01-01-0708","01-01-0708","2024-04-23","2024-04-23","2024-04-01","2024-04-30",5,"分摊电费（公区）",20.79,null,null,"'已交空置","'0","'15306400000060",null,{"$f":"VLOOKUP(B:B,[1]Sheet1!$B:$B,1,0)","v":"李琪琪"}]
["'业主","黄小露","1#","'01-01-0709","01-01-0709","2024-04-23","2024-04-23","2024-04-01","2024-04-30",5,"分摊电费（公区）",20.79,null,null,"'不常住（停用）","'0","'15306400000061",null,{"$f":"VLOOKUP(B:B,[1]Sheet1!$B:$B,1,0)","v":"黄小露"}]
["'业主","黄俊杰","1#","'01-01-0710","01-01-0710","2024-04-23","2024-04-23","2024-04-01","2024-04-30",5,"分摊电费（公区）",20.79,null,null,"'已入住","'0","'15306400000062",null,{"$f":"VLOOKUP(B:B,[1]Sheet1!$B:$B,1,0)","v":"黄俊杰"}]
["'业主","王炳志","1#","'01-01-0711","01-01-0711","2024-04-23","2024-04-23","2024-04-01","2024-04-30",5,"分摊电费（公区）",20.79,null,null,"'已入住","'0","'15306400000063",null,{"$f":"VLOOKUP(B:B,[1]Sheet1!$B:$B,1,0)","v":"王炳志"}]
["'业主","郭荣凤","1#","'01-01-0802","01-01-0802","2024-04-23","2024-04-23","2024-04-01","2024-04-30",5,"分摊电费（公区）",20.79,null,null,"'已入住","'0","'15306400000064",null,{"$f":"VLOOKUP(B:B,[1]Sheet1!$B:$B,1,0)","v":"郭荣凤"}]
["'业主","陈菲","1#","'01-01-0803","01-01-0803","2024-04-23","2024-04-23","2024-04-01","2024-04-30",5,"分摊电费（公区）",20.79,null,null,"'已入住","'0","'15306400000065",null,{"$f":"VLOOKUP(B:B,[1]Sheet1!$B:$B,1,0)","v":"陈菲"}]
["'业主","郑大毅吴红萍","1#","'01-01-0805","01-01-0805","2024-04-23","2024-04-23","2024-04-01","2024-04-30",5,"分摊电费（公区）",20.79,null,null,"'已入住","'0","'15306400000066",null,{"$f":"VLOOKUP(B:B,[1]Sheet1!$B:$B,1,0)","v":"郑大毅吴红萍"}]
["'业主","傅宗敏","1#","'01-01-0806","01-01-0806","2024-04-23","2024-04-23","2024-04-01","2024-04-30",5,"分摊电费（公区）",20.79,null,null,"'已入住","'0","'15306400000067",null,{"$f":"VLOOKUP(B:B,[1]Sheet1!$B:$B,1,0)","v":"傅宗敏"}]
["'业主","刘丽滨","1#","'01-01-0807","01-01-0807","2024-04-23","2024-04-23","2024-04-01","2024-04-30",5,"分摊电费（公区）",20.79,null,null,"'已入住","'0","'15306400000068",null,{"$f":"VLOOKUP(B:B,[1]Sheet1!$B:$B,1,0)","v":"刘丽滨"}]
["'业主","刘文暖","1#","'01-01-0808","01-01-0808","2024-04-23","2024-04-23","2024-04-01","2024-04-30",5,"分摊电费（公区）",20.79,null,null,"'已交空置","'0","'15306400000069",null,{"$f":"VLOOKUP(B:B,[1]Sheet1!$B:$B,1,0)","v":"刘文暖"}]
["'业主","谢九生","1#","'01-01-0809","01-01-0809","2024-04-23","2024-04-23","2024-04-01","2024-04-30",5,"分摊电费（公区）",20.79,null,null,"'已入住","'0","'15306400000761",null,{"$f":"VLOOKUP(B:B,[1]Sheet1!$B:$B,1,0)","v":"谢九生"}]
["'业主","高碧文","1#","'01-01-0810","01-01-0810","2024-04-23","2024-04-23","2024-04-01","2024-04-30",5,"分摊电费（公区）",20.79,null,null,"'已入住","'0","'15306400000070",null,{"$f":"VLOOKUP(B:B,[1]Sheet1!$B:$B,1,0)","v":"高碧文"}]
["'业主","林绅","1#","'01-01-0812","01-01-0812","2024-04-23","2024-04-23","2024-04-01","2024-04-30",5,"分摊电费（公区）",20.79,null,null,"'已交空置","'0","'15306400000071",null,{"$f":"VLOOKUP(B:B,[1]Sheet1!$B:$B,1,0)","v":"林绅"}]
["'业主","林燕华","1#","'01-01-0901","01-01-0901","2024-04-23","2024-04-23","2024-04-01","2024-04-30",5,"分摊电费（公区）",20.79,null,null,"'不常住（停用）","'0","'15306400000760",null,{"$f":"VLOOKUP(B:B,[1]Sheet1!$B:$B,1,0)","v":"林燕华"}]
["'业主","李霞","1#","'01-01-0903","01-01-0903","2024-04-23","2024-04-23","2024-04-01","2024-04-30",5,"分摊电费（公区）",20.79,null,null,"'已交空置","'0","'15306400000073",null,{"$f":"VLOOKUP(B:B,[1]Sheet1!$B:$B,1,0)","v":"李霞"}]
["'业主","赖有铠","1#","'01-01-0905","01-01-0905","2024-04-23","2024-04-23","2024-04-01","2024-04-30",5,"分摊电费（公区）",20.79,null,null,"'已入住","'0","'15306400000074",null,{"$f":"VLOOKUP(B:B,[1]Sheet1!$B:$B,1,0)","v":"赖有铠"}]
["'业主","陈金华","1#","'01-01-0906","01-01-0906","2024-04-23","2024-04-23","2024-04-01","2024-04-30",5,"分摊电费（公区）",20.79,null,null,"'已入住","'0","'15306400000075",null,{"$f":"VLOOKUP(B:B,[1]Sheet1!$B:$B,1,0)","v":"陈金华"}]
["'业主","唐亭","1#","'01-01-0907","01-01-0907","2024-04-23","2024-04-23","2024-04-01","2024-04-30",5,"分摊电费（公区）",20.79,null,null,"'出租中","'0","'15306400000076",null,{"$f":"VLOOKUP(B:B,[1]Sheet1!$B:$B,1,0)","v":"唐亭"}]
["'业主","林冰","1#","'01-01-0908","01-01-0908","2024-04-23","2024-04-23","2024-04-01","2024-04-30",5,"分摊电费（公区）",20.79,null,null,"'已交空置","'0","'15306400000077",null,{"$f":"VLOOKUP(B:B,[1]Sheet1!$B:$B,1,0)","v":"林冰"}]
["'业主","周林龙","1#","'01-01-0909","01-01-0909","2024-04-23","2024-04-23","2024-04-01","2024-04-30",5,"分摊电费（公区）",20.79,null,null,"'不常住（停用）","'0","'15306400000078",null,{"$f":"VLOOKUP(B:B,[1]Sheet1!$B:$B,1,0)","v":"周林龙"}]
["'业主","郑小珍","1#","'01-01-0910","01-01-0910","2024-04-23","2024-04-23","2024-04-01","2024-04-30",5,"分摊电费（公区）",20.79,null,null,"'装修中","'0","'15306400000072",null,{"$f":"VLOOKUP(B:B,[1]Sheet1!$B:$B,1,0)","v":"郑小珍"}]
["'业主","陈宇","1#","'01-01-0911","01-01-0911","2024-04-23","2024-04-23","2024-04-01","2024-04-30",5,"分摊电费（公区）",20.79,null,null,"'已交空置","'0","'15306400000079",null,{"$f":"VLOOKUP(B:B,[1]Sheet1!$B:$B,1,0)","v":"陈宇"}]
["'业主","王娜","2#","'02-01-0101","02-01-0101","2024-04-23","2024-04-23","2024-04-01","2024-04-30",5,"分摊电费（公区）",20.79,null,null,"'已售未交","'0","'15306400000764",null,{"$f":"VLOOKUP(B:B,[1]Sheet1!$B:$B,1,0)","v":"王娜"}]
["'业主","张定东","2#","'02-01-0102","02-01-0102","2024-04-23","2024-04-23","2024-04-01","2024-04-30",5,"分摊电费（公区）",20.79,null,null,"'已入住","'0","'15306400000195",null,{"$f":"VLOOKUP(B:B,[1]Sheet1!$B:$B,1,0)","v":"张定东"}]
["'业主","蒋思蕊","2#","'02-01-0103","02-01-0103","2024-04-23","2024-04-23","2024-04-01","2024-04-30",5,"分摊电费（公区）",20.79,null,null,"'已交空置","'0","'15306400000196",null,{"$f":"VLOOKUP(B:B,[1]Sheet1!$B:$B,1,0)","v":"蒋思蕊"}]
["'业主","郝晋","2#","'02-01-0107","02-01-0107","2024-04-23","2024-04-23","2024-04-01","2024-04-30",5,"分摊电费（公区）",20.79,null,null,"'已入住","'0","'15306400000199",null,{"$f":"VLOOKUP(B:B,[1]Sheet1!$B:$B,1,0)","v":"郝晋"}]
["'业主","郑晓宁","2#","'02-01-0108","02-01-0108","2024-04-23","2024-04-23","2024-04-01","2024-04-30",5,"分摊电费（公区）",20.79,null,null,"'已交空置","'0","'15306400000200",null,{"$f":"VLOOKUP(B:B,[1]Sheet1!$B:$B,1,0)","v":"郑晓宁"}]
["'业主","章秀清","2#","'02-01-0109","02-01-0109","2024-04-23","2024-04-23","2024-04-01","2024-04-30",5,"分摊电费（公区）",20.79,null,null,"'已入住","'0","'15306400000201",null,{"$f":"VLOOKUP(B:B,[1]Sheet1!$B:$B,1,0)","v":"章秀清"}]
["'业主","柯涵端","2#","'02-01-0110","02-01-0110","2024-04-23","2024-04-23","2024-04-01","2024-04-30",5,"分摊电费（公区）",20.79,null,null,"'已入住","'0","'15306400000202",null,{"$f":"VLOOKUP(B:B,[1]Sheet1!$B:$B,1,0)","v":"柯涵端"}]
["'业主","邱龙","2#","'02-01-0111","02-01-0111","2024-04-23","2024-04-23","2024-04-01","2024-04-30",5,"分摊电费（公区）",20.79,null,null,"'已入住","'0","'15306400000203",null,{"$f":"VLOOKUP(B:B,[1]Sheet1!$B:$B,1,0)","v":"邱龙"}]
["'业主","李骞","2#","'02-01-0112","02-01-0112","2024-04-23","2024-04-23","2024-04-01","2024-04-30",5,"分摊电费（公区）",20.79,null,null,"'已交空置","'0","'15306400000204",null,{"$f":"VLOOKUP(B:B,[1]Sheet1!$B:$B,1,0)","v":"李骞"}]
["'业主","檀青云","2#","'02-01-0113","02-01-0113","2024-04-23","2024-04-23","2024-04-01","2024-04-30",5,"分摊电费（公区）",20.79,null,null,"'已入住","'0","'15306400000205",null,{"$f":"VLOOKUP(B:B,[1]Sheet1!$B:$B,1,0)","v":"檀青云"}]
["'业主","林敏","2#","'02-01-1101","02-01-1101","2024-04-23","2024-04-23","2024-04-01","2024-04-30",5,"分摊电费（公区）",20.79,null,null,"'已入住","'0","'15306400000254",null,{"$f":"VLOOKUP(B:B,[1]Sheet1!$B:$B,1,0)","v":"林敏"}]
["'业主","唐茹彦","2#","'02-01-1102","02-01-1102","2024-04-23","2024-04-23","2024-04-01","2024-04-30",5,"分摊电费（公区）",20.79,null,null,"'已入住","'0","'15306400000255",null,{"$f":"VLOOKUP(B:B,[1]Sheet1!$B:$B,1,0)","v":"唐茹彦"}]
["'业主","叶承国","2#","'02-01-1103","02-01-1103","2024-04-23","2024-04-23","2024-04-01","2024-04-30",5,"分摊电费（公区）",20.79,null,null,"'已交空置","'0","'15306400000256",null,{"$f":"VLOOKUP(B:B,[1]Sheet1!$B:$B,1,0)","v":"叶承国"}]
["'业主","吴淑英","2#","'02-01-1105","02-01-1105","2024-04-23","2024-04-23","2024-04-01","2024-04-30",5,"分摊电费（公区）",20.79,null,null,"'已入住","'0","'15306400000257",null,{"$f":"VLOOKUP(B:B,[1]Sheet1!$B:$B,1,0)","v":"吴淑英"}]
["'业主","张清楠","2#","'02-01-1106","02-01-1106","2024-04-23","2024-04-23","2024-04-01","2024-04-30",5,"分摊电费（公区）",20.79,null,null,"'已交空置","'0","'15306400000258",null,{"$f":"VLOOKUP(B:B,[1]Sheet1!$B:$B,1,0)","v":"张清楠"}]
["'业主","马驰","2#","'02-01-1107","02-01-1107","2024-04-23","2024-04-23","2024-04-01","2024-04-30",5,"分摊电费（公区）",20.79,null,null,"'出租中","'0","'15306400000259",null,{"$f":"VLOOKUP(B:B,[1]Sheet1!$B:$B,1,0)","v":"马驰"}]
["'业主","黄鸿铭","2#","'02-01-1108","02-01-1108","2024-04-23","2024-04-23","2024-04-01","2024-04-30",5,"分摊电费（公区）",20.79,null,null,"'出租中","'0","'15306400000260",null,{"$f":"VLOOKUP(B:B,[1]Sheet1!$B:$B,1,0)","v":"黄鸿铭"}]
["'业主","黄友铿","2#","'02-01-1109","02-01-1109","2024-04-23","2024-04-23","2024-04-01","2024-04-30",5,"分摊电费（公区）",20.79,null,null,"'已入住","'0","'15306400000261",null,{"$f":"VLOOKUP(B:B,[1]Sheet1!$B:$B,1,0)","v":"黄友铿"}]
["'业主","苏凡","2#","'02-01-1110","02-01-1110","2024-04-23","2024-04-23","2024-04-01","2024-04-30",5,"分摊电费（公区）",20.79,null,null,"'已交空置","'0","'15306400000262",null,{"$f":"VLOOKUP(B:B,[1]Sheet1!$B:$B,1,0)","v":"苏凡"}]
["'业主","黄敏","2#","'02-01-1111","02-01-1111","2024-04-23","2024-04-23","2024-04-01","2024-04-30",5,"分摊电费（公区）",20.79,null,null,"'已交空置","'0","'15306400000263",null,{"$f":"VLOOKUP(B:B,[1]Sheet1!$B:$B,1,0)","v":"黄敏"}]
["'业主","卞全","2#","'02-01-1112","02-01-1112","2024-04-23","2024-04-23","2024-04-01","2024-04-30",5,"分摊电费（公区）",20.79,null,null,"'已入住","'0","'15306400000264",null,{"$f":"VLOOKUP(B:B,[1]Sheet1!$B:$B,1,0)","v":"卞全"}]
["'业主","王君斌","2#","'02-01-1113","02-01-1113","2024-04-23","2024-04-23","2024-04-01","2024-04-30",5,"分摊电费（公区）",20.79,null,null,"'已交空置","'0","'15306400000265",null,{"$f":"VLOOKUP(B:B,[1]Sheet1!$B:$B,1,0)","v":"王君斌"}]
["'业主","颜翔","2#","'02-01-1301","02-01-1301","2024-04-23","2024-04-23","2024-04-01","2024-04-30",5,"分摊电费（公区）",20.79,null,null,"'已入住","'0","'15306400000266",null,{"$f":"VLOOKUP(B:B,[1]Sheet1!$B:$B,1,0)","v":"颜翔"}]
["'业主","林坚","2#","'02-01-1302","02-01-1302","2024-04-23","2024-04-23","2024-04-01","2024-04-30",5,"分摊电费（公区）",20.79,null,null,"'已入住","'0","'15306400000267",null,{"$f":"VLOOKUP(B:B,[1]Sheet1!$B:$B,1,0)","v":"林坚"}]
["'业主","聂玉平","2#","'02-01-1303","02-01-1303","2024-04-23","2024-04-23","2024-04-01","2024-04-30",5,"分摊电费（公区）",20.79,null,null,"'已交空置","'0","'15306400000268",null,{"$f":"VLOOKUP(B:B,[1]Sheet1!$B:$B,1,0)","v":"聂玉平"}]
["'业主","陈丹","2#","'02-01-1305","02-01-1305","2024-04-23","2024-04-23","2024-04-01","2024-04-30",5,"分摊电费（公区）",20.79,null,null,"'已交空置","'0","'15306400000269",null,{"$f":"VLOOKUP(B:B,[1]Sheet1!$B:$B,1,0)","v":"陈丹"}]
["'业主","吴艳青","2#","'02-01-1306","02-01-1306","2024-04-23","2024-04-23","2024-04-01","2024-04-30",5,"分摊电费（公区）",20.79,null,null,"'已交空置","'0","'15306400000270",null,{"$f":"VLOOKUP(B:B,[1]Sheet1!$B:$B,1,0)","v":"吴艳青"}]
["'业主","黄婧","2#","'02-01-1307","02-01-1307","2024-04-23","2024-04-23","2024-04-01","2024-04-30",5,"分摊电费（公区）",20.79,null,null,"'已入住","'0","'15306400000271",null,{"$f":"VLOOKUP(B:B,[1]Sheet1!$B:$B,1,0)","v":"黄婧"}]
["'业主","黄静","2#","'02-01-1308","02-01-1308","2024-04-23","2024-04-23","2024-04-01","2024-04-30",5,"分摊电费（公区）",20.79,null,null,"'已入住","'0","'15306400000272",null,{"$f":"VLOOKUP(B:B,[1]Sheet1!$B:$B,1,0)","v":"黄静"}]
["'业主","黄明杰","2#","'02-01-1309","02-01-1309","2024-04-23","2024-04-23","2024-04-01","2024-04-30",5,"分摊电费（公区）",20.79,null,null,"'已入住","'0","'15306400000273",null,{"$f":"VLOOKUP(B:B,[1]Sheet1!$B:$B,1,0)","v":"黄明杰"}]
["'业主","李榕华","2#","'02-01-1310","02-01-1310","2024-04-23","2024-04-23","2024-04-01","2024-04-30",5,"分摊电费（公区）",20.79,null,null,"'已交空置","'0","'15306400000274",null,{"$f":"VLOOKUP(B:B,[1]Sheet1!$B:$B,1,0)","v":"李榕华"}]
["'业主","王伊琳","2#","'02-01-1311","02-01-1311","2024-04-23","2024-04-23","2024-04-01","2024-04-30",5,"分摊电费（公区）",20.79,null,null,"'已交空置","'0","'15306400000275",null,{"$f":"VLOOKUP(B:B,[1]Sheet1!$B:$B,1,0)","v":"王伊琳"}]
["'业主","李阳","2#","'02-01-1312","02-01-1312","2024-04-23","2024-04-23","2024-04-01","2024-04-30",5,"分摊电费（公区）",20.79,null,null,"'已入住","'0","'15306400000276",null,{"$f":"VLOOKUP(B:B,[1]Sheet1!$B:$B,1,0)","v":"李阳"}]
["'业主","高明","2#","'02-01-1313","02-01-1313","2024-04-23","2024-04-23","2024-04-01","2024-04-30",5,"分摊电费（公区）",20.79,null,null,"'已入住","'0","'15306400000277",null,{"$f":"VLOOKUP(B:B,[1]Sheet1!$B:$B,1,0)","v":"高明"}]
["'业主","黄冬","2#","'02-01-1501","02-01-1501","2024-04-23","2024-04-23","2024-04-01","2024-04-30",5,"分摊电费（公区）",20.79,null,null,"'已入住","'0","'15306400000278",null,{"$f":"VLOOKUP(B:B,[1]Sheet1!$B:$B,1,0)","v":"黄冬"}]
["'业主","林承江","2#","'02-01-1502","02-01-1502","2024-04-23","2024-04-23","2024-04-01","2024-04-30",5,"分摊电费（公区）",20.79,null,null,"'已交空置","'0","'15306400000279",null,{"$f":"VLOOKUP(B:B,[1]Sheet1!$B:$B,1,0)","v":"林承江"}]
["'业主","骆凯颖","2#","'02-01-1503","02-01-1503","2024-04-23","2024-04-23","2024-04-01","2024-04-30",5,"分摊电费（公区）",20.79,null,null,"'已交空置","'0","'15306400000280",null,{"$f":"VLOOKUP(B:B,[1]Sheet1!$B:$B,1,0)","v":"骆凯颖"}]
["'业主","苏进来","2#","'02-01-1505","02-01-1505","2024-04-23","2024-04-23","2024-04-01","2024-04-30",5,"分摊电费（公区）",20.79,null,null,"'已入住","'0","'15306400000281",null,{"$f":"VLOOKUP(B:B,[1]Sheet1!$B:$B,1,0)","v":"苏进来"}]
["'业主","林鹤萍","2#","'02-01-1506","02-01-1506","2024-04-23","2024-04-23","2024-04-01","2024-04-30",5,"分摊电费（公区）",20.79,null,null,"'已交空置","'0","'15306400000282",null,{"$f":"VLOOKUP(B:B,[1]Sheet1!$B:$B,1,0)","v":"林鹤萍"}]
["'业主","卢婷","2#","'02-01-1507","02-01-1507","2024-04-23","2024-04-23","2024-04-01","2024-04-30",5,"分摊电费（公区）",20.79,null,null,"'已入住","'0","'15306400000283",null,{"$f":"VLOOKUP(B:B,[1]Sheet1!$B:$B,1,0)","v":"卢婷"}]
["'业主","张乃鼎","2#","'02-01-1508","02-01-1508","2024-04-23","2024-04-23","2024-04-01","2024-04-30",5,"分摊电费（公区）",20.79,null,null,"'已入住","'0","'15306400000284",null,{"$f":"VLOOKUP(B:B,[1]Sheet1!$B:$B,1,0)","v":"张乃鼎"}]
["'业主","朱双福","2#","'02-01-1509","02-01-1509","2024-04-23","2024-04-23","2024-04-01","2024-04-30",5,"分摊电费（公区）",20.79,null,null,"'已入住","'0","'15306400000285",null,{"$f":"VLOOKUP(B:B,[1]Sheet1!$B:$B,1,0)","v":"朱双福"}]
["'业主","游海燕","2#","'02-01-1510","02-01-1510","2024-04-23","2024-04-23","2024-04-01","2024-04-30",5,"分摊电费（公区）",20.79,null,null,"'已交空置","'0","'15306400000286",null,{"$f":"VLOOKUP(B:B,[1]Sheet1!$B:$B,1,0)","v":"游海燕"}]
["'业主","易伟强","2#","'02-01-1511","02-01-1511","2024-04-23","2024-04-23","2024-04-01","2024-04-30",5,"分摊电费（公区）",20.79,null,null,"'已入住","'0","'15306400000287",null,{"$f":"VLOOKUP(B:B,[1]Sheet1!$B:$B,1,0)","v":"易伟强"}]
["'业主","黄雅琴","2#","'02-01-1512","02-01-1512","2024-04-23","2024-04-23","2024-04-01","2024-04-30",5,"分摊电费（公区）",20.79,null,null,"'已交空置","'0","'15306400000288",null,{"$f":"VLOOKUP(B:B,[1]Sheet1!$B:$B,1,0)","v":"黄雅琴"}]
["'业主","高燕","2#","'02-01-1513","02-01-1513","2024-04-23","2024-04-23","2024-04-01","2024-04-30",5,"分摊电费（公区）",20.79,null,null,"'已入住","'0","'15306400000289",null,{"$f":"VLOOKUP(B:B,[1]Sheet1!$B:$B,1,0)","v":"高燕"}]
["'业主","胡阳洋","2#","'02-01-1701","02-01-1701","2024-04-23","2024-04-23","2024-04-01","2024-04-30",5,"分摊电费（公区）",20.79,null,null,"'已交空置","'0","'15306400000290",null,{"$f":"VLOOKUP(B:B,[1]Sheet1!$B:$B,1,0)","v":"胡阳洋"}]
["'业主","杨建鹏","2#","'02-01-1702","02-01-1702","2024-04-23","2024-04-23","2024-04-01","2024-04-30",5,"分摊电费（公区）",20.79,null,null,"'已入住","'0","'15306400000291",null,{"$f":"VLOOKUP(B:B,[1]Sheet1!$B:$B,1,0)","v":"杨建鹏"}]
["'业主","余宁英","2#","'02-01-1703","02-01-1703","2024-04-23","2024-04-23","2024-04-01","2024-04-30",5,"分摊电费（公区）",20.79,null,null,"'已交空置","'0","'15306400000292",null,{"$f":"VLOOKUP(B:B,[1]Sheet1!$B:$B,1,0)","v":"余宁英"}]
["'业主","李磊","2#","'02-01-1705","02-01-1705","2024-04-23","2024-04-23","2024-04-01","2024-04-30",5,"分摊电费（公区）",20.79,null,null,"'已入住","'0","'15306400000293",null,{"$f":"VLOOKUP(B:B,[1]Sheet1!$B:$B,1,0)","v":"李磊"}]
["'业主","杨也","2#","'02-01-1706","02-01-1706","2024-04-23","2024-04-23","2024-04-01","2024-04-30",5,"分摊电费（公区）",20.79,null,null,"'已入住","'0","'15306400000294",null,{"$f":"VLOOKUP(B:B,[1]Sheet1!$B:$B,1,0)","v":"杨也"}]
["'业主","周泽荣","2#","'02-01-1707","02-01-1707","2024-04-23","2024-04-23","2024-04-01","2024-04-30",5,"分摊电费（公区）",20.79,null,null,"'已交空置","'0","'15306400000295",null,{"$f":"VLOOKUP(B:B,[1]Sheet1!$B:$B,1,0)","v":"周泽荣"}]
["'业主","刘伦春","2#","'02-01-1708","02-01-1708","2024-04-23","2024-04-23","2024-04-01","2024-04-30",5,"分摊电费（公区）",20.79,null,null,"'已交空置","'0","'15306400000296",null,{"$f":"VLOOKUP(B:B,[1]Sheet1!$B:$B,1,0)","v":"刘伦春"}]
["'业主","吴杰","2#","'02-01-1709","02-01-1709","2024-04-23","2024-04-23","2024-04-01","2024-04-30",5,"分摊电费（公区）",20.79,null,null,"'已入住","'0","'15306400000297",null,{"$f":"VLOOKUP(B:B,[1]Sheet1!$B:$B,1,0)","v":"吴杰"}]
["'业主","阮团英","2#","'02-01-1710","02-01-1710","2024-04-23","2024-04-23","2024-04-01","2024-04-30",5,"分摊电费（公区）",20.79,null,null,"'已交空置","'0","'15306400000298",null,{"$f":"VLOOKUP(B:B,[1]Sheet1!$B:$B,1,0)","v":"阮团英"}]
["'业主","苏阳凇","2#","'02-01-1711","02-01-1711","2024-04-23","2024-04-23","2024-04-01","2024-04-30",5,"分摊电费（公区）",20.79,null,null,"'已交空置","'0","'15306400000299",null,{"$f":"VLOOKUP(B:B,[1]Sheet1!$B:$B,1,0)","v":"苏阳凇"}]
["'业主","江美铃","2#","'02-01-1712","02-01-1712","2024-04-23","2024-04-23","2024-04-01","2024-04-30",5,"分摊电费（公区）",20.79,null,null,"'已交空置","'0","'15306400000300",null,{"$f":"VLOOKUP(B:B,[1]Sheet1!$B:$B,1,0)","v":"江美铃"}]
["'业主","邓煌","2#","'02-01-1713","02-01-1713","2024-04-23","2024-04-23","2024-04-01","2024-04-30",5,"分摊电费（公区）",20.79,null,null,"'已交空置","'0","'15306400000301",null,{"$f":"VLOOKUP(B:B,[1]Sheet1!$B:$B,1,0)","v":"邓煌"}]
["'业主","王勇健","2#","'02-01-1901","02-01-1901","2024-04-23","2024-04-23","2024-04-01","2024-04-30",5,"分摊电费（公区）",20.79,null,null,"'已交空置","'0","'15306400000302",null,{"$f":"VLOOKUP(B:B,[1]Sheet1!$B:$B,1,0)","v":"王勇健"}]
["'业主","王露珍","2#","'02-01-1902","02-01-1902","2024-04-23","2024-04-23","2024-04-01","2024-04-30",5,"分摊电费（公区）",20.79,null,null,"'已入住","'0","'15306400000303",null,{"$f":"VLOOKUP(B:B,[1]Sheet1!$B:$B,1,0)","v":"王露珍"}]
["'业主","林强","2#","'02-01-1903","02-01-1903","2024-04-23","2024-04-23","2024-04-01","2024-04-30",5,"分摊电费（公区）",20.79,null,null,"'出租中","'0","'15306400000304",null,{"$f":"VLOOKUP(B:B,[1]Sheet1!$B:$B,1,0)","v":"林强"}]
["'业主","许辛冬","2#","'02-01-1905","02-01-1905","2024-04-23","2024-04-23","2024-04-01","2024-04-30",5,"分摊电费（公区）",20.79,null,null,"'已入住","'0","'15306400000305",null,{"$f":"VLOOKUP(B:B,[1]Sheet1!$B:$B,1,0)","v":"许辛冬"}]
["'业主","林兆淦","2#","'02-01-1906","02-01-1906","2024-04-23","2024-04-23","2024-04-01","2024-04-30",5,"分摊电费（公区）",20.79,null,null,"'已入住","'0","'15306400000306",null,{"$f":"VLOOKUP(B:B,[1]Sheet1!$B:$B,1,0)","v":"林兆淦"}]
["'业主","张翔","2#","'02-01-1908","02-01-1908","2024-04-23","2024-04-23","2024-04-01","2024-04-30",5,"分摊电费（公区）",20.79,null,null,"'已入住","'0","'15306400000308",null,{"$f":"VLOOKUP(B:B,[1]Sheet1!$B:$B,1,0)","v":"张翔"}]
["'业主","叶文","2#","'02-01-1909","02-01-1909","2024-04-23","2024-04-23","2024-04-01","2024-04-30",5,"分摊电费（公区）",20.79,null,null,"'已交空置","'0","'15306400000309",null,{"$f":"VLOOKUP(B:B,[1]Sheet1!$B:$B,1,0)","v":"叶文"}]
["'业主","叶金兰","2#","'02-01-1910","02-01-1910","2024-04-23","2024-04-23","2024-04-01","2024-04-30",5,"分摊电费（公区）",20.79,null,null,"'已交空置","'0","'15306400000310",null,{"$f":"VLOOKUP(B:B,[1]Sheet1!$B:$B,1,0)","v":"叶金兰"}]
["'业主","黄舒宇","2#","'02-01-1911","02-01-1911","2024-04-23","2024-04-23","2024-04-01","2024-04-30",5,"分摊电费（公区）",20.79,null,null,"'已入住","'0","'15306400000311",null,{"$f":"VLOOKUP(B:B,[1]Sheet1!$B:$B,1,0)","v":"黄舒宇"}]
["'业主","李珎","2#","'02-01-1912","02-01-1912","2024-04-23","2024-04-23","2024-04-01","2024-04-30",5,"分摊电费（公区）",20.79,null,null,"'已入住","'0","'15306400000312",null,{"$f":"VLOOKUP(B:B,[1]Sheet1!$B:$B,1,0)","v":"李珎"}]
["'业主","黄晓霞","2#","'02-01-1913","02-01-1913","2024-04-23","2024-04-23","2024-04-01","2024-04-30",5,"分摊电费（公区）",20.79,null,null,"'已交空置","'0","'15306400000313",null,{"$f":"VLOOKUP(B:B,[1]Sheet1!$B:$B,1,0)","v":"黄晓霞"}]
["'业主","陈金艳","2#","'02-01-2101","02-01-2101","2024-04-23","2024-04-23","2024-04-01","2024-04-30",5,"分摊电费（公区）",20.79,null,null,"'已入住","'0","'15306400000314",null,{"$f":"VLOOKUP(B:B,[1]Sheet1!$B:$B,1,0)","v":"陈金艳"}]
["'业主","邵东珂","2#","'02-01-2102","02-01-2102","2024-04-23","2024-04-23","2024-04-01","2024-04-30",5,"分摊电费（公区）",20.79,null,null,"'已入住","'0","'15306400000315",null,{"$f":"VLOOKUP(B:B,[1]Sheet1!$B:$B,1,0)","v":"邵东珂"}]
["'业主","吴闽云","2#","'02-01-2103","02-01-2103","2024-04-23","2024-04-23","2024-04-01","2024-04-30",5,"分摊电费（公区）",20.79,null,null,"'已入住","'0","'15306400000316",null,{"$f":"VLOOKUP(B:B,[1]Sheet1!$B:$B,1,0)","v":"吴闽云"}]
["'业主","陈秋","2#","'02-01-2105","02-01-2105","2024-04-23","2024-04-23","2024-04-01","2024-04-30",5,"分摊电费（公区）",20.79,null,null,"'已入住","'0","'15306400000317",null,{"$f":"VLOOKUP(B:B,[1]Sheet1!$B:$B,1,0)","v":"陈秋"}]
["'业主","严朝晖","2#","'02-01-2106","02-01-2106","2024-04-23","2024-04-23","2024-04-01","2024-04-30",5,"分摊电费（公区）",20.79,null,null,"'已交空置","'0","'15306400000318",null,{"$f":"VLOOKUP(B:B,[1]Sheet1!$B:$B,1,0)","v":"严朝晖"}]
["'业主","林钟亮","2#","'02-01-2107","02-01-2107","2024-04-23","2024-04-23","2024-04-01","2024-04-30",5,"分摊电费（公区）",20.79,null,null,"'已入住","'0","'15306400000319",null,{"$f":"VLOOKUP(B:B,[1]Sheet1!$B:$B,1,0)","v":"林钟亮"}]
["'业主","刘文华","2#","'02-01-2108","02-01-2108","2024-04-23","2024-04-23","2024-04-01","2024-04-30",5,"分摊电费（公区）",20.79,null,null,"'已入住","'0","'15306400000320",null,{"$f":"VLOOKUP(B:B,[1]Sheet1!$B:$B,1,0)","v":"刘文华"}]
["'业主","叶子欣","2#","'02-01-2109","02-01-2109","2024-04-23","2024-04-23","2024-04-01","2024-04-30",5,"分摊电费（公区）",20.79,null,null,"'已入住","'0","'15306400000321",null,{"$f":"VLOOKUP(B:B,[1]Sheet1!$B:$B,1,0)","v":"叶子欣"}]
["'业主","吴斯特","2#","'02-01-2111","02-01-2111","2024-04-23","2024-04-23","2024-04-01","2024-04-30",5,"分摊电费（公区）",20.79,null,null,"'已入住","'0","'15306400000323",null,{"$f":"VLOOKUP(B:B,[1]Sheet1!$B:$B,1,0)","v":"吴斯特"}]
["'业主","林明秀","2#","'02-01-2112","02-01-2112","2024-04-23","2024-04-23","2024-04-01","2024-04-30",5,"分摊电费（公区）",20.79,null,null,"'已入住","'0","'15306400000324",null,{"$f":"VLOOKUP(B:B,[1]Sheet1!$B:$B,1,0)","v":"林明秀"}]
["'业主","郑茂晟","2#","'02-01-2113","02-01-2113","2024-04-23","2024-04-23","2024-04-01","2024-04-30",5,"分摊电费（公区）",20.79,null,null,"'已交空置","'0","'15306400000325",null,{"$f":"VLOOKUP(B:B,[1]Sheet1!$B:$B,1,0)","v":"郑茂晟"}]
["'业主","刘新盈","2#","'02-01-0301","02-01-0301","2024-04-23","2024-04-23","2024-04-01","2024-04-30",5,"分摊电费（公区）",20.79,null,null,"'已入住","'0","'15306400000206",null,{"$f":"VLOOKUP(B:B,[1]Sheet1!$B:$B,1,0)","v":"刘新盈"}]
["'业主","谢斌","2#","'02-01-0302","02-01-0302","2024-04-23","2024-04-23","2024-04-01","2024-04-30",5,"分摊电费（公区）",20.79,null,null,"'已入住","'0","'15306400000207",null,{"$f":"VLOOKUP(B:B,[1]Sheet1!$B:$B,1,0)","v":"谢斌"}]
["'业主","陈瑞东","2#","'02-01-0303","02-01-0303","2024-04-23","2024-04-23","2024-04-01","2024-04-30",5,"分摊电费（公区）",20.79,null,null,"'已交空置","'0","'15306400000208",null,{"$f":"VLOOKUP(B:B,[1]Sheet1!$B:$B,1,0)","v":"陈瑞东"}]
["'业主","黄小群","2#","'02-01-0305","02-01-0305","2024-04-23","2024-04-23","2024-04-01","2024-04-30",5,"分摊电费（公区）",20.79,null,null,"'已入住","'0","'15306400000209",null,{"$f":"VLOOKUP(B:B,[1]Sheet1!$B:$B,1,0)","v":"黄小群"}]
["'业主","陈沐","2#","'02-01-0306","02-01-0306","2024-04-23","2024-04-23","2024-04-01","2024-04-30",5,"分摊电费（公区）",20.79,null,null,"'已入住","'0","'15306400000210",null,{"$f":"VLOOKUP(B:B,[1]Sheet1!$B:$B,1,0)","v":"陈沐"}]
["'业主","卓倩雯","2#","'02-01-0307","02-01-0307","2024-04-23","2024-04-23","2024-04-01","2024-04-30",5,"分摊电费（公区）",20.79,null,null,"'已入住","'0","'15306400000211",null,{"$f":"VLOOKUP(B:B,[1]Sheet1!$B:$B,1,0)","v":"卓倩雯"}]
["'业主","张琳","2#","'02-01-0308","02-01-0308","2024-04-23","2024-04-23","2024-04-01","2024-04-30",5,"分摊电费（公区）",20.79,null,null,"'已交空置","'0","'15306400000212",null,{"$f":"VLOOKUP(B:B,[1]Sheet1!$B:$B,1,0)","v":"张琳"}]
["'业主","李秀珍","2#","'02-01-0309","02-01-0309","2024-04-23","2024-04-23","2024-04-01","2024-04-30",5,"分摊电费（公区）",20.79,null,null,"'已交空置","'0","'15306400000213",null,{"$f":"VLOOKUP(B:B,[1]Sheet1!$B:$B,1,0)","v":"李秀珍"}]
["'业主","魏陈莉","2#","'02-01-0310","02-01-0310","2024-04-23","2024-04-23","2024-04-01","2024-04-30",5,"分摊电费（公区）",20.79,null,null,"'已交空置","'0","'15306400000214",null,{"$f":"VLOOKUP(B:B,[1]Sheet1!$B:$B,1,0)","v":"魏陈莉"}]
["'业主","戴玉平","2#","'02-01-0311","02-01-0311","2024-04-23","2024-04-23","2024-04-01","2024-04-30",5,"分摊电费（公区）",20.79,null,null,"'已入住","'0","'15306400000215",null,{"$f":"VLOOKUP(B:B,[1]Sheet1!$B:$B,1,0)","v":"戴玉平"}]
["'业主","李可君","2#","'02-01-0312","02-01-0312","2024-04-23","2024-04-23","2024-04-01","2024-04-30",5,"分摊电费（公区）",20.79,null,null,"'已入住","'0","'15306400000216",null,{"$f":"VLOOKUP(B:B,[1]Sheet1!$B:$B,1,0)","v":"李可君"}]
["'业主","钟丹凤","2#","'02-01-0313","02-01-0313","2024-04-23","2024-04-23","2024-04-01","2024-04-30",5,"分摊电费（公区）",20.79,null,null,"'已入住","'0","'15306400000217",null,{"$f":"VLOOKUP(B:B,[1]Sheet1!$B:$B,1,0)","v":"钟丹凤"}]
["'业主","陈慧敏","2#","'02-01-0501","02-01-0501","2024-04-23","2024-04-23","2024-04-01","2024-04-30",5,"分摊电费（公区）",20.79,null,null,"'已入住","'0","'15306400000218",null,{"$f":"VLOOKUP(B:B,[1]Sheet1!$B:$B,1,0)","v":"陈慧敏"}]
["'业主","余丽妹","2#","'02-01-0502","02-01-0502","2024-04-23","2024-04-23","2024-04-01","2024-04-30",5,"分摊电费（公区）",20.79,null,null,"'已交空置","'0","'15306400000219",null,{"$f":"VLOOKUP(B:B,[1]Sheet1!$B:$B,1,0)","v":"余丽妹"}]
["'业主","严永春","2#","'02-01-0503","02-01-0503","2024-04-23","2024-04-23","2024-04-01","2024-04-30",5,"分摊电费（公区）",20.79,null,null,"'已交空置","'0","'15306400000220",null,{"$f":"VLOOKUP(B:B,[1]Sheet1!$B:$B,1,0)","v":"严永春"}]
["'业主","林雪霞","2#","'02-01-0505","02-01-0505","2024-04-23","2024-04-23","2024-04-01","2024-04-30",5,"分摊电费（公区）",20.79,null,null,"'已入住","'0","'15306400000221",null,{"$f":"VLOOKUP(B:B,[1]Sheet1!$B:$B,1,0)","v":"林雪霞"}]
["'业主","陈尚阳","2#","'02-01-0506","02-01-0506","2024-04-23","2024-04-23","2024-04-01","2024-04-30",5,"分摊电费（公区）",20.79,null,null,"'已入住","'0","'15306400000222",null,{"$f":"VLOOKUP(B:B,[1]Sheet1!$B:$B,1,0)","v":"陈尚阳"}]
["'业主","钟辉","2#","'02-01-0507","02-01-0507","2024-04-23","2024-04-23","2024-04-01","2024-04-30",5,"分摊电费（公区）",20.79,null,null,"'已交空置","'0","'15306400000223",null,{"$f":"VLOOKUP(B:B,[1]Sheet1!$B:$B,1,0)","v":"钟辉"}]
["'业主","陈凯雄","2#","'02-01-0508","02-01-0508","2024-04-23","2024-04-23","2024-04-01","2024-04-30",5,"分摊电费（公区）",20.79,null,null,"'已入住","'0","'15306400000224",null,{"$f":"VLOOKUP(B:B,[1]Sheet1!$B:$B,1,0)","v":"陈凯雄"}]
["'业主","翁逸霖","2#","'02-01-0509","02-01-0509","2024-04-23","2024-04-23","2024-04-01","2024-04-30",5,"分摊电费（公区）",20.79,null,null,"'已交空置","'0","'15306400000225",null,{"$f":"VLOOKUP(B:B,[1]Sheet1!$B:$B,1,0)","v":"翁逸霖"}]
["'业主","聂莹","2#","'02-01-0510","02-01-0510","2024-04-23","2024-04-23","2024-04-01","2024-04-30",5,"分摊电费（公区）",20.79,null,null,"'已交空置","'0","'15306400000226",null,{"$f":"VLOOKUP(B:B,[1]Sheet1!$B:$B,1,0)","v":"聂莹"}]
["'业主","钟军","2#","'02-01-0511","02-01-0511","2024-04-23","2024-04-23","2024-04-01","2024-04-30",5,"分摊电费（公区）",20.79,null,null,"'已入住","'0","'15306400000227",null,{"$f":"VLOOKUP(B:B,[1]Sheet1!$B:$B,1,0)","v":"钟军"}]
["'业主","池生满","2#","'02-01-0512","02-01-0512","2024-04-23","2024-04-23","2024-04-01","2024-04-30",5,"分摊电费（公区）",20.79,null,null,"'已入住","'0","'15306400000778",null,{"$f":"VLOOKUP(B:B,[1]Sheet1!$B:$B,1,0)","v":"池生满"}]
["'业主","汤巧娟","2#","'02-01-0513","02-01-0513","2024-04-23","2024-04-23","2024-04-01","2024-04-30",5,"分摊电费（公区）",20.79,null,null,"'已交空置","'0","'15306400000229",null,{"$f":"VLOOKUP(B:B,[1]Sheet1!$B:$B,1,0)","v":"汤巧娟"}]
["'业主","毛佳昕","2#","'02-01-0701","02-01-0701","2024-04-23","2024-04-23","2024-04-01","2024-04-30",5,"分摊电费（公区）",20.79,null,null,"'已入住","'0","'15306400000230",null,{"$f":"VLOOKUP(B:B,[1]Sheet1!$B:$B,1,0)","v":"毛佳昕"}]
["'业主","陈志敏","2#","'02-01-0702","02-01-0702","2024-04-23","2024-04-23","2024-04-01","2024-04-30",5,"分摊电费（公区）",20.79,null,null,"'已交空置","'0","'15306400000231",null,{"$f":"VLOOKUP(B:B,[1]Sheet1!$B:$B,1,0)","v":"陈志敏"}]
["'业主","梁昱维","2#","'02-01-0703","02-01-0703","2024-04-23","2024-04-23","2024-04-01","2024-04-30",5,"分摊电费（公区）",20.79,null,null,"'已入住","'0","'15306400000232",null,{"$f":"VLOOKUP(B:B,[1]Sheet1!$B:$B,1,0)","v":"梁昱维"}]
["'业主","俞小燕","2#","'02-01-0705","02-01-0705","2024-04-23","2024-04-23","2024-04-01","2024-04-30",5,"分摊电费（公区）",20.79,null,null,"'已入住","'0","'15306400000233",null,{"$f":"VLOOKUP(B:B,[1]Sheet1!$B:$B,1,0)","v":"俞小燕"}]
["'业主","林凯","2#","'02-01-0706","02-01-0706","2024-04-23","2024-04-23","2024-04-01","2024-04-30",5,"分摊电费（公区）",20.79,null,null,"'已交空置","'0","'15306400000234",null,{"$f":"VLOOKUP(B:B,[1]Sheet1!$B:$B,1,0)","v":"林凯"}]
["'业主","陈秋香","2#","'02-01-0707","02-01-0707","2024-04-23","2024-04-23","2024-04-01","2024-04-30",5,"分摊电费（公区）",20.79,null,null,"'已交空置","'0","'15306400000235",null,{"$f":"VLOOKUP(B:B,[1]Sheet1!$B:$B,1,0)","v":"陈秋香"}]
["'业主","林剑","2#","'02-01-0708","02-01-0708","2024-04-23","2024-04-23","2024-04-01","2024-04-30",5,"分摊电费（公区）",20.79,null,null,"'已入住","'0","'15306400000236",null,{"$f":"VLOOKUP(B:B,[1]Sheet1!$B:$B,1,0)","v":"林剑"}]
["'业主","冯天瞾","2#","'02-01-0709","02-01-0709","2024-04-23","2024-04-23","2024-04-01","2024-04-30",5,"分摊电费（公区）",20.79,null,null,"'已入住","'0","'15306400000237",null,{"$f":"VLOOKUP(B:B,[1]Sheet1!$B:$B,1,0)","v":"冯天瞾"}]
["'业主","林秀芳","2#","'02-01-0710","02-01-0710","2024-04-23","2024-04-23","2024-04-01","2024-04-30",5,"分摊电费（公区）",20.79,null,null,"'已交空置","'0","'15306400000238",null,{"$f":"VLOOKUP(B:B,[1]Sheet1!$B:$B,1,0)","v":"林秀芳"}]
["'业主","杨丹","2#","'02-01-0711","02-01-0711","2024-04-23","2024-04-23","2024-04-01","2024-04-30",5,"分摊电费（公区）",20.79,null,null,"'已入住","'0","'15306400000239",null,{"$f":"VLOOKUP(B:B,[1]Sheet1!$B:$B,1,0)","v":"杨丹"}]
["'业主","张心宇","2#","'02-01-0712","02-01-0712","2024-04-23","2024-04-23","2024-04-01","2024-04-30",5,"分摊电费（公区）",20.79,null,null,"'已入住","'0","'15306400000240",null,{"$f":"VLOOKUP(B:B,[1]Sheet1!$B:$B,1,0)","v":"张心宇"}]
["'业主","钱秀斌","2#","'02-01-0713","02-01-0713","2024-04-23","2024-04-23","2024-04-01","2024-04-30",5,"分摊电费（公区）",20.79,null,null,"'已交空置","'0","'15306400000241",null,{"$f":"VLOOKUP(B:B,[1]Sheet1!$B:$B,1,0)","v":"钱秀斌"}]
["'业主","林建文","2#","'02-01-0901","02-01-0901","2024-04-23","2024-04-23","2024-04-01","2024-04-30",5,"分摊电费（公区）",20.79,null,null,"'已交空置","'0","'15306400000242",null,{"$f":"VLOOKUP(B:B,[1]Sheet1!$B:$B,1,0)","v":"林建文"}]
["'业主","陈晓娟","2#","'02-01-0902","02-01-0902","2024-04-23","2024-04-23","2024-04-01","2024-04-30",5,"分摊电费（公区）",20.79,null,null,"'已入住","'0","'15306400000243",null,{"$f":"VLOOKUP(B:B,[1]Sheet1!$B:$B,1,0)","v":"陈晓娟"}]
["'业主","肖平","2#","'02-01-0903","02-01-0903","2024-04-23","2024-04-23","2024-04-01","2024-04-30",5,"分摊电费（公区）",20.79,null,null,"'已入住","'0","'15306400000244",null,{"$f":"VLOOKUP(B:B,[1]Sheet1!$B:$B,1,0)","v":"肖平"}]
["'业主","陈莹","2#","'02-01-0905","02-01-0905","2024-04-23","2024-04-23","2024-04-01","2024-04-30",5,"分摊电费（公区）",20.79,null,null,"'已入住","'0","'15306400000245",null,{"$f":"VLOOKUP(B:B,[1]Sheet1!$B:$B,1,0)","v":"陈莹"}]
["'业主","郑美钦","2#","'02-01-0906","02-01-0906","2024-04-23","2024-04-23","2024-04-01","2024-04-30",5,"分摊电费（公区）",20.79,null,null,"'已交空置","'0","'15306400000246",null,{"$f":"VLOOKUP(B:B,[1]Sheet1!$B:$B,1,0)","v":"郑美钦"}]
["'业主","陈思存","2#","'02-01-0907","02-01-0907","2024-04-23","2024-04-23","2024-04-01","2024-04-30",5,"分摊电费（公区）",20.79,null,null,"'已交空置","'0","'15306400000247",null,{"$f":"VLOOKUP(B:B,[1]Sheet1!$B:$B,1,0)","v":"陈思存"}]
["'业主","赵其楠","2#","'02-01-0908","02-01-0908","2024-04-23","2024-04-23","2024-04-01","2024-04-30",5,"分摊电费（公区）",20.79,null,null,"'已入住","'0","'15306400000248",null,{"$f":"VLOOKUP(B:B,[1]Sheet1!$B:$B,1,0)","v":"赵其楠"}]
["'业主","王荃","2#","'02-01-0909","02-01-0909","2024-04-23","2024-04-23","2024-04-01","2024-04-30",5,"分摊电费（公区）",20.79,null,null,"'已交空置","'0","'15306400000249",null,{"$f":"VLOOKUP(B:B,[1]Sheet1!$B:$B,1,0)","v":"王荃"}]
["'业主","彭德勇","2#","'02-01-0910","02-01-0910","2024-04-23","2024-04-23","2024-04-01","2024-04-30",5,"分摊电费（公区）",20.79,null,null,"'已交空置","'0","'15306400000250",null,{"$f":"VLOOKUP(B:B,[1]Sheet1!$B:$B,1,0)","v":"彭德勇"}]
["'业主","许绍清","2#","'02-01-0911","02-01-0911","2024-04-23","2024-04-23","2024-04-01","2024-04-30",5,"分摊电费（公区）",20.79,null,null,"'已入住","'0","'15306400000251",null,{"$f":"VLOOKUP(B:B,[1]Sheet1!$B:$B,1,0)","v":"许绍清"}]
["'业主","李宗珠","2#","'02-01-0912","02-01-0912","2024-04-23","2024-04-23","2024-04-01","2024-04-30",5,"分摊电费（公区）",20.79,null,null,"'已入住","'0","'15306400000252",null,{"$f":"VLOOKUP(B:B,[1]Sheet1!$B:$B,1,0)","v":"李宗珠"}]
["'业主","翁秋霞","2#","'02-01-0913","02-01-0913","2024-04-23","2024-04-23","2024-04-01","2024-04-30",5,"分摊电费（公区）",20.79,null,null,"'已交空置","'0","'15306400000253",null,{"$f":"VLOOKUP(B:B,[1]Sheet1!$B:$B,1,0)","v":"翁秋霞"}]
["'业主","李家和","3#","'03-01-0101","03-01-0101","2024-04-23","2024-04-23","2024-04-01","2024-04-30",5,"分摊电费（公区）",20.79,null,null,"'已入住","'0","'15306400000326",null,{"$f":"VLOOKUP(B:B,[1]Sheet1!$B:$B,1,0)","v":"李家和"}]
["'业主","王淑英","3#","'03-01-0102","03-01-0102","2024-04-23","2024-04-23","2024-04-01","2024-04-30",5,"分摊电费（公区）",20.79,null,null,"'不常住（停用）","'0","'15306400000327",null,{"$f":"VLOOKUP(B:B,[1]Sheet1!$B:$B,1,0)","v":"王淑英"}]
["'业主","黄丽玉","3#","'03-01-1002","03-01-1002","2024-04-23","2024-04-23","2024-04-01","2024-04-30",5,"分摊电费（公区）",20.79,null,null,"'已入住","'0","'15306400000368",null,{"$f":"VLOOKUP(B:B,[1]Sheet1!$B:$B,1,0)","v":"黄丽玉"}]
["'业主","曹新贵","3#","'03-01-1003","03-01-1003","2024-04-23","2024-04-23","2024-04-01","2024-04-30",5,"分摊电费（公区）",20.79,null,null,"'已入住","'0","'15306400000369",null,{"$f":"VLOOKUP(B:B,[1]Sheet1!$B:$B,1,0)","v":"曹新贵"}]
["'业主","黄忠敏","3#","'03-01-1005","03-01-1005","2024-04-23","2024-04-23","2024-04-01","2024-04-30",5,"分摊电费（公区）",20.79,null,null,"'已入住","'0","'15306400000370",null,{"$f":"VLOOKUP(B:B,[1]Sheet1!$B:$B,1,0)","v":"黄忠敏"}]
["'业主","李荣发","3#","'03-01-1006","03-01-1006","2024-04-23","2024-04-23","2024-04-01","2024-04-30",5,"分摊电费（公区）",20.79,null,null,"'已入住","'0","'15306400000371",null,{"$f":"VLOOKUP(B:B,[1]Sheet1!$B:$B,1,0)","v":"李荣发"}]
["'业主","乐吉江","3#","'03-01-1007","03-01-1007","2024-04-23","2024-04-23","2024-04-01","2024-04-30",5,"分摊电费（公区）",20.79,null,null,"'不常住（停用）","'0","'15306400000372",null,{"$f":"VLOOKUP(B:B,[1]Sheet1!$B:$B,1,0)","v":"乐吉江"}]
["'业主","李惠","3#","'03-01-1101","03-01-1101","2024-04-23","2024-04-23","2024-04-01","2024-04-30",5,"分摊电费（公区）",20.79,null,null,"'已入住","'0","'15306400000373",null,{"$f":"VLOOKUP(B:B,[1]Sheet1!$B:$B,1,0)","v":"李惠"}]
["'业主","张梦宜","3#","'03-01-1103","03-01-1103","2024-04-23","2024-04-23","2024-04-01","2024-04-30",5,"分摊电费（公区）",20.79,null,null,"'已入住","'0","'15306400000374",null,{"$f":"VLOOKUP(B:B,[1]Sheet1!$B:$B,1,0)","v":"张梦宜"}]
["'业主","李祯","3#","'03-01-1105","03-01-1105","2024-04-23","2024-04-23","2024-04-01","2024-04-30",5,"分摊电费（公区）",20.79,null,null,"'已入住","'0","'15306400000375",null,{"$f":"VLOOKUP(B:B,[1]Sheet1!$B:$B,1,0)","v":"李祯"}]
["'业主","林碧英","3#","'03-01-1106","03-01-1106","2024-04-23","2024-04-23","2024-04-01","2024-04-30",5,"分摊电费（公区）",20.79,null,null,"'已入住","'0","'15306400000376",null,{"$f":"VLOOKUP(B:B,[1]Sheet1!$B:$B,1,0)","v":"林碧英"}]
["'业主","杨惠枝","3#","'03-01-1107","03-01-1107","2024-04-23","2024-04-23","2024-04-01","2024-04-30",5,"分摊电费（公区）",20.79,null,null,"'不常住（停用）","'0","'15306400000377",null,{"$f":"VLOOKUP(B:B,[1]Sheet1!$B:$B,1,0)","v":"杨惠枝"}]
["'业主","王光云","3#","'03-01-1202","03-01-1202","2024-04-23","2024-04-23","2024-04-01","2024-04-30",5,"分摊电费（公区）",20.79,null,null,"'不常住（停用）","'0","'15306400000378",null,{"$f":"VLOOKUP(B:B,[1]Sheet1!$B:$B,1,0)","v":"王光云"}]
["'业主","陈辉","3#","'03-01-1203","03-01-1203","2024-04-23","2024-04-23","2024-04-01","2024-04-30",5,"分摊电费（公区）",20.79,null,null,"'已入住","'0","'15306400000379",null,{"$f":"VLOOKUP(B:B,[1]Sheet1!$B:$B,1,0)","v":"陈辉"}]
["'业主","张芳","3#","'03-01-1205","03-01-1205","2024-04-23","2024-04-23","2024-04-01","2024-04-30",5,"分摊电费（公区）",20.79,null,null,"'已入住","'0","'15306400000380",null,{"$f":"VLOOKUP(B:B,[1]Sheet1!$B:$B,1,0)","v":"张芳"}]
["'业主","陈淑花","3#","'03-01-1206","03-01-1206","2024-04-23","2024-04-23","2024-04-01","2024-04-30",5,"分摊电费（公区）",20.79,null,null,"'已入住","'0","'15306400000381",null,{"$f":"VLOOKUP(B:B,[1]Sheet1!$B:$B,1,0)","v":"陈淑花"}]
["'业主","林燕","3#","'03-01-1207","03-01-1207","2024-04-23","2024-04-23","2024-04-01","2024-04-30",5,"分摊电费（公区）",20.79,null,null,"'出租中","'0","'15306400000382",null,{"$f":"VLOOKUP(B:B,[1]Sheet1!$B:$B,1,0)","v":"林燕"}]
["'业主","邹泽宇","3#","'03-01-1301","03-01-1301","2024-04-23","2024-04-23","2024-04-01","2024-04-30",5,"分摊电费（公区）",20.79,null,null,"'已交空置","'0","'15306400000383",null,{"$f":"VLOOKUP(B:B,[1]Sheet1!$B:$B,1,0)","v":"邹泽宇"}]
["'业主","黄增峰","3#","'03-01-1303","03-01-1303","2024-04-23","2024-04-23","2024-04-01","2024-04-30",5,"分摊电费（公区）",20.79,null,null,"'已交空置","'0","'15306400000384",null,{"$f":"VLOOKUP(B:B,[1]Sheet1!$B:$B,1,0)","v":"黄增峰"}]
["'业主","赖佳佳","3#","'03-01-1305","03-01-1305","2024-04-23","2024-04-23","2024-04-01","2024-04-30",5,"分摊电费（公区）",20.79,null,null,"'已入住","'0","'15306400000385",null,{"$f":"VLOOKUP(B:B,[1]Sheet1!$B:$B,1,0)","v":"赖佳佳"}]
["'业主","马斯枫","3#","'03-01-1306","03-01-1306","2024-04-23","2024-04-23","2024-04-01","2024-04-30",5,"分摊电费（公区）",20.79,null,null,"'已入住","'0","'15306400000386",null,{"$f":"VLOOKUP(B:B,[1]Sheet1!$B:$B,1,0)","v":"马斯枫"}]
["'业主","陈辉","3#","'03-01-1307","03-01-1307","2024-04-23","2024-04-23","2024-04-01","2024-04-30",5,"分摊电费（公区）",20.79,null,null,"'已入住","'0","'15306400000387",null,{"$f":"VLOOKUP(B:B,[1]Sheet1!$B:$B,1,0)","v":"陈辉"}]
["'业主","吴巧娟","3#","'03-01-1402","03-01-1402","2024-04-23","2024-04-23","2024-04-01","2024-04-30",5,"分摊电费（公区）",20.79,null,null,"'已交空置","'0","'15306400000388",null,{"$f":"VLOOKUP(B:B,[1]Sheet1!$B:$B,1,0)","v":"吴巧娟"}]
["'业主","刘晓鑫","3#","'03-01-1403","03-01-1403","2024-04-23","2024-04-23","2024-04-01","2024-04-30",5,"分摊电费（公区）",20.79,null,null,"'已交空置","'0","'15306400000389",null,{"$f":"VLOOKUP(B:B,[1]Sheet1!$B:$B,1,0)","v":"刘晓鑫"}]
["'业主","陈瑜","3#","'03-01-1405","03-01-1405","2024-04-23","2024-04-23","2024-04-01","2024-04-30",5,"分摊电费（公区）",20.79,null,null,"'已交空置","'0","'15306400000390",null,{"$f":"VLOOKUP(B:B,[1]Sheet1!$B:$B,1,0)","v":"陈瑜"}]
["'业主","余旻晶","3#","'03-01-1406","03-01-1406","2024-04-23","2024-04-23","2024-04-01","2024-04-30",5,"分摊电费（公区）",20.79,null,null,"'已入住","'0","'15306400000391",null,{"$f":"VLOOKUP(B:B,[1]Sheet1!$B:$B,1,0)","v":"余旻晶"}]
["'业主","余发荣","3#","'03-01-1407","03-01-1407","2024-04-23","2024-04-23","2024-04-01","2024-04-30",5,"分摊电费（公区）",20.79,null,null,"'已入住","'0","'15306400000392",null,{"$f":"VLOOKUP(B:B,[1]Sheet1!$B:$B,1,0)","v":"余发荣"}]
["'业主","黄慧容","3#","'03-01-1501","03-01-1501","2024-04-23","2024-04-23","2024-04-01","2024-04-30",5,"分摊电费（公区）",20.79,null,null,"'已入住","'0","'15306400000393",null,{"$f":"VLOOKUP(B:B,[1]Sheet1!$B:$B,1,0)","v":"黄慧容"}]
["'业主","林榕康","3#","'03-01-1503","03-01-1503","2024-04-23","2024-04-23","2024-04-01","2024-04-30",5,"分摊电费（公区）",20.79,null,null,"'不常住（停用）","'0","'15306400000394",null,{"$f":"VLOOKUP(B:B,[1]Sheet1!$B:$B,1,0)","v":"林榕康"}]
["'业主","游妹燕","3#","'03-01-1505","03-01-1505","2024-04-23","2024-04-23","2024-04-01","2024-04-30",5,"分摊电费（公区）",20.79,null,null,"'已入住","'0","'15306400000395",null,{"$f":"VLOOKUP(B:B,[1]Sheet1!$B:$B,1,0)","v":"游妹燕"}]
["'业主","林巧敏","3#","'03-01-1506","03-01-1506","2024-04-23","2024-04-23","2024-04-01","2024-04-30",5,"分摊电费（公区）",20.79,null,null,"'已入住","'0","'15306400000396",null,{"$f":"VLOOKUP(B:B,[1]Sheet1!$B:$B,1,0)","v":"林巧敏"}]
["'业主","杨惠枝","3#","'03-01-1507","03-01-1507","2024-04-23","2024-04-23","2024-04-01","2024-04-30",5,"分摊电费（公区）",20.79,null,null,"'不常住（停用）","'0","'15306400000377",null,{"$f":"VLOOKUP(B:B,[1]Sheet1!$B:$B,1,0)","v":"杨惠枝"}]
["'业主","陈富华","3#","'03-01-1602","03-01-1602","2024-04-23","2024-04-23","2024-04-01","2024-04-30",5,"分摊电费（公区）",20.79,null,null,"'不常住（停用）","'0","'15306400000397",null,{"$f":"VLOOKUP(B:B,[1]Sheet1!$B:$B,1,0)","v":"陈富华"}]
["'业主","时隽","3#","'03-01-1603","03-01-1603","2024-04-23","2024-04-23","2024-04-01","2024-04-30",5,"分摊电费（公区）",20.79,null,null,"'不常住（停用）","'0","'15306400000398",null,{"$f":"VLOOKUP(B:B,[1]Sheet1!$B:$B,1,0)","v":"时隽"}]
["'业主","吴雯菁","3#","'03-01-1605","03-01-1605","2024-04-23","2024-04-23","2024-04-01","2024-04-30",5,"分摊电费（公区）",20.79,null,null,"'装修中","'0","'15306400000399",null,{"$f":"VLOOKUP(B:B,[1]Sheet1!$B:$B,1,0)","v":"吴雯菁"}]
["'业主","黄素萍","3#","'03-01-1607","03-01-1607","2024-04-23","2024-04-23","2024-04-01","2024-04-30",5,"分摊电费（公区）",20.79,null,null,"'已入住","'0","'15306400000401",null,{"$f":"VLOOKUP(B:B,[1]Sheet1!$B:$B,1,0)","v":"黄素萍"}]
["'业主","陈群","3#","'03-01-1701","03-01-1701","2024-04-23","2024-04-23","2024-04-01","2024-04-30",5,"分摊电费（公区）",20.79,null,null,"'已交空置","'0","'15306400000402",null,{"$f":"VLOOKUP(B:B,[1]Sheet1!$B:$B,1,0)","v":"陈群"}]
["'业主","黄翠英","3#","'03-01-1703","03-01-1703","2024-04-23","2024-04-23","2024-04-01","2024-04-30",5,"分摊电费（公区）",20.79,null,null,"'已入住","'0","'15306400000403",null,{"$f":"VLOOKUP(B:B,[1]Sheet1!$B:$B,1,0)","v":"黄翠英"}]
["'业主","俞思敏","3#","'03-01-1705","03-01-1705","2024-04-23","2024-04-23","2024-04-01","2024-04-30",5,"分摊电费（公区）",20.79,null,null,"'已入住","'0","'15306400000404",null,{"$f":"VLOOKUP(B:B,[1]Sheet1!$B:$B,1,0)","v":"俞思敏"}]
["'业主","吴赛榕","3#","'03-01-1706","03-01-1706","2024-04-23","2024-04-23","2024-04-01","2024-04-30",5,"分摊电费（公区）",20.79,null,null,"'已入住","'0","'15306400000405",null,{"$f":"VLOOKUP(B:B,[1]Sheet1!$B:$B,1,0)","v":"吴赛榕"}]
["'业主","陈仕兰","3#","'03-01-1707","03-01-1707","2024-04-23","2024-04-23","2024-04-01","2024-04-30",5,"分摊电费（公区）",20.79,null,null,"'已入住","'0","'15306400000406",null,{"$f":"VLOOKUP(B:B,[1]Sheet1!$B:$B,1,0)","v":"陈仕兰"}]
["'业主","张秀菁","3#","'03-01-1802","03-01-1802","2024-04-23","2024-04-23","2024-04-01","2024-04-30",5,"分摊电费（公区）",20.79,null,null,"'已入住","'0","'15306400000407",null,{"$f":"VLOOKUP(B:B,[1]Sheet1!$B:$B,1,0)","v":"张秀菁"}]
["'业主","薛拥华","3#","'03-01-1803","03-01-1803","2024-04-23","2024-04-23","2024-04-01","2024-04-30",5,"分摊电费（公区）",20.79,null,null,"'不常住（停用）","'0","'15306400000408",null,{"$f":"VLOOKUP(B:B,[1]Sheet1!$B:$B,1,0)","v":"薛拥华"}]
["'业主","孙春来","3#","'03-01-1805","03-01-1805","2024-04-23","2024-04-23","2024-04-01","2024-04-30",5,"分摊电费（公区）",20.79,null,null,"'出租中","'0","'15306400000409",null,{"$f":"VLOOKUP(B:B,[1]Sheet1!$B:$B,1,0)","v":"孙春来"}]
["'业主","陈思铃","3#","'03-01-1806","03-01-1806","2024-04-23","2024-04-23","2024-04-01","2024-04-30",5,"分摊电费（公区）",20.79,null,null,"'不常住（停用）","'0","'15306400000410",null,{"$f":"VLOOKUP(B:B,[1]Sheet1!$B:$B,1,0)","v":"陈思铃"}]
["'业主","陈秀华","3#","'03-01-1807","03-01-1807","2024-04-23","2024-04-23","2024-04-01","2024-04-30",5,"分摊电费（公区）",20.79,null,null,"'已入住","'0","'15306400000411",null,{"$f":"VLOOKUP(B:B,[1]Sheet1!$B:$B,1,0)","v":"陈秀华"}]
["'业主","林雯","3#","'03-01-1901","03-01-1901","2024-04-23","2024-04-23","2024-04-01","2024-04-30",5,"分摊电费（公区）",20.79,null,null,"'不常住（停用）","'0","'15306400000412",null,{"$f":"VLOOKUP(B:B,[1]Sheet1!$B:$B,1,0)","v":"林雯"}]
["'业主","黄琳","3#","'03-01-1903","03-01-1903","2024-04-23","2024-04-23","2024-04-01","2024-04-30",5,"分摊电费（公区）",20.79,null,null,"'不常住（停用）","'0","'15306400000413",null,{"$f":"VLOOKUP(B:B,[1]Sheet1!$B:$B,1,0)","v":"黄琳"}]
["'业主","刘青义","3#","'03-01-1905","03-01-1905","2024-04-23","2024-04-23","2024-04-01","2024-04-30",5,"分摊电费（公区）",20.79,null,null,"'已入住","'0","'15306400000414",null,{"$f":"VLOOKUP(B:B,[1]Sheet1!$B:$B,1,0)","v":"刘青义"}]
["'业主","黄书锋","3#","'03-01-1906","03-01-1906","2024-04-23","2024-04-23","2024-04-01","2024-04-30",5,"分摊电费（公区）",20.79,null,null,"'已入住","'0","'15306400000415",null,{"$f":"VLOOKUP(B:B,[1]Sheet1!$B:$B,1,0)","v":"黄书锋"}]
["'业主","吴永桂","3#","'03-01-1907","03-01-1907","2024-04-23","2024-04-23","2024-04-01","2024-04-30",5,"分摊电费（公区）",20.79,null,null,"'已入住","'0","'15306400000416",null,{"$f":"VLOOKUP(B:B,[1]Sheet1!$B:$B,1,0)","v":"吴永桂"}]
["'业主","周雪梅","3#","'03-01-0202","03-01-0202","2024-04-23","2024-04-23","2024-04-01","2024-04-30",5,"分摊电费（公区）",20.79,null,null,"'不常住（停用）","'0","'15306400000328",null,{"$f":"VLOOKUP(B:B,[1]Sheet1!$B:$B,1,0)","v":"周雪梅"}]
["'业主","鲍榕圣","3#","'03-01-0203","03-01-0203","2024-04-23","2024-04-23","2024-04-01","2024-04-30",5,"分摊电费（公区）",20.79,null,null,"'已交空置","'0","'15306400000329",null,{"$f":"VLOOKUP(B:B,[1]Sheet1!$B:$B,1,0)","v":"鲍榕圣"}]
["'业主","张素珍","3#","'03-01-0205","03-01-0205","2024-04-23","2024-04-23","2024-04-01","2024-04-30",5,"分摊电费（公区）",20.79,null,null,"'已入住","'0","'15306400000330",null,{"$f":"VLOOKUP(B:B,[1]Sheet1!$B:$B,1,0)","v":"张素珍"}]
["'业主","刘腾峰","3#","'03-01-0206","03-01-0206","2024-04-23","2024-04-23","2024-04-01","2024-04-30",5,"分摊电费（公区）",20.79,null,null,"'已入住","'0","'15306400000331",null,{"$f":"VLOOKUP(B:B,[1]Sheet1!$B:$B,1,0)","v":"刘腾峰"}]
["'业主","郭晓晴","3#","'03-01-0207","03-01-0207","2024-04-23","2024-04-23","2024-04-01","2024-04-30",5,"分摊电费（公区）",20.79,null,null,"'已入住","'0","'15306400000332",null,{"$f":"VLOOKUP(B:B,[1]Sheet1!$B:$B,1,0)","v":"郭晓晴"}]
["'业主","刘颖","3#","'03-01-2002","03-01-2002","2024-04-23","2024-04-23","2024-04-01","2024-04-30",5,"分摊电费（公区）",20.79,null,null,"'已入住","'0","'15306400000417",null,{"$f":"VLOOKUP(B:B,[1]Sheet1!$B:$B,1,0)","v":"刘颖"}]
["'业主","徐挽晶","3#","'03-01-2003","03-01-2003","2024-04-23","2024-04-23","2024-04-01","2024-04-30",5,"分摊电费（公区）",20.79,null,null,"'已入住","'0","'15306400000418",null,{"$f":"VLOOKUP(B:B,[1]Sheet1!$B:$B,1,0)","v":"徐挽晶"}]
["'业主","关晴","3#","'03-01-2005","03-01-2005","2024-04-23","2024-04-23","2024-04-01","2024-04-30",5,"分摊电费（公区）",20.79,null,null,"'已入住","'0","'15306400000419",null,{"$f":"VLOOKUP(B:B,[1]Sheet1!$B:$B,1,0)","v":"关晴"}]
["'业主","林秀玲","3#","'03-01-2006","03-01-2006","2024-04-23","2024-04-23","2024-04-01","2024-04-30",5,"分摊电费（公区）",20.79,null,null,"'已入住","'0","'15306400000420",null,{"$f":"VLOOKUP(B:B,[1]Sheet1!$B:$B,1,0)","v":"林秀玲"}]
["'业主","陈英芳","3#","'03-01-2007","03-01-2007","2024-04-23","2024-04-23","2024-04-01","2024-04-30",5,"分摊电费（公区）",20.79,null,null,"'出租中","'0","'15306400000421",null,{"$f":"VLOOKUP(B:B,[1]Sheet1!$B:$B,1,0)","v":"陈英芳"}]
["'业主","陈彩雯","3#","'03-01-2101","03-01-2101","2024-04-23","2024-04-23","2024-04-01","2024-04-30",5,"分摊电费（公区）",20.79,null,null,"'已入住","'0","'15306400000422",null,{"$f":"VLOOKUP(B:B,[1]Sheet1!$B:$B,1,0)","v":"陈彩雯"}]
["'业主","方涌","3#","'03-01-2103","03-01-2103","2024-04-23","2024-04-23","2024-04-01","2024-04-30",5,"分摊电费（公区）",20.79,null,null,"'出租中","'0","'15306400000423",null,{"$f":"VLOOKUP(B:B,[1]Sheet1!$B:$B,1,0)","v":"方涌"}]
["'业主","翁惠芳","3#","'03-01-2105","03-01-2105","2024-04-23","2024-04-23","2024-04-01","2024-04-30",5,"分摊电费（公区）",20.79,null,null,"'已入住","'0","'15306400000424",null,{"$f":"VLOOKUP(B:B,[1]Sheet1!$B:$B,1,0)","v":"翁惠芳"}]
["'业主","陈国龙","3#","'03-01-2106","03-01-2106","2024-04-23","2024-04-23","2024-04-01","2024-04-30",5,"分摊电费（公区）",20.79,null,null,"'已入住","'0","'15306400000425",null,{"$f":"VLOOKUP(B:B,[1]Sheet1!$B:$B,1,0)","v":"陈国龙"}]
["'业主","王佩瑶","3#","'03-01-2107","03-01-2107","2024-04-23","2024-04-23","2024-04-01","2024-04-30",5,"分摊电费（公区）",20.79,null,null,"'已交空置","'0","'15306400000426",null,{"$f":"VLOOKUP(B:B,[1]Sheet1!$B:$B,1,0)","v":"王佩瑶"}]
["'业主","张桢","3#","'03-01-2202","03-01-2202","2024-04-23","2024-04-23","2024-04-01","2024-04-30",5,"分摊电费（公区）",20.79,null,null,"'已交空置","'0","'15306400000427",null,{"$f":"VLOOKUP(B:B,[1]Sheet1!$B:$B,1,0)","v":"张桢"}]
["'业主","张桢","3#","'03-01-2203","03-01-2203","2024-04-23","2024-04-23","2024-04-01","2024-04-30",5,"分摊电费（公区）",20.79,null,null,"'不常住（停用）","'0","'15306400000427",null,{"$f":"VLOOKUP(B:B,[1]Sheet1!$B:$B,1,0)","v":"张桢"}]
["'业主","黄淑钗","3#","'03-01-2205","03-01-2205","2024-04-23","2024-04-23","2024-04-01","2024-04-30",5,"分摊电费（公区）",20.79,null,null,"'不常住（停用）","'0","'15306400000428",null,{"$f":"VLOOKUP(B:B,[1]Sheet1!$B:$B,1,0)","v":"黄淑钗"}]
["'业主","康志明","3#","'03-01-2206","03-01-2206","2024-04-23","2024-04-23","2024-04-01","2024-04-30",5,"分摊电费（公区）",20.79,null,null,"'已入住","'0","'15306400000429",null,{"$f":"VLOOKUP(B:B,[1]Sheet1!$B:$B,1,0)","v":"康志明"}]
["'业主","陈莉","3#","'03-01-2207","03-01-2207","2024-04-23","2024-04-23","2024-04-01","2024-04-30",5,"分摊电费（公区）",20.79,null,null,"'已交空置","'0","'15306400000430",null,{"$f":"VLOOKUP(B:B,[1]Sheet1!$B:$B,1,0)","v":"陈莉"}]
["'业主","蒋燕玲","3#","'03-01-2303","03-01-2303","2024-04-23","2024-04-23","2024-04-01","2024-04-30",5,"分摊电费（公区）",20.79,null,null,"'装修中","'0","'15306400000431",null,{"$f":"VLOOKUP(B:B,[1]Sheet1!$B:$B,1,0)","v":"蒋燕玲"}]
["'业主","游奶清","3#","'03-01-2305","03-01-2305","2024-04-23","2024-04-23","2024-04-01","2024-04-30",5,"分摊电费（公区）",20.79,null,null,"'已入住","'0","'15306400000432",null,{"$f":"VLOOKUP(B:B,[1]Sheet1!$B:$B,1,0)","v":"游奶清"}]
["'业主","张鑫","3#","'03-01-2306","03-01-2306","2024-04-23","2024-04-23","2024-04-01","2024-04-30",5,"分摊电费（公区）",20.79,null,null,"'已入住","'0","'15306400000433",null,{"$f":"VLOOKUP(B:B,[1]Sheet1!$B:$B,1,0)","v":"张鑫"}]
["'业主","郑芳","3#","'03-01-2307","03-01-2307","2024-04-23","2024-04-23","2024-04-01","2024-04-30",5,"分摊电费（公区）",20.79,null,null,"'出租中","'0","'15306400000434",null,{"$f":"VLOOKUP(B:B,[1]Sheet1!$B:$B,1,0)","v":"郑芳"}]
["'业主","陈桂明","3#","'03-01-0301","03-01-0301","2024-04-23","2024-04-23","2024-04-01","2024-04-30",5,"分摊电费（公区）",20.79,null,null,"'已入住","'0","'15306400000333",null,{"$f":"VLOOKUP(B:B,[1]Sheet1!$B:$B,1,0)","v":"陈桂明"}]
["'业主","兰霞妹","3#","'03-01-0303","03-01-0303","2024-04-23","2024-04-23","2024-04-01","2024-04-30",5,"分摊电费（公区）",20.79,null,null,"'已入住","'0","'15306400000334",null,{"$f":"VLOOKUP(B:B,[1]Sheet1!$B:$B,1,0)","v":"兰霞妹"}]
["'业主","黄国伟","3#","'03-01-0305","03-01-0305","2024-04-23","2024-04-23","2024-04-01","2024-04-30",5,"分摊电费（公区）",20.79,null,null,"'已入住","'0","'15306400000335",null,{"$f":"VLOOKUP(B:B,[1]Sheet1!$B:$B,1,0)","v":"黄国伟"}]
["'业主","张来平","3#","'03-01-0306","03-01-0306","2024-04-23","2024-04-23","2024-04-01","2024-04-30",5,"分摊电费（公区）",20.79,null,null,"'出租中","'0","'15306400000336",null,{"$f":"VLOOKUP(B:B,[1]Sheet1!$B:$B,1,0)","v":"张来平"}]
["'业主","张萍","3#","'03-01-0307","03-01-0307","2024-04-23","2024-04-23","2024-04-01","2024-04-30",5,"分摊电费（公区）",20.79,null,null,"'已入住","'0","'15306400000337",null,{"$f":"VLOOKUP(B:B,[1]Sheet1!$B:$B,1,0)","v":"张萍"}]
["'业主","沈超","3#","'03-01-0402","03-01-0402","2024-04-23","2024-04-23","2024-04-01","2024-04-30",5,"分摊电费（公区）",20.79,null,null,"'已入住","'0","'15306400000338",null,{"$f":"VLOOKUP(B:B,[1]Sheet1!$B:$B,1,0)","v":"沈超"}]
["'业主","李琴","3#","'03-01-0403","03-01-0403","2024-04-23","2024-04-23","2024-04-01","2024-04-30",5,"分摊电费（公区）",20.79,null,null,"'不常住（停用）","'0","'15306400000339",null,{"$f":"VLOOKUP(B:B,[1]Sheet1!$B:$B,1,0)","v":"李琴"}]
["'业主","林从兢","3#","'03-01-0405","03-01-0405","2024-04-23","2024-04-23","2024-04-01","2024-04-30",5,"分摊电费（公区）",20.79,null,null,"'已交空置","'0","'15306400000340",null,{"$f":"VLOOKUP(B:B,[1]Sheet1!$B:$B,1,0)","v":"林从兢"}]
["'业主","杨青青","3#","'03-01-0406","03-01-0406","2024-04-23","2024-04-23","2024-04-01","2024-04-30",5,"分摊电费（公区）",20.79,null,null,"'出租中","'0","'15306400000341",null,{"$f":"VLOOKUP(B:B,[1]Sheet1!$B:$B,1,0)","v":"杨青青"}]
["'业主","陈龙杰","3#","'03-01-0407","03-01-0407","2024-04-23","2024-04-23","2024-04-01","2024-04-30",5,"分摊电费（公区）",20.79,null,null,"'装修中","'0","'15306400000342",null,{"$f":"VLOOKUP(B:B,[1]Sheet1!$B:$B,1,0)","v":"陈龙杰"}]
["'业主","毛容丽","3#","'03-01-0501","03-01-0501","2024-04-23","2024-04-23","2024-04-01","2024-04-30",5,"分摊电费（公区）",20.79,null,null,"'不常住（停用）","'0","'15306400000343",null,{"$f":"VLOOKUP(B:B,[1]Sheet1!$B:$B,1,0)","v":"毛容丽"}]
["'业主","赵璟","3#","'03-01-0503","03-01-0503","2024-04-23","2024-04-23","2024-04-01","2024-04-30",5,"分摊电费（公区）",20.79,null,null,"'已入住","'0","'15306400000344",null,{"$f":"VLOOKUP(B:B,[1]Sheet1!$B:$B,1,0)","v":"赵璟"}]
["'业主","郭云","3#","'03-01-0505","03-01-0505","2024-04-23","2024-04-23","2024-04-01","2024-04-30",5,"分摊电费（公区）",20.79,null,null,"'已交空置","'0","'15306400000345",null,{"$f":"VLOOKUP(B:B,[1]Sheet1!$B:$B,1,0)","v":"郭云"}]
["'业主","涂满娣","3#","'03-01-0506","03-01-0506","2024-04-23","2024-04-23","2024-04-01","2024-04-30",5,"分摊电费（公区）",20.79,null,null,"'已入住","'0","'15306400000346",null,{"$f":"VLOOKUP(B:B,[1]Sheet1!$B:$B,1,0)","v":"涂满娣"}]
["'业主","夏小琼","3#","'03-01-0507","03-01-0507","2024-04-23","2024-04-23","2024-04-01","2024-04-30",5,"分摊电费（公区）",20.79,null,null,"'不常住（停用）","'0","'15306400000347",null,{"$f":"VLOOKUP(B:B,[1]Sheet1!$B:$B,1,0)","v":"夏小琼"}]
["'业主","李晓丹","3#","'03-01-0602","03-01-0602","2024-04-23","2024-04-23","2024-04-01","2024-04-30",5,"分摊电费（公区）",20.79,null,null,"'已入住","'0","'15306400000348",null,{"$f":"VLOOKUP(B:B,[1]Sheet1!$B:$B,1,0)","v":"李晓丹"}]
["'业主","张美凌","3#","'03-01-0603","03-01-0603","2024-04-23","2024-04-23","2024-04-01","2024-04-30",5,"分摊电费（公区）",20.79,null,null,"'已入住","'0","'15306400000349",null,{"$f":"VLOOKUP(B:B,[1]Sheet1!$B:$B,1,0)","v":"张美凌"}]
["'业主","王涎","3#","'03-01-0605","03-01-0605","2024-04-23","2024-04-23","2024-04-01","2024-04-30",5,"分摊电费（公区）",20.79,null,null,"'已交空置","'0","'15306400000350",null,{"$f":"VLOOKUP(B:B,[1]Sheet1!$B:$B,1,0)","v":"王涎"}]
["'业主","魏子颜","3#","'03-01-0606","03-01-0606","2024-04-23","2024-04-23","2024-04-01","2024-04-30",5,"分摊电费（公区）",20.79,null,null,"'不常住（停用）","'0","'15306400000351",null,{"$f":"VLOOKUP(B:B,[1]Sheet1!$B:$B,1,0)","v":"魏子颜"}]
["'业主","林奇奇","3#","'03-01-0607","03-01-0607","2024-04-23","2024-04-23","2024-04-01","2024-04-30",5,"分摊电费（公区）",20.79,null,null,"'已入住","'0","'15306400000352",null,{"$f":"VLOOKUP(B:B,[1]Sheet1!$B:$B,1,0)","v":"林奇奇"}]
["'业主","魏金花","3#","'03-01-0701","03-01-0701","2024-04-23","2024-04-23","2024-04-01","2024-04-30",5,"分摊电费（公区）",20.79,null,null,"'不常住（停用）","'0","'15306400000353",null,{"$f":"VLOOKUP(B:B,[1]Sheet1!$B:$B,1,0)","v":"魏金花"}]
["'业主","王旭銮","3#","'03-01-0703","03-01-0703","2024-04-23","2024-04-23","2024-04-01","2024-04-30",5,"分摊电费（公区）",20.79,null,null,"'已入住","'0","'15306400000354",null,{"$f":"VLOOKUP(B:B,[1]Sheet1!$B:$B,1,0)","v":"王旭銮"}]
["'业主","林燕","3#","'03-01-0705","03-01-0705","2024-04-23","2024-04-23","2024-04-01","2024-04-30",5,"分摊电费（公区）",20.79,null,null,"'已入住","'0","'15306400000355",null,{"$f":"VLOOKUP(B:B,[1]Sheet1!$B:$B,1,0)","v":"林燕"}]
["'业主","吴晓星","3#","'03-01-0706","03-01-0706","2024-04-23","2024-04-23","2024-04-01","2024-04-30",5,"分摊电费（公区）",20.79,null,null,"'已交空置","'0","'15306400000356",null,{"$f":"VLOOKUP(B:B,[1]Sheet1!$B:$B,1,0)","v":"吴晓星"}]
["'业主","傅雪枫","3#","'03-01-0707","03-01-0707","2024-04-23","2024-04-23","2024-04-01","2024-04-30",5,"分摊电费（公区）",20.79,null,null,"'已入住","'0","'15306400000357",null,{"$f":"VLOOKUP(B:B,[1]Sheet1!$B:$B,1,0)","v":"傅雪枫"}]
["'业主","陈银高","3#","'03-01-0802","03-01-0802","2024-04-23","2024-04-23","2024-04-01","2024-04-30",5,"分摊电费（公区）",20.79,null,null,"'已交空置","'0","'15306400000358",null,{"$f":"VLOOKUP(B:B,[1]Sheet1!$B:$B,1,0)","v":"陈银高"}]
["'业主","李涵诗","3#","'03-01-0803","03-01-0803","2024-04-23","2024-04-23","2024-04-01","2024-04-30",5,"分摊电费（公区）",20.79,null,null,"'已入住","'0","'15306400000359",null,{"$f":"VLOOKUP(B:B,[1]Sheet1!$B:$B,1,0)","v":"李涵诗"}]
["'业主","陈文平","3#","'03-01-0805","03-01-0805","2024-04-23","2024-04-23","2024-04-01","2024-04-30",5,"分摊电费（公区）",20.79,null,null,"'已入住","'0","'15306400000360",null,{"$f":"VLOOKUP(B:B,[1]Sheet1!$B:$B,1,0)","v":"陈文平"}]
["'业主","李诗腾","3#","'03-01-0806","03-01-0806","2024-04-23","2024-04-23","2024-04-01","2024-04-30",5,"分摊电费（公区）",20.79,null,null,"'已入住","'0","'15306400000361",null,{"$f":"VLOOKUP(B:B,[1]Sheet1!$B:$B,1,0)","v":"李诗腾"}]
["'业主","李秀英","3#","'03-01-0807","03-01-0807","2024-04-23","2024-04-23","2024-04-01","2024-04-30",5,"分摊电费（公区）",20.79,null,null,"'已入住","'0","'15306400000362",null,{"$f":"VLOOKUP(B:B,[1]Sheet1!$B:$B,1,0)","v":"李秀英"}]
["'业主","毕雨甜","3#","'03-01-0901","03-01-0901","2024-04-23","2024-04-23","2024-04-01","2024-04-30",5,"分摊电费（公区）",20.79,null,null,"'已入住","'0","'15306400000363",null,{"$f":"VLOOKUP(B:B,[1]Sheet1!$B:$B,1,0)","v":"毕雨甜"}]
["'业主","李丽英","3#","'03-01-0903","03-01-0903","2024-04-23","2024-04-23","2024-04-01","2024-04-30",5,"分摊电费（公区）",20.79,null,null,"'已入住","'0","'15306400000364",null,{"$f":"VLOOKUP(B:B,[1]Sheet1!$B:$B,1,0)","v":"李丽英"}]
["'业主","陈银辉","3#","'03-01-0905","03-01-0905","2024-04-23","2024-04-23","2024-04-01","2024-04-30",5,"分摊电费（公区）",20.79,null,null,"'出租中","'0","'15306400000365",null,{"$f":"VLOOKUP(B:B,[1]Sheet1!$B:$B,1,0)","v":"陈银辉"}]
["'业主","许娜","3#","'03-01-0906","03-01-0906","2024-04-23","2024-04-23","2024-04-01","2024-04-30",5,"分摊电费（公区）",20.79,null,null,"'已入住","'0","'15306400000366",null,{"$f":"VLOOKUP(B:B,[1]Sheet1!$B:$B,1,0)","v":"许娜"}]
["'业主","沈晓萍","3#","'03-01-0907","03-01-0907","2024-04-23","2024-04-23","2024-04-01","2024-04-30",5,"分摊电费（公区）",20.79,null,null,"'已入住","'0","'15306400000367",null,{"$f":"VLOOKUP(B:B,[1]Sheet1!$B:$B,1,0)","v":"沈晓萍"}]
["'业主","黄婷婷","5#","'05-01-0103","05-01-0103","2024-04-23","2024-04-23","2024-04-01","2024-04-30",5,"分摊电费（公区）",20.79,null,null,"'已交空置","'0","'15306400000577",null,{"$f":"VLOOKUP(B:B,[1]Sheet1!$B:$B,1,0)","v":"黄婷婷"}]
["'业主","梁棋茂","5#","'05-01-0105","05-01-0105","2024-04-23","2024-04-23","2024-04-01","2024-04-30",5,"分摊电费（公区）",20.79,null,null,"'已入住","'0","'15306400000779",null,{"$f":"VLOOKUP(B:B,[1]Sheet1!$B:$B,1,0)","v":"梁棋茂"}]
["'业主","李臻","5#","'05-01-0106","05-01-0106","2024-04-23","2024-04-23","2024-04-01","2024-04-30",5,"分摊电费（公区）",20.79,null,null,"'出租中","'0","'15306400000780",null,{"$f":"VLOOKUP(B:B,[1]Sheet1!$B:$B,1,0)","v":"李臻"}]
["'业主","黄文斌","5#","'05-01-0107","05-01-0107","2024-04-23","2024-04-23","2024-04-01","2024-04-30",5,"分摊电费（公区）",20.79,null,null,"'已入住","'0","'15306400000435",null,{"$f":"VLOOKUP(B:B,[1]Sheet1!$B:$B,1,0)","v":"黄文斌"}]
["'业主","包园园","5#","'05-01-0108","05-01-0108","2024-04-23","2024-04-23","2024-04-01","2024-04-30",5,"分摊电费（公区）",20.79,null,null,"'不常住（停用）","'0","'15306400000436",null,{"$f":"VLOOKUP(B:B,[1]Sheet1!$B:$B,1,0)","v":"包园园"}]
["'业主","徐峰","5#","'05-01-0110","05-01-0110","2024-04-23","2024-04-23","2024-04-01","2024-04-30",5,"分摊电费（公区）",20.79,null,null,"'已入住","'0","'15306400000437",null,{"$f":"VLOOKUP(B:B,[1]Sheet1!$B:$B,1,0)","v":"徐峰"}]
["'业主","林玲","5#","'05-01-0111","05-01-0111","2024-04-23","2024-04-23","2024-04-01","2024-04-30",5,"分摊电费（公区）",20.79,null,null,"'已入住","'0","'15306400000438",null,{"$f":"VLOOKUP(B:B,[1]Sheet1!$B:$B,1,0)","v":"林玲"}]
["'业主","肖作杰","5#","'05-01-0112","05-01-0112","2024-04-23","2024-04-23","2024-04-01","2024-04-30",5,"分摊电费（公区）",20.79,null,null,"'已入住","'0","'15306400000439",null,{"$f":"VLOOKUP(B:B,[1]Sheet1!$B:$B,1,0)","v":"肖作杰"}]
["'业主","张爱英","5#","'05-01-0113","05-01-0113","2024-04-23","2024-04-23","2024-04-01","2024-04-30",5,"分摊电费（公区）",20.79,null,null,"'不常住（停用）","'0","'15306400000440",null,{"$f":"VLOOKUP(B:B,[1]Sheet1!$B:$B,1,0)","v":"张爱英"}]
["'业主","王栋","5#","'05-01-109","05-01-109","2024-04-23","2024-04-23","2024-04-01","2024-04-30",5,"分摊电费（公区）",20.79,null,null,"'已入住","'0","'15306400000768",null,{"$f":"VLOOKUP(B:B,[1]Sheet1!$B:$B,1,0)","v":"王栋"}]
["'业主","龙言","5#","'05-01-1101","05-01-1101","2024-04-23","2024-04-23","2024-04-01","2024-04-30",5,"分摊电费（公区）",20.79,null,null,"'已交空置","'0","'15306400000489",null,{"$f":"VLOOKUP(B:B,[1]Sheet1!$B:$B,1,0)","v":"龙言"}]
["'业主","林胜","5#","'05-01-1102","05-01-1102","2024-04-23","2024-04-23","2024-04-01","2024-04-30",5,"分摊电费（公区）",20.79,null,null,"'已入住","'0","'15306400000490",null,{"$f":"VLOOKUP(B:B,[1]Sheet1!$B:$B,1,0)","v":"林胜"}]
["'业主","黄涛","5#","'05-01-1103","05-01-1103","2024-04-23","2024-04-23","2024-04-01","2024-04-30",5,"分摊电费（公区）",20.79,null,null,"'不常住（停用）","'0","'15306400000491",null,{"$f":"VLOOKUP(B:B,[1]Sheet1!$B:$B,1,0)","v":"黄涛"}]
["'业主","黄星杰","5#","'05-01-1105","05-01-1105","2024-04-23","2024-04-23","2024-04-01","2024-04-30",5,"分摊电费（公区）",20.79,null,null,"'不常住（停用）","'0","'15306400000492",null,{"$f":"VLOOKUP(B:B,[1]Sheet1!$B:$B,1,0)","v":"黄星杰"}]
["'业主","薛文生","5#","'05-01-1106","05-01-1106","2024-04-23","2024-04-23","2024-04-01","2024-04-30",5,"分摊电费（公区）",20.79,null,null,"'已入住","'0","'15306400000493",null,{"$f":"VLOOKUP(B:B,[1]Sheet1!$B:$B,1,0)","v":"薛文生"}]
["'业主","王瑶","5#","'05-01-1107","05-01-1107","2024-04-23","2024-04-23","2024-04-01","2024-04-30",5,"分摊电费（公区）",20.79,null,null,"'不常住（停用）","'0","'15306400000494",null,{"$f":"VLOOKUP(B:B,[1]Sheet1!$B:$B,1,0)","v":"王瑶"}]
["'业主","郑晓刚","5#","'05-01-1108","05-01-1108","2024-04-23","2024-04-23","2024-04-01","2024-04-30",5,"分摊电费（公区）",20.79,null,null,"'已交空置","'0","'15306400000495",null,{"$f":"VLOOKUP(B:B,[1]Sheet1!$B:$B,1,0)","v":"郑晓刚"}]
["'业主","陈天衢","5#","'05-01-1109","05-01-1109","2024-04-23","2024-04-23","2024-04-01","2024-04-30",5,"分摊电费（公区）",20.79,null,null,"'已入住","'0","'15306400000496",null,{"$f":"VLOOKUP(B:B,[1]Sheet1!$B:$B,1,0)","v":"陈天衢"}]
["'业主","高美云","5#","'05-01-1110","05-01-1110","2024-04-23","2024-04-23","2024-04-01","2024-04-30",5,"分摊电费（公区）",20.79,null,null,"'已交空置","'0","'15306400000497",null,{"$f":"VLOOKUP(B:B,[1]Sheet1!$B:$B,1,0)","v":"高美云"}]
["'业主","杨虹","5#","'05-01-1111","05-01-1111","2024-04-23","2024-04-23","2024-04-01","2024-04-30",5,"分摊电费（公区）",20.79,null,null,"'已交空置","'0","'15306400000498",null,{"$f":"VLOOKUP(B:B,[1]Sheet1!$B:$B,1,0)","v":"杨虹"}]
["'业主","蓝俊杰","5#","'05-01-1112","05-01-1112","2024-04-23","2024-04-23","2024-04-01","2024-04-30",5,"分摊电费（公区）",20.79,null,null,"'已入住","'0","'15306400000499",null,{"$f":"VLOOKUP(B:B,[1]Sheet1!$B:$B,1,0)","v":"蓝俊杰"}]
["'业主","姚朱霞","5#","'05-01-1113","05-01-1113","2024-04-23","2024-04-23","2024-04-01","2024-04-30",5,"分摊电费（公区）",20.79,null,null,"'已入住","'0","'15306400000500",null,{"$f":"VLOOKUP(B:B,[1]Sheet1!$B:$B,1,0)","v":"姚朱霞"}]
["'业主","谢梦诗","5#","'05-01-1301","05-01-1301","2024-04-23","2024-04-23","2024-04-01","2024-04-30",5,"分摊电费（公区）",20.79,null,null,"'已入住","'0","'15306400000501",null,{"$f":"VLOOKUP(B:B,[1]Sheet1!$B:$B,1,0)","v":"谢梦诗"}]
["'业主","于晓云","5#","'05-01-1302","05-01-1302","2024-04-23","2024-04-23","2024-04-01","2024-04-30",5,"分摊电费（公区）",20.79,null,null,"'已入住","'0","'15306400000502",null,{"$f":"VLOOKUP(B:B,[1]Sheet1!$B:$B,1,0)","v":"于晓云"}]
["'业主","余弘之","5#","'05-01-1303","05-01-1303","2024-04-23","2024-04-23","2024-04-01","2024-04-30",5,"分摊电费（公区）",20.79,null,null,"'不常住（停用）","'0","'15306400000503",null,{"$f":"VLOOKUP(B:B,[1]Sheet1!$B:$B,1,0)","v":"余弘之"}]
["'业主","洪偲媛","5#","'05-01-1305","05-01-1305","2024-04-23","2024-04-23","2024-04-01","2024-04-30",5,"分摊电费（公区）",20.79,null,null,"'已交空置","'0","'15306400000504",null,{"$f":"VLOOKUP(B:B,[1]Sheet1!$B:$B,1,0)","v":"洪偲媛"}]
["'业主","余乔伟","5#","'05-01-1306","05-01-1306","2024-04-23","2024-04-23","2024-04-01","2024-04-30",5,"分摊电费（公区）",20.79,null,null,"'不常住（停用）","'0","'15306400000505",null,{"$f":"VLOOKUP(B:B,[1]Sheet1!$B:$B,1,0)","v":"余乔伟"}]
["'业主","林靖翔","5#","'05-01-1307","05-01-1307","2024-04-23","2024-04-23","2024-04-01","2024-04-30",5,"分摊电费（公区）",20.79,null,null,"'已入住","'0","'15306400000506",null,{"$f":"VLOOKUP(B:B,[1]Sheet1!$B:$B,1,0)","v":"林靖翔"}]
["'业主","黄秋梅","5#","'05-01-1308","05-01-1308","2024-04-23","2024-04-23","2024-04-01","2024-04-30",5,"分摊电费（公区）",20.79,null,null,"'已入住","'0","'15306400000507",null,{"$f":"VLOOKUP(B:B,[1]Sheet1!$B:$B,1,0)","v":"黄秋梅"}]
["'业主","李卫星","5#","'05-01-1309","05-01-1309","2024-04-23","2024-04-23","2024-04-01","2024-04-30",5,"分摊电费（公区）",20.79,null,null,"'已入住","'0","'15306400000508",null,{"$f":"VLOOKUP(B:B,[1]Sheet1!$B:$B,1,0)","v":"李卫星"}]
["'业主","钟小莺","5#","'05-01-1310","05-01-1310","2024-04-23","2024-04-23","2024-04-01","2024-04-30",5,"分摊电费（公区）",20.79,null,null,"'已入住","'0","'15306400000509",null,{"$f":"VLOOKUP(B:B,[1]Sheet1!$B:$B,1,0)","v":"钟小莺"}]
["'业主","林芳","5#","'05-01-1311","05-01-1311","2024-04-23","2024-04-23","2024-04-01","2024-04-30",5,"分摊电费（公区）",20.79,null,null,"'已入住","'0","'15306400000510",null,{"$f":"VLOOKUP(B:B,[1]Sheet1!$B:$B,1,0)","v":"林芳"}]
["'业主","林鑫","5#","'05-01-1312","05-01-1312","2024-04-23","2024-04-23","2024-04-01","2024-04-30",5,"分摊电费（公区）",20.79,null,null,"'已入住","'0","'15306400000511",null,{"$f":"VLOOKUP(B:B,[1]Sheet1!$B:$B,1,0)","v":"林鑫"}]
["'业主","王远彬","5#","'05-01-1313","05-01-1313","2024-04-23","2024-04-23","2024-04-01","2024-04-30",5,"分摊电费（公区）",20.79,null,null,"'已交空置","'0","'15306400000512",null,{"$f":"VLOOKUP(B:B,[1]Sheet1!$B:$B,1,0)","v":"王远彬"}]
["'业主","孙威威","5#","'05-01-1501","05-01-1501","2024-04-23","2024-04-23","2024-04-01","2024-04-30",5,"分摊电费（公区）",20.79,null,null,"'已交空置","'0","'15306400000513",null,{"$f":"VLOOKUP(B:B,[1]Sheet1!$B:$B,1,0)","v":"孙威威"}]
["'业主","魏妹妹","5#","'05-01-1502","05-01-1502","2024-04-23","2024-04-23","2024-04-01","2024-04-30",5,"分摊电费（公区）",20.79,null,null,"'不常住（停用）","'0","'15306400000514",null,{"$f":"VLOOKUP(B:B,[1]Sheet1!$B:$B,1,0)","v":"魏妹妹"}]
["'业主","许丽梅","5#","'05-01-1503","05-01-1503","2024-04-23","2024-04-23","2024-04-01","2024-04-30",5,"分摊电费（公区）",20.79,null,null,"'已入住","'0","'15306400000515",null,{"$f":"VLOOKUP(B:B,[1]Sheet1!$B:$B,1,0)","v":"许丽梅"}]
["'业主","余陈荣","5#","'05-01-1505","05-01-1505","2024-04-23","2024-04-23","2024-04-01","2024-04-30",5,"分摊电费（公区）",20.79,null,null,"'已入住","'0","'15306400000516",null,{"$f":"VLOOKUP(B:B,[1]Sheet1!$B:$B,1,0)","v":"余陈荣"}]
["'业主","杨思涵","5#","'05-01-1506","05-01-1506","2024-04-23","2024-04-23","2024-04-01","2024-04-30",5,"分摊电费（公区）",20.79,null,null,"'出租中","'0","'15306400000517",null,{"$f":"VLOOKUP(B:B,[1]Sheet1!$B:$B,1,0)","v":"杨思涵"}]
["'业主","江泽","5#","'05-01-1507","05-01-1507","2024-04-23","2024-04-23","2024-04-01","2024-04-30",5,"分摊电费（公区）",20.79,null,null,"'已入住","'0","'15306400000518",null,{"$f":"VLOOKUP(B:B,[1]Sheet1!$B:$B,1,0)","v":"江泽"}]
["'业主","张虹","5#","'05-01-1508","05-01-1508","2024-04-23","2024-04-23","2024-04-01","2024-04-30",5,"分摊电费（公区）",20.79,null,null,"'装修中","'0","'15306400000519",null,{"$f":"VLOOKUP(B:B,[1]Sheet1!$B:$B,1,0)","v":"张虹"}]
["'业主","吴悠","5#","'05-01-1509","05-01-1509","2024-04-23","2024-04-23","2024-04-01","2024-04-30",5,"分摊电费（公区）",20.79,null,null,"'已入住","'0","'15306400000520",null,{"$f":"VLOOKUP(B:B,[1]Sheet1!$B:$B,1,0)","v":"吴悠"}]
["'业主","潘锌","5#","'05-01-1510","05-01-1510","2024-04-23","2024-04-23","2024-04-01","2024-04-30",5,"分摊电费（公区）",20.79,null,null,"'已入住","'0","'15306400000521",null,{"$f":"VLOOKUP(B:B,[1]Sheet1!$B:$B,1,0)","v":"潘锌"}]
["'业主","吴莹","5#","'05-01-1511","05-01-1511","2024-04-23","2024-04-23","2024-04-01","2024-04-30",5,"分摊电费（公区）",20.79,null,null,"'已入住","'0","'15306400000522",null,{"$f":"VLOOKUP(B:B,[1]Sheet1!$B:$B,1,0)","v":"吴莹"}]
["'业主","张昌汉","5#","'05-01-1512","05-01-1512","2024-04-23","2024-04-23","2024-04-01","2024-04-30",5,"分摊电费（公区）",20.79,null,null,"'已入住","'0","'15306400000523",null,{"$f":"VLOOKUP(B:B,[1]Sheet1!$B:$B,1,0)","v":"张昌汉"}]
["'业主","高翔","5#","'05-01-1513","05-01-1513","2024-04-23","2024-04-23","2024-04-01","2024-04-30",5,"分摊电费（公区）",20.79,null,null,"'已入住","'0","'15306400000524",null,{"$f":"VLOOKUP(B:B,[1]Sheet1!$B:$B,1,0)","v":"高翔"}]
["'业主","林希","5#","'05-01-1701","05-01-1701","2024-04-23","2024-04-23","2024-04-01","2024-04-30",5,"分摊电费（公区）",20.79,null,null,"'已交空置","'0","'15306400000525",null,{"$f":"VLOOKUP(B:B,[1]Sheet1!$B:$B,1,0)","v":"林希"}]
["'业主","黄晶","5#","'05-01-1702","05-01-1702","2024-04-23","2024-04-23","2024-04-01","2024-04-30",5,"分摊电费（公区）",20.79,null,null,"'不常住（停用）","'0","'15306400000526",null,{"$f":"VLOOKUP(B:B,[1]Sheet1!$B:$B,1,0)","v":"黄晶"}]
["'业主","罗丽婷","5#","'05-01-1703","05-01-1703","2024-04-23","2024-04-23","2024-04-01","2024-04-30",5,"分摊电费（公区）",20.79,null,null,"'已入住","'0","'15306400000527",null,{"$f":"VLOOKUP(B:B,[1]Sheet1!$B:$B,1,0)","v":"罗丽婷"}]
["'业主","何云锋","5#","'05-01-1705","05-01-1705","2024-04-23","2024-04-23","2024-04-01","2024-04-30",5,"分摊电费（公区）",20.79,null,null,"'不常住（停用）","'0","'15306400000528",null,{"$f":"VLOOKUP(B:B,[1]Sheet1!$B:$B,1,0)","v":"何云锋"}]
["'业主","陈芳","5#","'05-01-1706","05-01-1706","2024-04-23","2024-04-23","2024-04-01","2024-04-30",5,"分摊电费（公区）",20.79,null,null,"'已入住","'0","'15306400000529",null,{"$f":"VLOOKUP(B:B,[1]Sheet1!$B:$B,1,0)","v":"陈芳"}]
["'业主","周亚伟","5#","'05-01-1707","05-01-1707","2024-04-23","2024-04-23","2024-04-01","2024-04-30",5,"分摊电费（公区）",20.79,null,null,"'已入住","'0","'15306400000530",null,{"$f":"VLOOKUP(B:B,[1]Sheet1!$B:$B,1,0)","v":"周亚伟"}]
["'业主","翁国娇","5#","'05-01-1708","05-01-1708","2024-04-23","2024-04-23","2024-04-01","2024-04-30",5,"分摊电费（公区）",20.79,null,null,"'不常住（停用）","'0","'15306400000531",null,{"$f":"VLOOKUP(B:B,[1]Sheet1!$B:$B,1,0)","v":"翁国娇"}]
["'业主","蔡永萍","5#","'05-01-1709","05-01-1709","2024-04-23","2024-04-23","2024-04-01","2024-04-30",5,"分摊电费（公区）",20.79,null,null,"'已交空置","'0","'15306400000532",null,{"$f":"VLOOKUP(B:B,[1]Sheet1!$B:$B,1,0)","v":"蔡永萍"}]
["'业主","张宝进","5#","'05-01-1710","05-01-1710","2024-04-23","2024-04-23","2024-04-01","2024-04-30",5,"分摊电费（公区）",20.79,null,null,"'已入住","'0","'15306400000533",null,{"$f":"VLOOKUP(B:B,[1]Sheet1!$B:$B,1,0)","v":"张宝进"}]
["'业主","董梁","5#","'05-01-1711","05-01-1711","2024-04-23","2024-04-23","2024-04-01","2024-04-30",5,"分摊电费（公区）",20.79,null,null,"'已交空置","'0","'15306400000534",null,{"$f":"VLOOKUP(B:B,[1]Sheet1!$B:$B,1,0)","v":"董梁"}]
["'业主","吴苑琴","5#","'05-01-1712","05-01-1712","2024-04-23","2024-04-23","2024-04-01","2024-04-30",5,"分摊电费（公区）",20.79,null,null,"'已入住","'0","'15306400000535",null,{"$f":"VLOOKUP(B:B,[1]Sheet1!$B:$B,1,0)","v":"吴苑琴"}]
["'业主","谢意","5#","'05-01-1713","05-01-1713","2024-04-23","2024-04-23","2024-04-01","2024-04-30",5,"分摊电费（公区）",20.79,null,null,"'已交空置","'0","'15306400000536",null,{"$f":"VLOOKUP(B:B,[1]Sheet1!$B:$B,1,0)","v":"谢意"}]
["'业主","李勤","5#","'05-01-1901","05-01-1901","2024-04-23","2024-04-23","2024-04-01","2024-04-30",5,"分摊电费（公区）",20.79,null,null,"'已入住","'0","'15306400000537",null,{"$f":"VLOOKUP(B:B,[1]Sheet1!$B:$B,1,0)","v":"李勤"}]
["'业主","林燕凤","5#","'05-01-1902","05-01-1902","2024-04-23","2024-04-23","2024-04-01","2024-04-30",5,"分摊电费（公区）",20.79,null,null,"'已入住","'0","'15306400000538",null,{"$f":"VLOOKUP(B:B,[1]Sheet1!$B:$B,1,0)","v":"林燕凤"}]
["'业主","丘秀兰","5#","'05-01-1903","05-01-1903","2024-04-23","2024-04-23","2024-04-01","2024-04-30",5,"分摊电费（公区）",20.79,null,null,"'已入住","'0","'15306400000539",null,{"$f":"VLOOKUP(B:B,[1]Sheet1!$B:$B,1,0)","v":"丘秀兰"}]
["'业主","王颢翔","5#","'05-01-1905","05-01-1905","2024-04-23","2024-04-23","2024-04-01","2024-04-30",5,"分摊电费（公区）",20.79,null,null,"'已入住","'0","'15306400000540",null,{"$f":"VLOOKUP(B:B,[1]Sheet1!$B:$B,1,0)","v":"王颢翔"}]
["'业主","李霞","5#","'05-01-1906","05-01-1906","2024-04-23","2024-04-23","2024-04-01","2024-04-30",5,"分摊电费（公区）",20.79,null,null,"'已入住","'0","'15306400000541",null,{"$f":"VLOOKUP(B:B,[1]Sheet1!$B:$B,1,0)","v":"李霞"}]
["'业主","余彩霖","5#","'05-01-1907","05-01-1907","2024-04-23","2024-04-23","2024-04-01","2024-04-30",5,"分摊电费（公区）",20.79,null,null,"'已交空置","'0","'15306400000542",null,{"$f":"VLOOKUP(B:B,[1]Sheet1!$B:$B,1,0)","v":"余彩霖"}]
["'业主","胡继腾","5#","'05-01-1908","05-01-1908","2024-04-23","2024-04-23","2024-04-01","2024-04-30",5,"分摊电费（公区）",20.79,null,null,"'已入住","'0","'15306400000543",null,{"$f":"VLOOKUP(B:B,[1]Sheet1!$B:$B,1,0)","v":"胡继腾"}]
["'业主","张东凤","5#","'05-01-1909","05-01-1909","2024-04-23","2024-04-23","2024-04-01","2024-04-30",5,"分摊电费（公区）",20.79,null,null,"'已入住","'0","'15306400000781",null,{"$f":"VLOOKUP(B:B,[1]Sheet1!$B:$B,1,0)","v":"张东凤"}]
["'业主","林晓钦","5#","'05-01-1910","05-01-1910","2024-04-23","2024-04-23","2024-04-01","2024-04-30",5,"分摊电费（公区）",20.79,null,null,"'已入住","'0","'15306400000545",null,{"$f":"VLOOKUP(B:B,[1]Sheet1!$B:$B,1,0)","v":"林晓钦"}]
["'业主","杨芳","5#","'05-01-1911","05-01-1911","2024-04-23","2024-04-23","2024-04-01","2024-04-30",5,"分摊电费（公区）",20.79,null,null,"'已交空置","'0","'15306400000546",null,{"$f":"VLOOKUP(B:B,[1]Sheet1!$B:$B,1,0)","v":"杨芳"}]
["'业主","吴伟俊","5#","'05-01-1912","05-01-1912","2024-04-23","2024-04-23","2024-04-01","2024-04-30",5,"分摊电费（公区）",20.79,null,null,"'已入住","'0","'15306400000547",null,{"$f":"VLOOKUP(B:B,[1]Sheet1!$B:$B,1,0)","v":"吴伟俊"}]
["'业主","严钰玮","5#","'05-01-1913","05-01-1913","2024-04-23","2024-04-23","2024-04-01","2024-04-30",5,"分摊电费（公区）",20.79,null,null,"'已交空置","'0","'15306400000548",null,{"$f":"VLOOKUP(B:B,[1]Sheet1!$B:$B,1,0)","v":"严钰玮"}]
["'业主","魏钦妹","5#","'05-01-2101","05-01-2101","2024-04-23","2024-04-23","2024-04-01","2024-04-30",5,"分摊电费（公区）",20.79,null,null,"'已入住","'0","'15306400000549",null,{"$f":"VLOOKUP(B:B,[1]Sheet1!$B:$B,1,0)","v":"魏钦妹"}]
["'业主","林美寿","5#","'05-01-2102","05-01-2102","2024-04-23","2024-04-23","2024-04-01","2024-04-30",5,"分摊电费（公区）",20.79,null,null,"'已入住","'0","'15306400000550",null,{"$f":"VLOOKUP(B:B,[1]Sheet1!$B:$B,1,0)","v":"林美寿"}]
["'业主","洪昇","5#","'05-01-2103","05-01-2103","2024-04-23","2024-04-23","2024-04-01","2024-04-30",5,"分摊电费（公区）",20.79,null,null,"'已交空置","'0","'15306400000551",null,{"$f":"VLOOKUP(B:B,[1]Sheet1!$B:$B,1,0)","v":"洪昇"}]
["'业主","林凌勇","5#","'05-01-2105","05-01-2105","2024-04-23","2024-04-23","2024-04-01","2024-04-30",5,"分摊电费（公区）",20.79,null,null,"'已入住","'0","'15306400000552",null,{"$f":"VLOOKUP(B:B,[1]Sheet1!$B:$B,1,0)","v":"林凌勇"}]
["'业主","叶志斌","5#","'05-01-2106","05-01-2106","2024-04-23","2024-04-23","2024-04-01","2024-04-30",5,"分摊电费（公区）",20.79,null,null,"'不常住（停用）","'0","'15306400000553",null,{"$f":"VLOOKUP(B:B,[1]Sheet1!$B:$B,1,0)","v":"叶志斌"}]
["'业主","陈扬玲","5#","'05-01-2107","05-01-2107","2024-04-23","2024-04-23","2024-04-01","2024-04-30",5,"分摊电费（公区）",20.79,null,null,"'已入住","'0","'15306400000554",null,{"$f":"VLOOKUP(B:B,[1]Sheet1!$B:$B,1,0)","v":"陈扬玲"}]
["'业主","邱恒伟","5#","'05-01-2108","05-01-2108","2024-04-23","2024-04-23","2024-04-01","2024-04-30",5,"分摊电费（公区）",20.79,null,null,"'已交空置","'0","'15306400000555",null,{"$f":"VLOOKUP(B:B,[1]Sheet1!$B:$B,1,0)","v":"邱恒伟"}]
["'业主","赵泽燃","5#","'05-01-2109","05-01-2109","2024-04-23","2024-04-23","2024-04-01","2024-04-30",5,"分摊电费（公区）",20.79,null,null,"'不常住（停用）","'0","'15306400000556",null,{"$f":"VLOOKUP(B:B,[1]Sheet1!$B:$B,1,0)","v":"赵泽燃"}]
["'业主","陈秀芬","5#","'05-01-2110","05-01-2110","2024-04-23","2024-04-23","2024-04-01","2024-04-30",5,"分摊电费（公区）",20.79,null,null,"'已交空置","'0","'15306400000557",null,{"$f":"VLOOKUP(B:B,[1]Sheet1!$B:$B,1,0)","v":"陈秀芬"}]
["'业主","陈兴宏","5#","'05-01-2111","05-01-2111","2024-04-23","2024-04-23","2024-04-01","2024-04-30",5,"分摊电费（公区）",20.79,null,null,"'已入住","'0","'15306400000558",null,{"$f":"VLOOKUP(B:B,[1]Sheet1!$B:$B,1,0)","v":"陈兴宏"}]
["'业主","朱升磊","5#","'05-01-2112","05-01-2112","2024-04-23","2024-04-23","2024-04-01","2024-04-30",5,"分摊电费（公区）",20.79,null,null,"'已交空置","'0","'15306400000559",null,{"$f":"VLOOKUP(B:B,[1]Sheet1!$B:$B,1,0)","v":"朱升磊"}]
["'业主","林艳","5#","'05-01-2113","05-01-2113","2024-04-23","2024-04-23","2024-04-01","2024-04-30",5,"分摊电费（公区）",20.79,null,null,"'已入住","'0","'15306400000560",null,{"$f":"VLOOKUP(B:B,[1]Sheet1!$B:$B,1,0)","v":"林艳"}]
["'业主","魏先钦","5#","'05-01-2301","05-01-2301","2024-04-23","2024-04-23","2024-04-01","2024-04-30",5,"分摊电费（公区）",20.79,null,null,"'已入住","'0","'15306400000561",null,{"$f":"VLOOKUP(B:B,[1]Sheet1!$B:$B,1,0)","v":"魏先钦"}]
["'业主","邓卫强","5#","'05-01-2302","05-01-2302","2024-04-23","2024-04-23","2024-04-01","2024-04-30",5,"分摊电费（公区）",20.79,null,null,"'已入住","'0","'15306400000562",null,{"$f":"VLOOKUP(B:B,[1]Sheet1!$B:$B,1,0)","v":"邓卫强"}]
["'业主","陈晓霞","5#","'05-01-2303","05-01-2303","2024-04-23","2024-04-23","2024-04-01","2024-04-30",5,"分摊电费（公区）",20.79,null,null,"'已入住","'0","'15306400000563",null,{"$f":"VLOOKUP(B:B,[1]Sheet1!$B:$B,1,0)","v":"陈晓霞"}]
["'业主","潘雨宁","5#","'05-01-2305","05-01-2305","2024-04-23","2024-04-23","2024-04-01","2024-04-30",5,"分摊电费（公区）",20.79,null,null,"'不常住（停用）","'0","'15306400000564",null,{"$f":"VLOOKUP(B:B,[1]Sheet1!$B:$B,1,0)","v":"潘雨宁"}]
["'业主","陈维旋","5#","'05-01-2306","05-01-2306","2024-04-23","2024-04-23","2024-04-01","2024-04-30",5,"分摊电费（公区）",20.79,null,null,"'已入住","'0","'15306400000565",null,{"$f":"VLOOKUP(B:B,[1]Sheet1!$B:$B,1,0)","v":"陈维旋"}]
["'业主","潘芷昕","5#","'05-01-2307","05-01-2307","2024-04-23","2024-04-23","2024-04-01","2024-04-30",5,"分摊电费（公区）",20.79,null,null,"'已入住","'0","'15306400000566",null,{"$f":"VLOOKUP(B:B,[1]Sheet1!$B:$B,1,0)","v":"潘芷昕"}]
["'业主","林密","5#","'05-01-2308","05-01-2308","2024-04-23","2024-04-23","2024-04-01","2024-04-30",5,"分摊电费（公区）",20.79,null,null,"'已入住","'0","'15306400000567",null,{"$f":"VLOOKUP(B:B,[1]Sheet1!$B:$B,1,0)","v":"林密"}]
["'业主","温守增","5#","'05-01-2309","05-01-2309","2024-04-23","2024-04-23","2024-04-01","2024-04-30",5,"分摊电费（公区）",20.79,null,null,"'已入住","'0","'15306400000568",null,{"$f":"VLOOKUP(B:B,[1]Sheet1!$B:$B,1,0)","v":"温守增"}]
["'业主","陈颖杨","5#","'05-01-2310","05-01-2310","2024-04-23","2024-04-23","2024-04-01","2024-04-30",5,"分摊电费（公区）",20.79,null,null,"'已入住","'0","'15306400000569",null,{"$f":"VLOOKUP(B:B,[1]Sheet1!$B:$B,1,0)","v":"陈颖杨"}]
["'业主","张志彬","5#","'05-01-2311","05-01-2311","2024-04-23","2024-04-23","2024-04-01","2024-04-30",5,"分摊电费（公区）",20.79,null,null,"'已入住","'0","'15306400000570",null,{"$f":"VLOOKUP(B:B,[1]Sheet1!$B:$B,1,0)","v":"张志彬"}]
["'业主","吕榕剑","5#","'05-01-2312","05-01-2312","2024-04-23","2024-04-23","2024-04-01","2024-04-30",5,"分摊电费（公区）",20.79,null,null,"'已入住","'0","'15306400000571",null,{"$f":"VLOOKUP(B:B,[1]Sheet1!$B:$B,1,0)","v":"吕榕剑"}]
["'业主","张宝凤","5#","'05-01-2313","05-01-2313","2024-04-23","2024-04-23","2024-04-01","2024-04-30",5,"分摊电费（公区）",20.79,null,null,"'已入住","'0","'15306400000572",null,{"$f":"VLOOKUP(B:B,[1]Sheet1!$B:$B,1,0)","v":"张宝凤"}]
["'业主","林忠坤","5#","'05-01-0301","05-01-0301","2024-04-23","2024-04-23","2024-04-01","2024-04-30",5,"分摊电费（公区）",20.79,null,null,"'已入住","'0","'15306400000441",null,{"$f":"VLOOKUP(B:B,[1]Sheet1!$B:$B,1,0)","v":"林忠坤"}]
["'业主","胡继辉","5#","'05-01-0302","05-01-0302","2024-04-23","2024-04-23","2024-04-01","2024-04-30",5,"分摊电费（公区）",20.79,null,null,"'已入住","'0","'15306400000442",null,{"$f":"VLOOKUP(B:B,[1]Sheet1!$B:$B,1,0)","v":"胡继辉"}]
["'业主","谢良运","5#","'05-01-0303","05-01-0303","2024-04-23","2024-04-23","2024-04-01","2024-04-30",5,"分摊电费（公区）",20.79,null,null,"'已入住","'0","'15306400000443",null,{"$f":"VLOOKUP(B:B,[1]Sheet1!$B:$B,1,0)","v":"谢良运"}]
["'业主","徐少铭","5#","'05-01-0305","05-01-0305","2024-04-23","2024-04-23","2024-04-01","2024-04-30",5,"分摊电费（公区）",20.79,null,null,"'已入住","'0","'15306400000444",null,{"$f":"VLOOKUP(B:B,[1]Sheet1!$B:$B,1,0)","v":"徐少铭"}]
["'业主","刘奶增","5#","'05-01-0306","05-01-0306","2024-04-23","2024-04-23","2024-04-01","2024-04-30",5,"分摊电费（公区）",20.79,null,null,"'已入住","'0","'15306400000445",null,{"$f":"VLOOKUP(B:B,[1]Sheet1!$B:$B,1,0)","v":"刘奶增"}]
["'业主","唐文倩","5#","'05-01-0307","05-01-0307","2024-04-23","2024-04-23","2024-04-01","2024-04-30",5,"分摊电费（公区）",20.79,null,null,"'已交空置","'0","'15306400000446",null,{"$f":"VLOOKUP(B:B,[1]Sheet1!$B:$B,1,0)","v":"唐文倩"}]
["'业主","吴建棋","5#","'05-01-0308","05-01-0308","2024-04-23","2024-04-23","2024-04-01","2024-04-30",5,"分摊电费（公区）",20.79,null,null,"'已入住","'0","'15306400000447",null,{"$f":"VLOOKUP(B:B,[1]Sheet1!$B:$B,1,0)","v":"吴建棋"}]
["'业主","王迟洪金","5#","'05-01-0309","05-01-0309","2024-04-23","2024-04-23","2024-04-01","2024-04-30",5,"分摊电费（公区）",20.79,null,null,"'已交空置","'0","'15306400000448",null,{"$f":"VLOOKUP(B:B,[1]Sheet1!$B:$B,1,0)","v":"王迟洪金"}]
["'业主","吴惠民","5#","'05-01-0310","05-01-0310","2024-04-23","2024-04-23","2024-04-01","2024-04-30",5,"分摊电费（公区）",20.79,null,null,"'已入住","'0","'15306400000449",null,{"$f":"VLOOKUP(B:B,[1]Sheet1!$B:$B,1,0)","v":"吴惠民"}]
["'业主","黄玮","5#","'05-01-0311","05-01-0311","2024-04-23","2024-04-23","2024-04-01","2024-04-30",5,"分摊电费（公区）",20.79,null,null,"'已入住","'0","'15306400000450",null,{"$f":"VLOOKUP(B:B,[1]Sheet1!$B:$B,1,0)","v":"黄玮"}]
["'业主","陈玉珍","5#","'05-01-0312","05-01-0312","2024-04-23","2024-04-23","2024-04-01","2024-04-30",5,"分摊电费（公区）",20.79,null,null,"'已入住","'0","'15306400000451",null,{"$f":"VLOOKUP(B:B,[1]Sheet1!$B:$B,1,0)","v":"陈玉珍"}]
["'业主","丘佳琳","5#","'05-01-0313","05-01-0313","2024-04-23","2024-04-23","2024-04-01","2024-04-30",5,"分摊电费（公区）",20.79,null,null,"'已入住","'0","'15306400000452",null,{"$f":"VLOOKUP(B:B,[1]Sheet1!$B:$B,1,0)","v":"丘佳琳"}]
["'业主","郑荣","5#","'05-01-0501","05-01-0501","2024-04-23","2024-04-23","2024-04-01","2024-04-30",5,"分摊电费（公区）",20.79,null,null,"'已入住","'0","'15306400000453",null,{"$f":"VLOOKUP(B:B,[1]Sheet1!$B:$B,1,0)","v":"郑荣"}]
["'业主","胡杨柳","5#","'05-01-0502","05-01-0502","2024-04-23","2024-04-23","2024-04-01","2024-04-30",5,"分摊电费（公区）",20.79,null,null,"'已入住","'0","'15306400000454",null,{"$f":"VLOOKUP(B:B,[1]Sheet1!$B:$B,1,0)","v":"胡杨柳"}]
["'业主","林晓洪","5#","'05-01-0503","05-01-0503","2024-04-23","2024-04-23","2024-04-01","2024-04-30",5,"分摊电费（公区）",20.79,null,null,"'已交空置","'0","'15306400000455",null,{"$f":"VLOOKUP(B:B,[1]Sheet1!$B:$B,1,0)","v":"林晓洪"}]
["'业主","刘佳","5#","'05-01-0505","05-01-0505","2024-04-23","2024-04-23","2024-04-01","2024-04-30",5,"分摊电费（公区）",20.79,null,null,"'不常住（停用）","'0","'15306400000456",null,{"$f":"VLOOKUP(B:B,[1]Sheet1!$B:$B,1,0)","v":"刘佳"}]
["'业主","黄义金生","5#","'05-01-0506","05-01-0506","2024-04-23","2024-04-23","2024-04-01","2024-04-30",5,"分摊电费（公区）",20.79,null,null,"'已交空置","'0","'15306400000457",null,{"$f":"VLOOKUP(B:B,[1]Sheet1!$B:$B,1,0)","v":"黄义金生"}]
["'业主","张荣剑","5#","'05-01-0507","05-01-0507","2024-04-23","2024-04-23","2024-04-01","2024-04-30",5,"分摊电费（公区）",20.79,null,null,"'已入住","'0","'15306400000458",null,{"$f":"VLOOKUP(B:B,[1]Sheet1!$B:$B,1,0)","v":"张荣剑"}]
["'业主","蔡璋曦","5#","'05-01-0508","05-01-0508","2024-04-23","2024-04-23","2024-04-01","2024-04-30",5,"分摊电费（公区）",20.79,null,null,"'已入住","'0","'15306400000459",null,{"$f":"VLOOKUP(B:B,[1]Sheet1!$B:$B,1,0)","v":"蔡璋曦"}]
["'业主","傅晓","5#","'05-01-0509","05-01-0509","2024-04-23","2024-04-23","2024-04-01","2024-04-30",5,"分摊电费（公区）",20.79,null,null,"'已入住","'0","'15306400000460",null,{"$f":"VLOOKUP(B:B,[1]Sheet1!$B:$B,1,0)","v":"傅晓"}]
["'业主","谢菊金","5#","'05-01-0510","05-01-0510","2024-04-23","2024-04-23","2024-04-01","2024-04-30",5,"分摊电费（公区）",20.79,null,null,"'不常住（停用）","'0","'15306400000461",null,{"$f":"VLOOKUP(B:B,[1]Sheet1!$B:$B,1,0)","v":"谢菊金"}]
["'业主","吴祖杰","5#","'05-01-0511","05-01-0511","2024-04-23","2024-04-23","2024-04-01","2024-04-30",5,"分摊电费（公区）",20.79,null,null,"'装修中","'0","'15306400000462",null,{"$f":"VLOOKUP(B:B,[1]Sheet1!$B:$B,1,0)","v":"吴祖杰"}]
["'业主","张丽金","5#","'05-01-0512","05-01-0512","2024-04-23","2024-04-23","2024-04-01","2024-04-30",5,"分摊电费（公区）",20.79,null,null,"'已入住","'0","'15306400000463",null,{"$f":"VLOOKUP(B:B,[1]Sheet1!$B:$B,1,0)","v":"张丽金"}]
["'业主","张锦仕","5#","'05-01-0513","05-01-0513","2024-04-23","2024-04-23","2024-04-01","2024-04-30",5,"分摊电费（公区）",20.79,null,null,"'已交空置","'0","'15306400000464",null,{"$f":"VLOOKUP(B:B,[1]Sheet1!$B:$B,1,0)","v":"张锦仕"}]
["'业主","万里","5#","'05-01-0701","05-01-0701","2024-04-23","2024-04-23","2024-04-01","2024-04-30",5,"分摊电费（公区）",20.79,null,null,"'已入住","'0","'15306400000465",null,{"$f":"VLOOKUP(B:B,[1]Sheet1!$B:$B,1,0)","v":"万里"}]
["'业主","吴娟玲","5#","'05-01-0702","05-01-0702","2024-04-23","2024-04-23","2024-04-01","2024-04-30",5,"分摊电费（公区）",20.79,null,null,"'不常住（停用）","'0","'15306400000466",null,{"$f":"VLOOKUP(B:B,[1]Sheet1!$B:$B,1,0)","v":"吴娟玲"}]
["'业主","陈沁宇","5#","'05-01-0703","05-01-0703","2024-04-23","2024-04-23","2024-04-01","2024-04-30",5,"分摊电费（公区）",20.79,null,null,"'装修中","'0","'15306400000467",null,{"$f":"VLOOKUP(B:B,[1]Sheet1!$B:$B,1,0)","v":"陈沁宇"}]
["'业主","邢剑锋","5#","'05-01-0705","05-01-0705","2024-04-23","2024-04-23","2024-04-01","2024-04-30",5,"分摊电费（公区）",20.79,null,null,"'不常住（停用）","'0","'15306400000468",null,{"$f":"VLOOKUP(B:B,[1]Sheet1!$B:$B,1,0)","v":"邢剑锋"}]
["'业主","潘禹彬","5#","'05-01-0706","05-01-0706","2024-04-23","2024-04-23","2024-04-01","2024-04-30",5,"分摊电费（公区）",20.79,null,null,"'已入住","'0","'15306400000469",null,{"$f":"VLOOKUP(B:B,[1]Sheet1!$B:$B,1,0)","v":"潘禹彬"}]
["'业主","蒋雪梅","5#","'05-01-0707","05-01-0707","2024-04-23","2024-04-23","2024-04-01","2024-04-30",5,"分摊电费（公区）",20.79,null,null,"'已入住","'0","'15306400000470",null,{"$f":"VLOOKUP(B:B,[1]Sheet1!$B:$B,1,0)","v":"蒋雪梅"}]
["'业主","陈贤达","5#","'05-01-0708","05-01-0708","2024-04-23","2024-04-23","2024-04-01","2024-04-30",5,"分摊电费（公区）",20.79,null,null,"'不常住（停用）","'0","'15306400000471",null,{"$f":"VLOOKUP(B:B,[1]Sheet1!$B:$B,1,0)","v":"陈贤达"}]
["'业主","李之涌","5#","'05-01-0709","05-01-0709","2024-04-23","2024-04-23","2024-04-01","2024-04-30",5,"分摊电费（公区）",20.79,null,null,"'已入住","'0","'15306400000472",null,{"$f":"VLOOKUP(B:B,[1]Sheet1!$B:$B,1,0)","v":"李之涌"}]
["'业主","张美华","5#","'05-01-0710","05-01-0710","2024-04-23","2024-04-23","2024-04-01","2024-04-30",5,"分摊电费（公区）",20.79,null,null,"'已入住","'0","'15306400000473",null,{"$f":"VLOOKUP(B:B,[1]Sheet1!$B:$B,1,0)","v":"张美华"}]
["'业主","黄丽","5#","'05-01-0711","05-01-0711","2024-04-23","2024-04-23","2024-04-01","2024-04-30",5,"分摊电费（公区）",20.79,null,null,"'已入住","'0","'15306400000474",null,{"$f":"VLOOKUP(B:B,[1]Sheet1!$B:$B,1,0)","v":"黄丽"}]
["'业主","庄艳霞","5#","'05-01-0712","05-01-0712","2024-04-23","2024-04-23","2024-04-01","2024-04-30",5,"分摊电费（公区）",20.79,null,null,"'已入住","'0","'15306400000475",null,{"$f":"VLOOKUP(B:B,[1]Sheet1!$B:$B,1,0)","v":"庄艳霞"}]
["'业主","黄炳生","5#","'05-01-0713","05-01-0713","2024-04-23","2024-04-23","2024-04-01","2024-04-30",5,"分摊电费（公区）",20.79,null,null,"'已交空置","'0","'15306400000476",null,{"$f":"VLOOKUP(B:B,[1]Sheet1!$B:$B,1,0)","v":"黄炳生"}]
["'业主","柳秉医","5#","'05-01-0901","05-01-0901","2024-04-23","2024-04-23","2024-04-01","2024-04-30",5,"分摊电费（公区）",20.79,null,null,"'已入住","'0","'15306400000477",null,{"$f":"VLOOKUP(B:B,[1]Sheet1!$B:$B,1,0)","v":"柳秉医"}]
["'业主","苏无珊","5#","'05-01-0902","05-01-0902","2024-04-23","2024-04-23","2024-04-01","2024-04-30",5,"分摊电费（公区）",20.79,null,null,"'不常住（停用）","'0","'15306400000478",null,{"$f":"VLOOKUP(B:B,[1]Sheet1!$B:$B,1,0)","v":"苏无珊"}]
["'业主","黄营野","5#","'05-01-0903","05-01-0903","2024-04-23","2024-04-23","2024-04-01","2024-04-30",5,"分摊电费（公区）",20.79,null,null,"'出租中","'0","'15306400000479",null,{"$f":"VLOOKUP(B:B,[1]Sheet1!$B:$B,1,0)","v":"黄营野"}]
["'业主","何名忠","5#","'05-01-0905","05-01-0905","2024-04-23","2024-04-23","2024-04-01","2024-04-30",5,"分摊电费（公区）",20.79,null,null,"'装修中","'0","'15306400000480",null,{"$f":"VLOOKUP(B:B,[1]Sheet1!$B:$B,1,0)","v":"何名忠"}]
["'业主","赵阳旭","5#","'05-01-0906","05-01-0906","2024-04-23","2024-04-23","2024-04-01","2024-04-30",5,"分摊电费（公区）",20.79,null,null,"'不常住（停用）","'0","'15306400000481",null,{"$f":"VLOOKUP(B:B,[1]Sheet1!$B:$B,1,0)","v":"赵阳旭"}]
["'业主","林紫文","5#","'05-01-0907","05-01-0907","2024-04-23","2024-04-23","2024-04-01","2024-04-30",5,"分摊电费（公区）",20.79,null,null,"'已入住","'0","'15306400000482",null,{"$f":"VLOOKUP(B:B,[1]Sheet1!$B:$B,1,0)","v":"林紫文"}]
["'业主","余华彬","5#","'05-01-0908","05-01-0908","2024-04-23","2024-04-23","2024-04-01","2024-04-30",5,"分摊电费（公区）",20.79,null,null,"'已入住","'0","'15306400000483",null,{"$f":"VLOOKUP(B:B,[1]Sheet1!$B:$B,1,0)","v":"余华彬"}]
["'业主","陈楚楚","5#","'05-01-0909","05-01-0909","2024-04-23","2024-04-23","2024-04-01","2024-04-30",5,"分摊电费（公区）",20.79,null,null,"'已入住","'0","'15306400000484",null,{"$f":"VLOOKUP(B:B,[1]Sheet1!$B:$B,1,0)","v":"陈楚楚"}]
["'业主","段君","5#","'05-01-0910","05-01-0910","2024-04-23","2024-04-23","2024-04-01","2024-04-30",5,"分摊电费（公区）",20.79,null,null,"'已入住","'0","'15306400000485",null,{"$f":"VLOOKUP(B:B,[1]Sheet1!$B:$B,1,0)","v":"段君"}]
["'业主","李阳","5#","'05-01-0911","05-01-0911","2024-04-23","2024-04-23","2024-04-01","2024-04-30",5,"分摊电费（公区）",20.79,null,null,"'已入住","'0","'15306400000486",null,{"$f":"VLOOKUP(B:B,[1]Sheet1!$B:$B,1,0)","v":"李阳"}]
["'业主","马云明","5#","'05-01-0912","05-01-0912","2024-04-23","2024-04-23","2024-04-01","2024-04-30",5,"分摊电费（公区）",20.79,null,null,"'已交空置","'0","'15306400000487",null,{"$f":"VLOOKUP(B:B,[1]Sheet1!$B:$B,1,0)","v":"马云明"}]
["'业主","邓泽楠","5#","'05-01-0913","05-01-0913","2024-04-23","2024-04-23","2024-04-01","2024-04-30",5,"分摊电费（公区）",20.79,null,null,"'已入住","'0","'15306400000488",null,{"$f":"VLOOKUP(B:B,[1]Sheet1!$B:$B,1,0)","v":"邓泽楠"}]
["'业主","郑雪萍","6#","'06-01-0101","06-01-0101","2024-04-23","2024-04-23","2024-04-01","2024-04-30",5,"分摊电费（公区）",20.79,null,null,"'已入住","'0","'15306400000573",null,{"$f":"VLOOKUP(B:B,[1]Sheet1!$B:$B,1,0)","v":"郑雪萍"}]
["'业主","游凯宁","6#","'06-01-0102","06-01-0102","2024-04-23","2024-04-23","2024-04-01","2024-04-30",5,"分摊电费（公区）",20.79,null,null,"'已入住","'0","'15306400000574",null,{"$f":"VLOOKUP(B:B,[1]Sheet1!$B:$B,1,0)","v":"游凯宁"}]
["'业主","罗杰","6#","'06-01-0103","06-01-0103","2024-04-23","2024-04-23","2024-04-01","2024-04-30",5,"分摊电费（公区）",20.79,null,null,"'已交空置","'0","'15306400000575",null,{"$f":"VLOOKUP(B:B,[1]Sheet1!$B:$B,1,0)","v":"罗杰"}]
["'业主","鄢倩桦","6#","'06-01-0105","06-01-0105","2024-04-23","2024-04-23","2024-04-01","2024-04-30",5,"分摊电费（公区）",20.79,null,null,"'已交空置","'0","'15306400000576",null,{"$f":"VLOOKUP(B:B,[1]Sheet1!$B:$B,1,0)","v":"鄢倩桦"}]
["'业主","谭大为","6#","'06-01-0106","06-01-0106","2024-04-23","2024-04-23","2024-04-01","2024-04-30",5,"分摊电费（公区）",20.79,null,null,"'已入住","'0","'15306400000770",null,{"$f":"VLOOKUP(B:B,[1]Sheet1!$B:$B,1,0)","v":"谭大为"}]
["'业主","周铭龙","6#","'06-01-0107","06-01-0107","2024-04-23","2024-04-23","2024-04-01","2024-04-30",5,"分摊电费（公区）",20.79,null,null,"'已入住","'0","'15306400000578",null,{"$f":"VLOOKUP(B:B,[1]Sheet1!$B:$B,1,0)","v":"周铭龙"}]
["'业主","陈康","6#","'06-01-0108","06-01-0108","2024-04-23","2024-04-23","2024-04-01","2024-04-30",5,"分摊电费（公区）",20.79,null,null,"'已交空置","'0","'15306400000579",null,{"$f":"VLOOKUP(B:B,[1]Sheet1!$B:$B,1,0)","v":"陈康"}]
["'业主","孙雪梅","6#","'06-01-0109","06-01-0109","2024-04-23","2024-04-23","2024-04-01","2024-04-30",5,"分摊电费（公区）",20.79,null,null,"'已入住","'0","'15306400000777",null,{"$f":"VLOOKUP(B:B,[1]Sheet1!$B:$B,1,0)","v":"孙雪梅"}]
["'业主","黄民麟","6#","'06-01-0110","06-01-0110","2024-04-23","2024-04-23","2024-04-01","2024-04-30",5,"分摊电费（公区）",20.79,null,null,"'已入住","'0","'15306400000581",null,{"$f":"VLOOKUP(B:B,[1]Sheet1!$B:$B,1,0)","v":"黄民麟"}]
["'业主","甘美玉","6#","'06-01-0111","06-01-0111","2024-04-23","2024-04-23","2024-04-01","2024-04-30",5,"分摊电费（公区）",20.79,null,null,"'装修中","'0","'15306400000582",null,{"$f":"VLOOKUP(B:B,[1]Sheet1!$B:$B,1,0)","v":"甘美玉"}]
["'业主","陈兆辉","6#","'06-01-0112","06-01-0112","2024-04-23","2024-04-23","2024-04-01","2024-04-30",5,"分摊电费（公区）",20.79,null,null,"'已入住","'0","'15306400000583",null,{"$f":"VLOOKUP(B:B,[1]Sheet1!$B:$B,1,0)","v":"陈兆辉"}]
["'业主","余云珠","6#","'06-01-0113","06-01-0113","2024-04-23","2024-04-23","2024-04-01","2024-04-30",5,"分摊电费（公区）",20.79,null,null,"'已交空置","'0","'15306400000584",null,{"$f":"VLOOKUP(B:B,[1]Sheet1!$B:$B,1,0)","v":"余云珠"}]
["'业主","周世强","6#","'06-01-1101","06-01-1101","2024-04-23","2024-04-23","2024-04-01","2024-04-30",5,"分摊电费（公区）",20.79,null,null,"'已交空置","'0","'15306400000633",null,{"$f":"VLOOKUP(B:B,[1]Sheet1!$B:$B,1,0)","v":"周世强"}]
["'业主","林辉","6#","'06-01-1102","06-01-1102","2024-04-23","2024-04-23","2024-04-01","2024-04-30",5,"分摊电费（公区）",20.79,null,null,"'已交空置","'0","'15306400000634",null,{"$f":"VLOOKUP(B:B,[1]Sheet1!$B:$B,1,0)","v":"林辉"}]
["'业主","叶存昌","6#","'06-01-1103","06-01-1103","2024-04-23","2024-04-23","2024-04-01","2024-04-30",5,"分摊电费（公区）",20.79,null,null,"'已交空置","'0","'15306400000635",null,{"$f":"VLOOKUP(B:B,[1]Sheet1!$B:$B,1,0)","v":"叶存昌"}]
["'业主","林雪珍","6#","'06-01-1105","06-01-1105","2024-04-23","2024-04-23","2024-04-01","2024-04-30",5,"分摊电费（公区）",20.79,null,null,"'已入住","'0","'15306400000636",null,{"$f":"VLOOKUP(B:B,[1]Sheet1!$B:$B,1,0)","v":"林雪珍"}]
["'业主","张庆度","6#","'06-01-1106","06-01-1106","2024-04-23","2024-04-23","2024-04-01","2024-04-30",5,"分摊电费（公区）",20.79,null,null,"'已交空置","'0","'15306400000637",null,{"$f":"VLOOKUP(B:B,[1]Sheet1!$B:$B,1,0)","v":"张庆度"}]
["'业主","陈哲","6#","'06-01-1107","06-01-1107","2024-04-23","2024-04-23","2024-04-01","2024-04-30",5,"分摊电费（公区）",20.79,null,null,"'已入住","'0","'15306400000638",null,{"$f":"VLOOKUP(B:B,[1]Sheet1!$B:$B,1,0)","v":"陈哲"}]
["'业主","许金花","6#","'06-01-1108","06-01-1108","2024-04-23","2024-04-23","2024-04-01","2024-04-30",5,"分摊电费（公区）",20.79,null,null,"'装修中","'0","'15306400000639",null,{"$f":"VLOOKUP(B:B,[1]Sheet1!$B:$B,1,0)","v":"许金花"}]
["'业主","汤荣鑫","6#","'06-01-1109","06-01-1109","2024-04-23","2024-04-23","2024-04-01","2024-04-30",5,"分摊电费（公区）",20.79,null,null,"'已入住","'0","'15306400000640",null,{"$f":"VLOOKUP(B:B,[1]Sheet1!$B:$B,1,0)","v":"汤荣鑫"}]
["'业主","柯丽钦","6#","'06-01-1110","06-01-1110","2024-04-23","2024-04-23","2024-04-01","2024-04-30",5,"分摊电费（公区）",20.79,null,null,"'已入住","'0","'15306400000641",null,{"$f":"VLOOKUP(B:B,[1]Sheet1!$B:$B,1,0)","v":"柯丽钦"}]
["'业主","祝建国","6#","'06-01-1111","06-01-1111","2024-04-23","2024-04-23","2024-04-01","2024-04-30",5,"分摊电费（公区）",20.79,null,null,"'已交空置","'0","'15306400000642",null,{"$f":"VLOOKUP(B:B,[1]Sheet1!$B:$B,1,0)","v":"祝建国"}]
["'业主","林志峰","6#","'06-01-1112","06-01-1112","2024-04-23","2024-04-23","2024-04-01","2024-04-30",5,"分摊电费（公区）",20.79,null,null,"'已交空置","'0","'15306400000643",null,{"$f":"VLOOKUP(B:B,[1]Sheet1!$B:$B,1,0)","v":"林志峰"}]
["'业主","卢加添","6#","'06-01-1113","06-01-1113","2024-04-23","2024-04-23","2024-04-01","2024-04-30",5,"分摊电费（公区）",20.79,null,null,"'已交空置","'0","'15306400000644",null,{"$f":"VLOOKUP(B:B,[1]Sheet1!$B:$B,1,0)","v":"卢加添"}]
["'业主","陈芬兰","6#","'06-01-1301","06-01-1301","2024-04-23","2024-04-23","2024-04-01","2024-04-30",5,"分摊电费（公区）",20.79,null,null,"'出租中","'0","'15306400000645",null,{"$f":"VLOOKUP(B:B,[1]Sheet1!$B:$B,1,0)","v":"陈芬兰"}]
["'业主","胡妮娜","6#","'06-01-1302","06-01-1302","2024-04-23","2024-04-23","2024-04-01","2024-04-30",5,"分摊电费（公区）",20.79,null,null,"'已交空置","'0","'15306400000646",null,{"$f":"VLOOKUP(B:B,[1]Sheet1!$B:$B,1,0)","v":"胡妮娜"}]
["'业主","刘文婕","6#","'06-01-1303","06-01-1303","2024-04-23","2024-04-23","2024-04-01","2024-04-30",5,"分摊电费（公区）",20.79,null,null,"'已交空置","'0","'15306400000647",null,{"$f":"VLOOKUP(B:B,[1]Sheet1!$B:$B,1,0)","v":"刘文婕"}]
["'业主","刘勇","6#","'06-01-1305","06-01-1305","2024-04-23","2024-04-23","2024-04-01","2024-04-30",5,"分摊电费（公区）",20.79,null,null,"'已交空置","'0","'15306400000648",null,{"$f":"VLOOKUP(B:B,[1]Sheet1!$B:$B,1,0)","v":"刘勇"}]
["'业主","王安东","6#","'06-01-1306","06-01-1306","2024-04-23","2024-04-23","2024-04-01","2024-04-30",5,"分摊电费（公区）",20.79,null,null,"'已交空置","'0","'15306400000649",null,{"$f":"VLOOKUP(B:B,[1]Sheet1!$B:$B,1,0)","v":"王安东"}]
["'业主","文岳荣","6#","'06-01-1307","06-01-1307","2024-04-23","2024-04-23","2024-04-01","2024-04-30",5,"分摊电费（公区）",20.79,null,null,"'已入住","'0","'15306400000650",null,{"$f":"VLOOKUP(B:B,[1]Sheet1!$B:$B,1,0)","v":"文岳荣"}]
["'业主","魏明旺","6#","'06-01-1308","06-01-1308","2024-04-23","2024-04-23","2024-04-01","2024-04-30",5,"分摊电费（公区）",20.79,null,null,"'已交空置","'0","'15306400000651",null,{"$f":"VLOOKUP(B:B,[1]Sheet1!$B:$B,1,0)","v":"魏明旺"}]
["'业主","林情情","6#","'06-01-1309","06-01-1309","2024-04-23","2024-04-23","2024-04-01","2024-04-30",5,"分摊电费（公区）",20.79,null,null,"'已入住","'0","'15306400000652",null,{"$f":"VLOOKUP(B:B,[1]Sheet1!$B:$B,1,0)","v":"林情情"}]
["'业主","吴恒金","6#","'06-01-1310","06-01-1310","2024-04-23","2024-04-23","2024-04-01","2024-04-30",5,"分摊电费（公区）",20.79,null,null,"'已交空置","'0","'15306400000653",null,{"$f":"VLOOKUP(B:B,[1]Sheet1!$B:$B,1,0)","v":"吴恒金"}]
["'业主","高明","6#","'06-01-1311","06-01-1311","2024-04-23","2024-04-23","2024-04-01","2024-04-30",5,"分摊电费（公区）",20.79,null,null,"'已交空置","'0","'15306400000654",null,{"$f":"VLOOKUP(B:B,[1]Sheet1!$B:$B,1,0)","v":"高明"}]
["'业主","蒋雯蕾","6#","'06-01-1312","06-01-1312","2024-04-23","2024-04-23","2024-04-01","2024-04-30",5,"分摊电费（公区）",20.79,null,null,"'已入住","'0","'15306400000655",null,{"$f":"VLOOKUP(B:B,[1]Sheet1!$B:$B,1,0)","v":"蒋雯蕾"}]
["'业主","章慧星","6#","'06-01-1313","06-01-1313","2024-04-23","2024-04-23","2024-04-01","2024-04-30",5,"分摊电费（公区）",20.79,null,null,"'已入住","'0","'15306400000656",null,{"$f":"VLOOKUP(B:B,[1]Sheet1!$B:$B,1,0)","v":"章慧星"}]
["'业主","高思敏","6#","'06-01-1501","06-01-1501","2024-04-23","2024-04-23","2024-04-01","2024-04-30",5,"分摊电费（公区）",20.79,null,null,"'已交空置","'0","'15306400000657",null,{"$f":"VLOOKUP(B:B,[1]Sheet1!$B:$B,1,0)","v":"高思敏"}]
["'业主","林月","6#","'06-01-1502","06-01-1502","2024-04-23","2024-04-23","2024-04-01","2024-04-30",5,"分摊电费（公区）",20.79,null,null,"'已交空置","'0","'15306400000658",null,{"$f":"VLOOKUP(B:B,[1]Sheet1!$B:$B,1,0)","v":"林月"}]
["'业主","林云燕","6#","'06-01-1503","06-01-1503","2024-04-23","2024-04-23","2024-04-01","2024-04-30",5,"分摊电费（公区）",20.79,null,null,"'已入住","'0","'15306400000659",null,{"$f":"VLOOKUP(B:B,[1]Sheet1!$B:$B,1,0)","v":"林云燕"}]
["'业主","陈俊杰","6#","'06-01-1505","06-01-1505","2024-04-23","2024-04-23","2024-04-01","2024-04-30",5,"分摊电费（公区）",20.79,null,null,"'已交空置","'0","'15306400000660",null,{"$f":"VLOOKUP(B:B,[1]Sheet1!$B:$B,1,0)","v":"陈俊杰"}]
["'业主","罗联河","6#","'06-01-1506","06-01-1506","2024-04-23","2024-04-23","2024-04-01","2024-04-30",5,"分摊电费（公区）",20.79,null,null,"'已交空置","'0","'15306400000661",null,{"$f":"VLOOKUP(B:B,[1]Sheet1!$B:$B,1,0)","v":"罗联河"}]
["'业主","郑阳","6#","'06-01-1507","06-01-1507","2024-04-23","2024-04-23","2024-04-01","2024-04-30",5,"分摊电费（公区）",20.79,null,null,"'已交空置","'0","'15306400000662",null,{"$f":"VLOOKUP(B:B,[1]Sheet1!$B:$B,1,0)","v":"郑阳"}]
["'业主","王广贺","6#","'06-01-1508","06-01-1508","2024-04-23","2024-04-23","2024-04-01","2024-04-30",5,"分摊电费（公区）",20.79,null,null,"'已入住","'0","'15306400000663",null,{"$f":"VLOOKUP(B:B,[1]Sheet1!$B:$B,1,0)","v":"王广贺"}]
["'业主","张婷","6#","'06-01-1509","06-01-1509","2024-04-23","2024-04-23","2024-04-01","2024-04-30",5,"分摊电费（公区）",20.79,null,null,"'已入住","'0","'15306400000664",null,{"$f":"VLOOKUP(B:B,[1]Sheet1!$B:$B,1,0)","v":"张婷"}]
["'业主","汪海清","6#","'06-01-1510","06-01-1510","2024-04-23","2024-04-23","2024-04-01","2024-04-30",5,"分摊电费（公区）",20.79,null,null,"'已入住","'0","'15306400000665",null,{"$f":"VLOOKUP(B:B,[1]Sheet1!$B:$B,1,0)","v":"汪海清"}]
["'业主","林庆华","6#","'06-01-1511","06-01-1511","2024-04-23","2024-04-23","2024-04-01","2024-04-30",5,"分摊电费（公区）",20.79,null,null,"'已交空置","'0","'15306400000666",null,{"$f":"VLOOKUP(B:B,[1]Sheet1!$B:$B,1,0)","v":"林庆华"}]
["'业主","林春芳","6#","'06-01-1512","06-01-1512","2024-04-23","2024-04-23","2024-04-01","2024-04-30",5,"分摊电费（公区）",20.79,null,null,"'已入住","'0","'15306400000667",null,{"$f":"VLOOKUP(B:B,[1]Sheet1!$B:$B,1,0)","v":"林春芳"}]
["'业主","李克枝","6#","'06-01-1513","06-01-1513","2024-04-23","2024-04-23","2024-04-01","2024-04-30",5,"分摊电费（公区）",20.79,null,null,"'已入住","'0","'15306400000668",null,{"$f":"VLOOKUP(B:B,[1]Sheet1!$B:$B,1,0)","v":"李克枝"}]
["'业主","林滨","6#","'06-01-1701","06-01-1701","2024-04-23","2024-04-23","2024-04-01","2024-04-30",5,"分摊电费（公区）",20.79,null,null,"'已交空置","'0","'15306400000669",null,{"$f":"VLOOKUP(B:B,[1]Sheet1!$B:$B,1,0)","v":"林滨"}]
["'业主","杨邦智","6#","'06-01-1702","06-01-1702","2024-04-23","2024-04-23","2024-04-01","2024-04-30",5,"分摊电费（公区）",20.79,null,null,"'已入住","'0","'15306400000670",null,{"$f":"VLOOKUP(B:B,[1]Sheet1!$B:$B,1,0)","v":"杨邦智"}]
["'业主","郑鉴","6#","'06-01-1703","06-01-1703","2024-04-23","2024-04-23","2024-04-01","2024-04-30",5,"分摊电费（公区）",20.79,null,null,"'已入住","'0","'15306400000671",null,{"$f":"VLOOKUP(B:B,[1]Sheet1!$B:$B,1,0)","v":"郑鉴"}]
["'业主","林龙","6#","'06-01-1705","06-01-1705","2024-04-23","2024-04-23","2024-04-01","2024-04-30",5,"分摊电费（公区）",20.79,null,null,"'已入住","'0","'15306400000672",null,{"$f":"VLOOKUP(B:B,[1]Sheet1!$B:$B,1,0)","v":"林龙"}]
["'业主","唐晓露","6#","'06-01-1706","06-01-1706","2024-04-23","2024-04-23","2024-04-01","2024-04-30",5,"分摊电费（公区）",20.79,null,null,"'已交空置","'0","'15306400000673",null,{"$f":"VLOOKUP(B:B,[1]Sheet1!$B:$B,1,0)","v":"唐晓露"}]
["'业主","叶潇","6#","'06-01-1707","06-01-1707","2024-04-23","2024-04-23","2024-04-01","2024-04-30",5,"分摊电费（公区）",20.79,null,null,"'已交空置","'0","'15306400000674",null,{"$f":"VLOOKUP(B:B,[1]Sheet1!$B:$B,1,0)","v":"叶潇"}]
["'业主","李帅","6#","'06-01-1708","06-01-1708","2024-04-23","2024-04-23","2024-04-01","2024-04-30",5,"分摊电费（公区）",20.79,null,null,"'已交空置","'0","'15306400000675",null,{"$f":"VLOOKUP(B:B,[1]Sheet1!$B:$B,1,0)","v":"李帅"}]
["'业主","璩蓓","6#","'06-01-1709","06-01-1709","2024-04-23","2024-04-23","2024-04-01","2024-04-30",5,"分摊电费（公区）",20.79,null,null,"'已入住","'0","'15306400000676",null,{"$f":"VLOOKUP(B:B,[1]Sheet1!$B:$B,1,0)","v":"璩蓓"}]
["'业主","雷文超","6#","'06-01-1710","06-01-1710","2024-04-23","2024-04-23","2024-04-01","2024-04-30",5,"分摊电费（公区）",20.79,null,null,"'已交空置","'0","'15306400000677",null,{"$f":"VLOOKUP(B:B,[1]Sheet1!$B:$B,1,0)","v":"雷文超"}]
["'业主","邓江天","6#","'06-01-1711","06-01-1711","2024-04-23","2024-04-23","2024-04-01","2024-04-30",5,"分摊电费（公区）",20.79,null,null,"'已入住","'0","'15306400000678",null,{"$f":"VLOOKUP(B:B,[1]Sheet1!$B:$B,1,0)","v":"邓江天"}]
["'业主","陈滨","6#","'06-01-1712","06-01-1712","2024-04-23","2024-04-23","2024-04-01","2024-04-30",5,"分摊电费（公区）",20.79,null,null,"'已入住","'0","'15306400000679",null,{"$f":"VLOOKUP(B:B,[1]Sheet1!$B:$B,1,0)","v":"陈滨"}]
["'业主","陈妍","6#","'06-01-1713","06-01-1713","2024-04-23","2024-04-23","2024-04-01","2024-04-30",5,"分摊电费（公区）",20.79,null,null,"'已入住","'0","'15306400000680",null,{"$f":"VLOOKUP(B:B,[1]Sheet1!$B:$B,1,0)","v":"陈妍"}]
["'业主","杨叶","6#","'06-01-1901","06-01-1901","2024-04-23","2024-04-23","2024-04-01","2024-04-30",5,"分摊电费（公区）",20.79,null,null,"'已入住","'0","'15306400000681",null,{"$f":"VLOOKUP(B:B,[1]Sheet1!$B:$B,1,0)","v":"杨叶"}]
["'业主","余安东","6#","'06-01-1902","06-01-1902","2024-04-23","2024-04-23","2024-04-01","2024-04-30",5,"分摊电费（公区）",20.79,null,null,"'已交空置","'0","'15306400000682",null,{"$f":"VLOOKUP(B:B,[1]Sheet1!$B:$B,1,0)","v":"余安东"}]
["'业主","吴祥鹏","6#","'06-01-1903","06-01-1903","2024-04-23","2024-04-23","2024-04-01","2024-04-30",5,"分摊电费（公区）",20.79,null,null,"'已交空置","'0","'15306400000683",null,{"$f":"VLOOKUP(B:B,[1]Sheet1!$B:$B,1,0)","v":"吴祥鹏"}]
["'业主","王赛丽","6#","'06-01-1905","06-01-1905","2024-04-23","2024-04-23","2024-04-01","2024-04-30",5,"分摊电费（公区）",20.79,null,null,"'出租中","'0","'15306400000684",null,{"$f":"VLOOKUP(B:B,[1]Sheet1!$B:$B,1,0)","v":"王赛丽"}]
["'业主","潘险峰","6#","'06-01-1906","06-01-1906","2024-04-23","2024-04-23","2024-04-01","2024-04-30",5,"分摊电费（公区）",20.79,null,null,"'已交空置","'0","'15306400000685",null,{"$f":"VLOOKUP(B:B,[1]Sheet1!$B:$B,1,0)","v":"潘险峰"}]
["'业主","宋声英","6#","'06-01-1907","06-01-1907","2024-04-23","2024-04-23","2024-04-01","2024-04-30",5,"分摊电费（公区）",20.79,null,null,"'已入住","'0","'15306400000686",null,{"$f":"VLOOKUP(B:B,[1]Sheet1!$B:$B,1,0)","v":"宋声英"}]
["'业主","林芬","6#","'06-01-1908","06-01-1908","2024-04-23","2024-04-23","2024-04-01","2024-04-30",5,"分摊电费（公区）",20.79,null,null,"'已交空置","'0","'15306400000687",null,{"$f":"VLOOKUP(B:B,[1]Sheet1!$B:$B,1,0)","v":"林芬"}]
["'业主","张丽霞","6#","'06-01-1909","06-01-1909","2024-04-23","2024-04-23","2024-04-01","2024-04-30",5,"分摊电费（公区）",20.79,null,null,"'已入住","'0","'15306400000688",null,{"$f":"VLOOKUP(B:B,[1]Sheet1!$B:$B,1,0)","v":"张丽霞"}]
["'业主","何波峰","6#","'06-01-1910","06-01-1910","2024-04-23","2024-04-23","2024-04-01","2024-04-30",5,"分摊电费（公区）",20.79,null,null,"'已入住","'0","'15306400000689",null,{"$f":"VLOOKUP(B:B,[1]Sheet1!$B:$B,1,0)","v":"何波峰"}]
["'业主","孙林","6#","'06-01-1911","06-01-1911","2024-04-23","2024-04-23","2024-04-01","2024-04-30",5,"分摊电费（公区）",20.79,null,null,"'出租中","'0","'15306400000690",null,{"$f":"VLOOKUP(B:B,[1]Sheet1!$B:$B,1,0)","v":"孙林"}]
["'业主","姜文","6#","'06-01-1912","06-01-1912","2024-04-23","2024-04-23","2024-04-01","2024-04-30",5,"分摊电费（公区）",20.79,null,null,"'已交空置","'0","'15306400000691",null,{"$f":"VLOOKUP(B:B,[1]Sheet1!$B:$B,1,0)","v":"姜文"}]
["'业主","李冠东","6#","'06-01-2101","06-01-2101","2024-04-23","2024-04-23","2024-04-01","2024-04-30",5,"分摊电费（公区）",20.79,null,null,"'已交空置","'0","'15306400000693",null,{"$f":"VLOOKUP(B:B,[1]Sheet1!$B:$B,1,0)","v":"李冠东"}]
["'业主","黄锋","6#","'06-01-2102","06-01-2102","2024-04-23","2024-04-23","2024-04-01","2024-04-30",5,"分摊电费（公区）",20.79,null,null,"'已交空置","'0","'15306400000694",null,{"$f":"VLOOKUP(B:B,[1]Sheet1!$B:$B,1,0)","v":"黄锋"}]
["'业主","张艳","6#","'06-01-2103","06-01-2103","2024-04-23","2024-04-23","2024-04-01","2024-04-30",5,"分摊电费（公区）",20.79,null,null,"'已交空置","'0","'15306400000695",null,{"$f":"VLOOKUP(B:B,[1]Sheet1!$B:$B,1,0)","v":"张艳"}]
["'业主","王艳","6#","'06-01-2105","06-01-2105","2024-04-23","2024-04-23","2024-04-01","2024-04-30",5,"分摊电费（公区）",20.79,null,null,"'已入住","'0","'15306400000696",null,{"$f":"VLOOKUP(B:B,[1]Sheet1!$B:$B,1,0)","v":"王艳"}]
["'业主","张其颖栋","6#","'06-01-2106","06-01-2106","2024-04-23","2024-04-23","2024-04-01","2024-04-30",5,"分摊电费（公区）",20.79,null,null,"'已入住","'0","'15306400000697",null,{"$f":"VLOOKUP(B:B,[1]Sheet1!$B:$B,1,0)","v":"张其颖栋"}]
["'业主","陈春","6#","'06-01-2107","06-01-2107","2024-04-23","2024-04-23","2024-04-01","2024-04-30",5,"分摊电费（公区）",20.79,null,null,"'已入住","'0","'15306400000698",null,{"$f":"VLOOKUP(B:B,[1]Sheet1!$B:$B,1,0)","v":"陈春"}]
["'业主","谢威","6#","'06-01-2108","06-01-2108","2024-04-23","2024-04-23","2024-04-01","2024-04-30",5,"分摊电费（公区）",20.79,null,null,"'已交空置","'0","'15306400000699",null,{"$f":"VLOOKUP(B:B,[1]Sheet1!$B:$B,1,0)","v":"谢威"}]
["'业主","余利平","6#","'06-01-2109","06-01-2109","2024-04-23","2024-04-23","2024-04-01","2024-04-30",5,"分摊电费（公区）",20.79,null,null,"'已交空置","'0","'15306400000700",null,{"$f":"VLOOKUP(B:B,[1]Sheet1!$B:$B,1,0)","v":"余利平"}]
["'业主","林军英","6#","'06-01-2110","06-01-2110","2024-04-23","2024-04-23","2024-04-01","2024-04-30",5,"分摊电费（公区）",20.79,null,null,"'已交空置","'0","'15306400000701",null,{"$f":"VLOOKUP(B:B,[1]Sheet1!$B:$B,1,0)","v":"林军英"}]
["'业主","郑申鸿","6#","'06-01-2111","06-01-2111","2024-04-23","2024-04-23","2024-04-01","2024-04-30",5,"分摊电费（公区）",20.79,null,null,"'已交空置","'0","'15306400000702",null,{"$f":"VLOOKUP(B:B,[1]Sheet1!$B:$B,1,0)","v":"郑申鸿"}]
["'业主","郑前柳","6#","'06-01-2112","06-01-2112","2024-04-23","2024-04-23","2024-04-01","2024-04-30",5,"分摊电费（公区）",20.79,null,null,"'已入住","'0","'15306400000703",null,{"$f":"VLOOKUP(B:B,[1]Sheet1!$B:$B,1,0)","v":"郑前柳"}]
["'业主","黄为琰","6#","'06-01-2113","06-01-2113","2024-04-23","2024-04-23","2024-04-01","2024-04-30",5,"分摊电费（公区）",20.79,null,null,"'已交空置","'0","'15306400000704",null,{"$f":"VLOOKUP(B:B,[1]Sheet1!$B:$B,1,0)","v":"黄为琰"}]
["'业主","游险峰","6#","'06-01-2301","06-01-2301","2024-04-23","2024-04-23","2024-04-01","2024-04-30",5,"分摊电费（公区）",20.79,null,null,"'已交空置","'0","'15306400000705",null,{"$f":"VLOOKUP(B:B,[1]Sheet1!$B:$B,1,0)","v":"游险峰"}]
["'业主","林海云","6#","'06-01-2302","06-01-2302","2024-04-23","2024-04-23","2024-04-01","2024-04-30",5,"分摊电费（公区）",20.79,null,null,"'已交空置","'0","'15306400000706",null,{"$f":"VLOOKUP(B:B,[1]Sheet1!$B:$B,1,0)","v":"林海云"}]
["'业主","王宏亮","6#","'06-01-2303","06-01-2303","2024-04-23","2024-04-23","2024-04-01","2024-04-30",5,"分摊电费（公区）",20.79,null,null,"'已入住","'0","'15306400000707",null,{"$f":"VLOOKUP(B:B,[1]Sheet1!$B:$B,1,0)","v":"王宏亮"}]
["'业主","李思豪","6#","'06-01-2305","06-01-2305","2024-04-23","2024-04-23","2024-04-01","2024-04-30",5,"分摊电费（公区）",20.79,null,null,"'已交空置","'0","'15306400000708",null,{"$f":"VLOOKUP(B:B,[1]Sheet1!$B:$B,1,0)","v":"李思豪"}]
["'业主","陈年聪","6#","'06-01-2306","06-01-2306","2024-04-23","2024-04-23","2024-04-01","2024-04-30",5,"分摊电费（公区）",20.79,null,null,"'已交空置","'0","'15306400000709",null,{"$f":"VLOOKUP(B:B,[1]Sheet1!$B:$B,1,0)","v":"陈年聪"}]
["'业主","王芬","6#","'06-01-2307","06-01-2307","2024-04-23","2024-04-23","2024-04-01","2024-04-30",5,"分摊电费（公区）",20.79,null,null,"'已交空置","'0","'15306400000710",null,{"$f":"VLOOKUP(B:B,[1]Sheet1!$B:$B,1,0)","v":"王芬"}]
["'业主","王炜琳","6#","'06-01-2308","06-01-2308","2024-04-23","2024-04-23","2024-04-01","2024-04-30",5,"分摊电费（公区）",20.79,null,null,"'已入住","'0","'15306400000711",null,{"$f":"VLOOKUP(B:B,[1]Sheet1!$B:$B,1,0)","v":"王炜琳"}]
["'业主","宋雅婷","6#","'06-01-2309","06-01-2309","2024-04-23","2024-04-23","2024-04-01","2024-04-30",5,"分摊电费（公区）",20.79,null,null,"'已入住","'0","'15306400000712",null,{"$f":"VLOOKUP(B:B,[1]Sheet1!$B:$B,1,0)","v":"宋雅婷"}]
["'业主","黄萍","6#","'06-01-2310","06-01-2310","2024-04-23","2024-04-23","2024-04-01","2024-04-30",5,"分摊电费（公区）",20.79,null,null,"'已交空置","'0","'15306400000713",null,{"$f":"VLOOKUP(B:B,[1]Sheet1!$B:$B,1,0)","v":"黄萍"}]
["'业主","陈榕","6#","'06-01-2311","06-01-2311","2024-04-23","2024-04-23","2024-04-01","2024-04-30",5,"分摊电费（公区）",20.79,null,null,"'已入住","'0","'15306400000714",null,{"$f":"VLOOKUP(B:B,[1]Sheet1!$B:$B,1,0)","v":"陈榕"}]
["'业主","王鑫","6#","'06-01-2312","06-01-2312","2024-04-23","2024-04-23","2024-04-01","2024-04-30",5,"分摊电费（公区）",20.79,null,null,"'已入住","'0","'15306400000715",null,{"$f":"VLOOKUP(B:B,[1]Sheet1!$B:$B,1,0)","v":"王鑫"}]
["'业主","严丽娟","6#","'06-01-2313","06-01-2313","2024-04-23","2024-04-23","2024-04-01","2024-04-30",5,"分摊电费（公区）",20.79,null,null,"'已入住","'0","'15306400000716",null,{"$f":"VLOOKUP(B:B,[1]Sheet1!$B:$B,1,0)","v":"严丽娟"}]
["'业主","赵继军","6#","'06-01-0301","06-01-0301","2024-04-23","2024-04-23","2024-04-01","2024-04-30",5,"分摊电费（公区）",20.79,null,null,"'已交空置","'0","'15306400000585",null,{"$f":"VLOOKUP(B:B,[1]Sheet1!$B:$B,1,0)","v":"赵继军"}]
["'业主","张婉君","6#","'06-01-0302","06-01-0302","2024-04-23","2024-04-23","2024-04-01","2024-04-30",5,"分摊电费（公区）",20.79,null,null,"'已入住","'0","'15306400000586",null,{"$f":"VLOOKUP(B:B,[1]Sheet1!$B:$B,1,0)","v":"张婉君"}]
["'业主","黄年生","6#","'06-01-0303","06-01-0303","2024-04-23","2024-04-23","2024-04-01","2024-04-30",5,"分摊电费（公区）",20.79,null,null,"'已入住","'0","'15306400000587",null,{"$f":"VLOOKUP(B:B,[1]Sheet1!$B:$B,1,0)","v":"黄年生"}]
["'业主","刘爱琳","6#","'06-01-0305","06-01-0305","2024-04-23","2024-04-23","2024-04-01","2024-04-30",5,"分摊电费（公区）",20.79,null,null,"'已交空置","'0","'15306400000588",null,{"$f":"VLOOKUP(B:B,[1]Sheet1!$B:$B,1,0)","v":"刘爱琳"}]
["'业主","赖文钦","6#","'06-01-0306","06-01-0306","2024-04-23","2024-04-23","2024-04-01","2024-04-30",5,"分摊电费（公区）",20.79,null,null,"'已交空置","'0","'15306400000589",null,{"$f":"VLOOKUP(B:B,[1]Sheet1!$B:$B,1,0)","v":"赖文钦"}]
["'业主","邓波","6#","'06-01-0307","06-01-0307","2024-04-23","2024-04-23","2024-04-01","2024-04-30",5,"分摊电费（公区）",20.79,null,null,"'已入住","'0","'15306400000590",null,{"$f":"VLOOKUP(B:B,[1]Sheet1!$B:$B,1,0)","v":"邓波"}]
["'业主","魏晓非","6#","'06-01-0308","06-01-0308","2024-04-23","2024-04-23","2024-04-01","2024-04-30",5,"分摊电费（公区）",20.79,null,null,"'已交空置","'0","'15306400000591",null,{"$f":"VLOOKUP(B:B,[1]Sheet1!$B:$B,1,0)","v":"魏晓非"}]
["'业主","张衡","6#","'06-01-0309","06-01-0309","2024-04-23","2024-04-23","2024-04-01","2024-04-30",5,"分摊电费（公区）",20.79,null,null,"'已入住","'0","'15306400000592",null,{"$f":"VLOOKUP(B:B,[1]Sheet1!$B:$B,1,0)","v":"张衡"}]
["'业主","金桂林","6#","'06-01-0310","06-01-0310","2024-04-23","2024-04-23","2024-04-01","2024-04-30",5,"分摊电费（公区）",20.79,null,null,"'已入住","'0","'15306400000593",null,{"$f":"VLOOKUP(B:B,[1]Sheet1!$B:$B,1,0)","v":"金桂林"}]
["'业主","朱志武","6#","'06-01-0311","06-01-0311","2024-04-23","2024-04-23","2024-04-01","2024-04-30",5,"分摊电费（公区）",20.79,null,null,"'已入住","'0","'15306400000594",null,{"$f":"VLOOKUP(B:B,[1]Sheet1!$B:$B,1,0)","v":"朱志武"}]
["'业主","林燕霞","6#","'06-01-0312","06-01-0312","2024-04-23","2024-04-23","2024-04-01","2024-04-30",5,"分摊电费（公区）",20.79,null,null,"'已入住","'0","'15306400000595",null,{"$f":"VLOOKUP(B:B,[1]Sheet1!$B:$B,1,0)","v":"林燕霞"}]
["'业主","方宇锵","6#","'06-01-0313","06-01-0313","2024-04-23","2024-04-23","2024-04-01","2024-04-30",5,"分摊电费（公区）",20.79,null,null,"'已交空置","'0","'15306400000596",null,{"$f":"VLOOKUP(B:B,[1]Sheet1!$B:$B,1,0)","v":"方宇锵"}]
["'业主","艾荣凤妹","6#","'06-01-0501","06-01-0501","2024-04-23","2024-04-23","2024-04-01","2024-04-30",5,"分摊电费（公区）",20.79,null,null,"'已交空置","'0","'15306400000597",null,{"$f":"VLOOKUP(B:B,[1]Sheet1!$B:$B,1,0)","v":"艾荣凤妹"}]
["'业主","杨锋","6#","'06-01-0502","06-01-0502","2024-04-23","2024-04-23","2024-04-01","2024-04-30",5,"分摊电费（公区）",20.79,null,null,"'已入住","'0","'15306400000598",null,{"$f":"VLOOKUP(B:B,[1]Sheet1!$B:$B,1,0)","v":"杨锋"}]
["'业主","杨斌","6#","'06-01-0503","06-01-0503","2024-04-23","2024-04-23","2024-04-01","2024-04-30",5,"分摊电费（公区）",20.79,null,null,"'已入住","'0","'15306400000599",null,{"$f":"VLOOKUP(B:B,[1]Sheet1!$B:$B,1,0)","v":"杨斌"}]
["'业主","李英英","6#","'06-01-0505","06-01-0505","2024-04-23","2024-04-23","2024-04-01","2024-04-30",5,"分摊电费（公区）",20.79,null,null,"'已交空置","'0","'15306400000600",null,{"$f":"VLOOKUP(B:B,[1]Sheet1!$B:$B,1,0)","v":"李英英"}]
["'业主","余贵光","6#","'06-01-0506","06-01-0506","2024-04-23","2024-04-23","2024-04-01","2024-04-30",5,"分摊电费（公区）",20.79,null,null,"'已交空置","'0","'15306400000601",null,{"$f":"VLOOKUP(B:B,[1]Sheet1!$B:$B,1,0)","v":"余贵光"}]
["'业主","原志勇","6#","'06-01-0507","06-01-0507","2024-04-23","2024-04-23","2024-04-01","2024-04-30",5,"分摊电费（公区）",20.79,null,null,"'已交空置","'0","'15306400000602",null,{"$f":"VLOOKUP(B:B,[1]Sheet1!$B:$B,1,0)","v":"原志勇"}]
["'业主","林娟","6#","'06-01-0508","06-01-0508","2024-04-23","2024-04-23","2024-04-01","2024-04-30",5,"分摊电费（公区）",20.79,null,null,"'已入住","'0","'15306400000603",null,{"$f":"VLOOKUP(B:B,[1]Sheet1!$B:$B,1,0)","v":"林娟"}]
["'业主","张伟栋","6#","'06-01-0509","06-01-0509","2024-04-23","2024-04-23","2024-04-01","2024-04-30",5,"分摊电费（公区）",20.79,null,null,"'已入住","'0","'15306400000604",null,{"$f":"VLOOKUP(B:B,[1]Sheet1!$B:$B,1,0)","v":"张伟栋"}]
["'业主","林小隆","6#","'06-01-0510","06-01-0510","2024-04-23","2024-04-23","2024-04-01","2024-04-30",5,"分摊电费（公区）",20.79,null,null,"'已入住","'0","'15306400000605",null,{"$f":"VLOOKUP(B:B,[1]Sheet1!$B:$B,1,0)","v":"林小隆"}]
["'业主","陈芳","6#","'06-01-0511","06-01-0511","2024-04-23","2024-04-23","2024-04-01","2024-04-30",5,"分摊电费（公区）",20.79,null,null,"'已入住","'0","'15306400000606",null,{"$f":"VLOOKUP(B:B,[1]Sheet1!$B:$B,1,0)","v":"陈芳"}]
["'业主","林文海","6#","'06-01-0512","06-01-0512","2024-04-23","2024-04-23","2024-04-01","2024-04-30",5,"分摊电费（公区）",20.79,null,null,"'已交空置","'0","'15306400000607",null,{"$f":"VLOOKUP(B:B,[1]Sheet1!$B:$B,1,0)","v":"林文海"}]
["'业主","郑权","6#","'06-01-0513","06-01-0513","2024-04-23","2024-04-23","2024-04-01","2024-04-30",5,"分摊电费（公区）",20.79,null,null,"'已入住","'0","'15306400000608",null,{"$f":"VLOOKUP(B:B,[1]Sheet1!$B:$B,1,0)","v":"郑权"}]
["'业主","王余沛","6#","'06-01-0701","06-01-0701","2024-04-23","2024-04-23","2024-04-01","2024-04-30",5,"分摊电费（公区）",20.79,null,null,"'已交空置","'0","'15306400000609",null,{"$f":"VLOOKUP(B:B,[1]Sheet1!$B:$B,1,0)","v":"王余沛"}]
["'业主","潘晗","6#","'06-01-0702","06-01-0702","2024-04-23","2024-04-23","2024-04-01","2024-04-30",5,"分摊电费（公区）",20.79,null,null,"'已入住","'0","'15306400000610",null,{"$f":"VLOOKUP(B:B,[1]Sheet1!$B:$B,1,0)","v":"潘晗"}]
["'业主","谢磊","6#","'06-01-0703","06-01-0703","2024-04-23","2024-04-23","2024-04-01","2024-04-30",5,"分摊电费（公区）",20.79,null,null,"'已入住","'0","'15306400000611",null,{"$f":"VLOOKUP(B:B,[1]Sheet1!$B:$B,1,0)","v":"谢磊"}]
["'业主","陈木英","6#","'06-01-0705","06-01-0705","2024-04-23","2024-04-23","2024-04-01","2024-04-30",5,"分摊电费（公区）",20.79,null,null,"'已入住","'0","'15306400000612",null,{"$f":"VLOOKUP(B:B,[1]Sheet1!$B:$B,1,0)","v":"陈木英"}]
["'业主","张嘉明","6#","'06-01-0706","06-01-0706","2024-04-23","2024-04-23","2024-04-01","2024-04-30",5,"分摊电费（公区）",20.79,null,null,"'已入住","'0","'15306400000613",null,{"$f":"VLOOKUP(B:B,[1]Sheet1!$B:$B,1,0)","v":"张嘉明"}]
["'业主","刘梅","6#","'06-01-0707","06-01-0707","2024-04-23","2024-04-23","2024-04-01","2024-04-30",5,"分摊电费（公区）",20.79,null,null,"'已交空置","'0","'15306400000614",null,{"$f":"VLOOKUP(B:B,[1]Sheet1!$B:$B,1,0)","v":"刘梅"}]
["'业主","孙权","6#","'06-01-0708","06-01-0708","2024-04-23","2024-04-23","2024-04-01","2024-04-30",5,"分摊电费（公区）",20.79,null,null,"'已入住","'0","'15306400000615",null,{"$f":"VLOOKUP(B:B,[1]Sheet1!$B:$B,1,0)","v":"孙权"}]
["'业主","陈鑫","6#","'06-01-0709","06-01-0709","2024-04-23","2024-04-23","2024-04-01","2024-04-30",5,"分摊电费（公区）",20.79,null,null,"'已交空置","'0","'15306400000616",null,{"$f":"VLOOKUP(B:B,[1]Sheet1!$B:$B,1,0)","v":"陈鑫"}]
["'业主","胡张琳","6#","'06-01-0710","06-01-0710","2024-04-23","2024-04-23","2024-04-01","2024-04-30",5,"分摊电费（公区）",20.79,null,null,"'已入住","'0","'15306400000617",null,{"$f":"VLOOKUP(B:B,[1]Sheet1!$B:$B,1,0)","v":"胡张琳"}]
["'业主","林银英","6#","'06-01-0711","06-01-0711","2024-04-23","2024-04-23","2024-04-01","2024-04-30",5,"分摊电费（公区）",20.79,null,null,"'已入住","'0","'15306400000618",null,{"$f":"VLOOKUP(B:B,[1]Sheet1!$B:$B,1,0)","v":"林银英"}]
["'业主","张燕琴","6#","'06-01-0712","06-01-0712","2024-04-23","2024-04-23","2024-04-01","2024-04-30",5,"分摊电费（公区）",20.79,null,null,"'已交空置","'0","'15306400000619",null,{"$f":"VLOOKUP(B:B,[1]Sheet1!$B:$B,1,0)","v":"张燕琴"}]
["'业主","游帆","6#","'06-01-0713","06-01-0713","2024-04-23","2024-04-23","2024-04-01","2024-04-30",5,"分摊电费（公区）",20.79,null,null,"'已入住","'0","'15306400000620",null,{"$f":"VLOOKUP(B:B,[1]Sheet1!$B:$B,1,0)","v":"游帆"}]
["'业主","朱金秋","6#","'06-01-0901","06-01-0901","2024-04-23","2024-04-23","2024-04-01","2024-04-30",5,"分摊电费（公区）",20.79,null,null,"'已交空置","'0","'15306400000621",null,{"$f":"VLOOKUP(B:B,[1]Sheet1!$B:$B,1,0)","v":"朱金秋"}]
["'业主","郑丽楠","6#","'06-01-0902","06-01-0902","2024-04-23","2024-04-23","2024-04-01","2024-04-30",5,"分摊电费（公区）",20.79,null,null,"'已入住","'0","'15306400000622",null,{"$f":"VLOOKUP(B:B,[1]Sheet1!$B:$B,1,0)","v":"郑丽楠"}]
["'业主","李财","6#","'06-01-0903","06-01-0903","2024-04-23","2024-04-23","2024-04-01","2024-04-30",5,"分摊电费（公区）",20.79,null,null,"'已交空置","'0","'15306400000623",null,{"$f":"VLOOKUP(B:B,[1]Sheet1!$B:$B,1,0)","v":"李财"}]
["'业主","毛秀娟","6#","'06-01-0905","06-01-0905","2024-04-23","2024-04-23","2024-04-01","2024-04-30",5,"分摊电费（公区）",20.79,null,null,"'已入住","'0","'15306400000624",null,{"$f":"VLOOKUP(B:B,[1]Sheet1!$B:$B,1,0)","v":"毛秀娟"}]
["'业主","吴秀新","6#","'06-01-0906","06-01-0906","2024-04-23","2024-04-23","2024-04-01","2024-04-30",5,"分摊电费（公区）",20.79,null,null,"'已交空置","'0","'15306400000625",null,{"$f":"VLOOKUP(B:B,[1]Sheet1!$B:$B,1,0)","v":"吴秀新"}]
["'业主","马剑峰","6#","'06-01-0907","06-01-0907","2024-04-23","2024-04-23","2024-04-01","2024-04-30",5,"分摊电费（公区）",20.79,null,null,"'已交空置","'0","'15306400000626",null,{"$f":"VLOOKUP(B:B,[1]Sheet1!$B:$B,1,0)","v":"马剑峰"}]
["'业主","何艳芳","6#","'06-01-0908","06-01-0908","2024-04-23","2024-04-23","2024-04-01","2024-04-30",5,"分摊电费（公区）",20.79,null,null,"'已入住","'0","'15306400000627",null,{"$f":"VLOOKUP(B:B,[1]Sheet1!$B:$B,1,0)","v":"何艳芳"}]
["'业主","陶相露","6#","'06-01-0909","06-01-0909","2024-04-23","2024-04-23","2024-04-01","2024-04-30",5,"分摊电费（公区）",20.79,null,null,"'已入住","'0","'15306400000628",null,{"$f":"VLOOKUP(B:B,[1]Sheet1!$B:$B,1,0)","v":"陶相露"}]
["'业主","林东伟","6#","'06-01-0910","06-01-0910","2024-04-23","2024-04-23","2024-04-01","2024-04-30",5,"分摊电费（公区）",20.79,null,null,"'已入住","'0","'15306400000629",null,{"$f":"VLOOKUP(B:B,[1]Sheet1!$B:$B,1,0)","v":"林东伟"}]
["'业主","陈秀杰","6#","'06-01-0911","06-01-0911","2024-04-23","2024-04-23","2024-04-01","2024-04-30",5,"分摊电费（公区）",20.79,null,null,"'已入住","'0","'15306400000630",null,{"$f":"VLOOKUP(B:B,[1]Sheet1!$B:$B,1,0)","v":"陈秀杰"}]
["'业主","黄宇鸿","6#","'06-01-0912","06-01-0912","2024-04-23","2024-04-23","2024-04-01","2024-04-30",5,"分摊电费（公区）",20.79,null,null,"'已入住","'0","'15306400000631",null,{"$f":"VLOOKUP(B:B,[1]Sheet1!$B:$B,1,0)","v":"黄宇鸿"}]
["'业主","王惟佳","6#","'06-01-0913","06-01-0913","2024-04-23","2024-04-23","2024-04-01","2024-04-30",5,"分摊电费（公区）",20.79,null,null,"'已交空置","'0","'15306400000632",null,{"$f":"VLOOKUP(B:B,[1]Sheet1!$B:$B,1,0)","v":"王惟佳"}]
["'业主","郑巧玲","S01","'S01-7-01","S01-7-01","2024-04-23","2024-04-23","2024-04-01","2024-04-30",5,"分摊电费（公区）",20.79,null,null,"'出租中","'0","'15306400000717",null,{"$f":"VLOOKUP(B:B,[1]Sheet1!$B:$B,1,0)","v":"郑巧玲"}]
["'业主","陈本强","S01","'S01-7-02","S01-7-02","2024-04-23","2024-04-23","2024-04-01","2024-04-30",5,"分摊电费（公区）",20.79,null,null,"'出租中","'0","'15306400000718",null,{"$f":"VLOOKUP(B:B,[1]Sheet1!$B:$B,1,0)","v":"陈本强"}]
["'业主","福州观巷基督教堂","S01","'S01-7-03","S01-7-03","2024-04-23","2024-04-23","2024-04-01","2024-04-30",5,"分摊电费（公区）",20.79,null,null,"'出租中","'0","'15306400000719",null,{"$f":"VLOOKUP(B:B,[1]Sheet1!$B:$B,1,0)","v":"福州观巷基督教堂"}]
["'业主","方煊华","S01","'S01-9-01","S01-9-01","2024-04-23","2024-04-23","2024-04-01","2024-04-30",5,"分摊电费（公区）",20.79,null,null,"'出租中","'0","'15306400000720",null,{"$f":"VLOOKUP(B:B,[1]Sheet1!$B:$B,1,0)","v":"方煊华"}]
["'业主","陈秋英","S01","'S01-9-02","S01-9-02","2024-04-23","2024-04-23","2024-04-01","2024-04-30",5,"分摊电费（公区）",20.79,null,null,"'出租中","'0","'15306400000721",null,{"$f":"VLOOKUP(B:B,[1]Sheet1!$B:$B,1,0)","v":"陈秋英"}]
["'业主","杨坚","S01","'S01-9-03","S01-9-03","2024-04-23","2024-04-23","2024-04-01","2024-04-30",5,"分摊电费（公区）",20.79,null,null,"'出租中","'0","'15306400000722",null,{"$f":"VLOOKUP(B:B,[1]Sheet1!$B:$B,1,0)","v":"杨坚"}]
["'业主","杨新红","S01","'S01-9-05","S01-9-05","2024-04-23","2024-04-23","2024-04-01","2024-04-30",5,"分摊电费（公区）",20.79,null,null,"'出租中","'0","'15306400000723",null,{"$f":"VLOOKUP(B:B,[1]Sheet1!$B:$B,1,0)","v":"杨新红"}]
["'业主","陈晓钦","S01","'S01-9-06","S01-9-06","2024-04-23","2024-04-23","2024-04-01","2024-04-30",5,"分摊电费（公区）",20.79,null,null,"'出租中","'0","'15306400000724",null,{"$f":"VLOOKUP(B:B,[1]Sheet1!$B:$B,1,0)","v":"陈晓钦"}]
["'业主","徐芳亮","S01","'S01-9-07","S01-9-07","2024-04-23","2024-04-23","2024-04-01","2024-04-30",5,"分摊电费（公区）",20.79,null,null,"'出租中","'0","'15306400000725",null,{"$f":"VLOOKUP(B:B,[1]Sheet1!$B:$B,1,0)","v":"徐芳亮"}]
["'业主","蓝金萍","S01","'S01-9-09","S01-9-09","2024-04-23","2024-04-23","2024-04-01","2024-04-30",5,"分摊电费（公区）",20.79,null,null,"'出租中","'0","'15306400000726",null,{"$f":"VLOOKUP(B:B,[1]Sheet1!$B:$B,1,0)","v":"蓝金萍"}]
["'业主","林笔琰","S01","'S01-9-10","S01-9-10","2024-04-23","2024-04-23","2024-04-01","2024-04-30",5,"分摊电费（公区）",20.79,null,null,"'出租中","'0","'15306400000727",null,{"$f":"VLOOKUP(B:B,[1]Sheet1!$B:$B,1,0)","v":"林笔琰"}]
["'业主","缪腾","S01","'S01-9-11","S01-9-11","2024-04-23","2024-04-23","2024-04-01","2024-04-30",5,"分摊电费（公区）",20.79,null,null,"'出租中","'0","'15306400000728",null,{"$f":"VLOOKUP(B:B,[1]Sheet1!$B:$B,1,0)","v":"缪腾"}]
["'业主","缪宏烨","S01","'S01-9-12","S01-9-12","2024-04-23","2024-04-23","2024-04-01","2024-04-30",5,"分摊电费（公区）",20.79,null,null,"'出租中","'0","'15306400000729",null,{"$f":"VLOOKUP(B:B,[1]Sheet1!$B:$B,1,0)","v":"缪宏烨"}]
["'业主","林威","S01","'S01-9-13","S01-9-13","2024-04-23","2024-04-23","2024-04-01","2024-04-30",5,"分摊电费（公区）",20.79,null,null,"'出租中","'0","'15306400000730",null,{"$f":"VLOOKUP(B:B,[1]Sheet1!$B:$B,1,0)","v":"林威"}]
["'业主","黄孙清","S01","'S01-9-15","S01-9-15","2024-04-23","2024-04-23","2024-04-01","2024-04-30",5,"分摊电费（公区）",20.79,null,null,"'出租中","'0","'15306400000731",null,{"$f":"VLOOKUP(B:B,[1]Sheet1!$B:$B,1,0)","v":"黄孙清"}]
["'业主","中国移动通信集团有限公司福建分公司","S01","'S01-9-16","S01-9-16","2024-04-23","2024-04-23","2024-04-01","2024-04-30",5,"分摊电费（公区）",20.79,null,null,"'出租中","'0","'15306400000732",null,{"$f":"VLOOKUP(B:B,[1]Sheet1!$B:$B,1,0)","v":"中国移动通信集团有限公司福建分公司"}]
["'业主","高向武","S01","'S01-9-17","S01-9-17","2024-04-23","2024-04-23","2024-04-01","2024-04-30",5,"分摊电费（公区）",20.79,null,null,"'出租中","'0","'15306400000733",null,{"$f":"VLOOKUP(B:B,[1]Sheet1!$B:$B,1,0)","v":"高向武"}]
["'业主","房祥春","S01","'S01-9-08","S01-9-08","2024-04-23","2024-04-23","2024-04-01","2024-04-30",5,"分摊电费（公区）",20.79,null,null,"'出租中","'0","'15306400000756",null,{"$f":"VLOOKUP(B:B,[1]Sheet1!$B:$B,1,0)","v":"房祥春"}]